PDS_VERSION_ID = PDS3
/* FILE DATA ELEMENTS */
RECORD_TYPE = STREAM
/* POINTERS TO DATA OBJECTS */
^COMPRESSED_FILE = "HG803_0000_S13.JP2"
/* IDENTIFICATION DATA ELEMENTS */
DATA_SET_ID = "MEX-M-HRSC-5-REFDR-MAPPROJECTED-V3.0"
DATA_SET_NAME = "MARS EXPRESS HRSC MAP PROJECTED REFDR V3.0"
DETECTOR_ID = MEX_HRSC_S1
EVENT_TYPE = "MARS-REGIONAL-MAPPING-Fl-Gl-Pf"
INSTRUMENT_HOST_ID = MEX
INSTRUMENT_HOST_NAME = "MARS EXPRESS"
INSTRUMENT_ID = HRSC
INSTRUMENT_NAME = "HIGH RESOLUTION STEREO CAMERA"
MISSION_NAME = "MARS EXPRESS"
MISSION_PHASE_NAME = ME_Phase_36
PROCESSING_LEVEL_ID = 3
PRODUCT_CREATION_TIME = 2018-06-28T11:48:36.000Z
PRODUCT_ID = "HG803_0000_S13.JP2"
RELEASE_ID = 0138
REVISION_ID = 0000
/* QUALITY DATA ELEMENTS */
DATA_QUALITY_ID = 1
DATA_QUALITY_DESC = "Data calculated based on original SPICE kernels"
/* TIME DATA ELEMENTS */
SPACECRAFT_CLOCK_START_COUNT = "1/0439721049.07328"
SPACECRAFT_CLOCK_STOP_COUNT = "1/0439721215.07915"
START_TIME = 2017-04-08T08:45:22.058Z
STOP_TIME = 2017-04-08T08:47:01.155Z
/* ORBITAL DATA ELEMENTS */
ASCENDING_NODE_LONGITUDE = 258.32
MAXIMUM_RESOLUTION = 28.1
FOOTPRINT_POINT_LATITUDE = (-47.8088,-47.8034,-47.7956,-47.7889, -47.7817,-47.8426,-47.7094,-47.5762, -47.4423,-47.2425,-47.1088,-46.9758, -46.8424,-46.6426,-46.5076,-46.3752, -46.2387,-46.0381,-45.8384,-45.7052, -45.5747,-45.4412,-45.3097,-45.1772, -45.044,-44.912,-44.7839,-44.6542, -44.46,-44.2666,-44.1369,-43.9433, -43.7521,-43.5621,-43.4334,-43.3043, -43.1761,-42.9803,-42.8497,-42.6575, -42.5297,-42.3343,-42.1364,-41.9441, -41.8159,-41.6893,-41.4397,-41.3117, -41.2905,-41.2936,-41.2899,-41.2944, -41.302,-41.3056,-41.5007,-41.6311, -41.7594,-41.8832,-42.0083,-42.137, -42.3297,-42.4587,-42.5877,-42.7168, -42.847,-42.9755,-43.1062,-43.2354, -43.3626,-43.4921,-43.6231,-43.8207, -43.9532,-44.0822,-44.2759,-44.4695, -44.5986,-44.7921,-44.9211,-45.1194, -45.2528,-45.3863,-45.5197,-45.653, -45.7868,-45.9202,-46.0536,-46.187, -46.3192,-46.52,-46.6542,-46.7876, -46.9208,-47.055,-47.1886,-47.3888, -47.5223,-47.6521,-47.7865,-47.8088)
FOOTPRINT_POINT_LONGITUDE = (330.387,330.131,329.79,329.517,329.243 ,328.963,328.974,328.984,328.996, 329.012,329.022,329.033,329.043,329.058 ,329.069,329.078,329.09,329.105,329.119 ,329.128,329.136,329.146,329.154, 329.162,329.171,329.18,329.188,329.197, 329.209,329.222,329.23,329.242,329.253, 329.262,329.27,329.277,329.284,329.297, 329.305,329.315,329.321,329.333,329.345 ,329.355,329.361,329.366,329.376, 329.382,329.623,329.804,330.0,330.239, 330.569,330.934,330.932,330.93,330.928, 330.923,330.92,330.917,330.914,330.911, 330.909,330.907,330.905,330.902,330.9, 330.898,330.895,330.892,330.891,330.888 ,330.887,330.884,330.88,330.876,330.873 ,330.869,330.866,330.862,330.859, 330.856,330.852,330.849,330.846,330.843 ,330.84,330.836,330.832,330.828,330.825 ,330.821,330.817,330.814,330.811, 330.805,330.802,330.796,330.793, 330.387)
ORBIT_NUMBER = 16803
ORBITAL_ECCENTRICITY = 0.578
ORBITAL_INCLINATION = 86.96
ORBITAL_SEMIMAJOR_AXIS = 8820.02
PERIAPSIS_ALTITUDE = 329.61
PERIAPSIS_ARGUMENT_ANGLE = 322.78
PERIAPSIS_TIME = 2017-04-08T08:47:35.000Z
SPACECRAFT_ORIENTATION = (0.0,1.0,0.0)
^MEX_ORIENTATION_DESC = "MEX_ORIENTATION_DESC.TXT"
SPACECRAFT_POINTING_MODE = NADIR
^MEX_POINTING_DESC = "MEX_POINTING_DESC.TXT"
RIGHT_ASCENSION = -1e+32
DECLINATION = -1e+32
OFFSET_ANGLE = -1e+32
SPACECRAFT_SOLAR_DISTANCE = 2.27808e+08
TARGET_NAME = MARS
/* CAMERA DATA ELEMENTS */
DETECTOR_TEMPERATURE = 15.9237
FOCAL_PLANE_TEMPERATURE = 8.7872
INST_CMPRS_NAME = "DISCRETE COSINE TRANSFORMATION (DCT)"
INST_CMPRS_RATIO = 13.4464
INST_CMPRS_QUALITY = 0
INST_CMPRS_QUANTZ_TBL_ID = 0
INSTRUMENT_TEMPERATURE = 11.0301
LENS_TEMPERATURE = 9.195
MACROPIXEL_SIZE = 2
MISSING_FRAMES = 0
PIXEL_SUBSAMPLING_FLAG = N
SIGNAL_CHAIN_ID = 1
/* RADIOMETRIC DATA ELEMENTS */
BANDWIDTH = 180.0
CENTER_FILTER_WAVELENGTH = 677.0
RADIANCE_OFFSET = 4.61812
RADIANCE_SCALING_FACTOR = 0.00960954
REFLECTANCE_SCALING_FACTOR = 0.000260186
MEX:REFLECTANCE_OFFSET = 0.125039
/* IMAGE OBJECT DEFINITIONS */
OBJECT = IMAGE
  INTERCHANGE_FORMAT = BINARY
  LINES = 15657
  LINE_SAMPLES = 3412
  SAMPLE_TYPE = UNSIGNED_INTEGER
  SAMPLE_BITS = 8
  BANDS = 1
  BAND_STORAGE_TYPE = BAND_SEQUENTIAL
  MAXIMUM = 255
  MEAN = 135.549
  MINIMUM = 1
  STANDARD_DEVIATION = 29.7664
END_OBJECT = IMAGE
/* MAP OBJECT DEFINITIONS */
OBJECT = IMAGE_MAP_PROJECTION
  ^DATA_SET_MAP_PROJECTION_CATALOG= "DSMAP.CAT"
  A_AXIS_RADIUS = 3396.0
  B_AXIS_RADIUS = 3396.0
  C_AXIS_RADIUS = 3396.0
  CENTER_LATITUDE = 0.0
  CENTER_LONGITUDE = 330.0
  COORDINATE_SYSTEM_NAME = PLANETOGRAPHIC
  COORDINATE_SYSTEM_TYPE = "BODY-FIXED ROTATING"
  EASTERNMOST_LONGITUDE = 330.934
  FIRST_STANDARD_PARALLEL = "N/A"
  LINE_FIRST_PIXEL = 1
  LINE_LAST_PIXEL = 15657
  LINE_PROJECTION_OFFSET = -97867.25
  MAP_PROJECTION_ROTATION = 0.0
  MAP_PROJECTION_TYPE = SINUSOIDAL
  MAP_RESOLUTION = 2370.85521546667
  MAP_SCALE = 0.025
  MAXIMUM_LATITUDE = -41.2899
  MINIMUM_LATITUDE = -47.8426
  POSITIVE_LONGITUDE_DIRECTION = EAST
  REFERENCE_LATITUDE = "N/A"
  REFERENCE_LONGITUDE = "N/A"
  SAMPLE_FIRST_PIXEL = 1
  SAMPLE_LAST_PIXEL = 3412
  SAMPLE_PROJECTION_OFFSET = 1697.75
  SECOND_STANDARD_PARALLEL = "N/A"
  WESTERNMOST_LONGITUDE = 328.963
END_OBJECT = IMAGE_MAP_PROJECTION
/* The JPEG2000 image data file associated with this label. */
OBJECT = COMPRESSED_FILE
  FILE_NAME = "HG803_0000_S13.JP2"
  RECORD_TYPE = UNDEFINED
  FILE_RECORDS = UNK
  ENCODING_TYPE = "JP2"
  INTERCHANGE_FORMAT = BINARY
  UNCOMPRESSED_FILE_NAME = "HG803_0000_S13.IMG"
  REQUIRED_STORAGE_BYTES = "53445568"
  ^DESCRIPTION = "JP2INFO.TXT"
END_OBJECT = COMPRESSED_FILE
END
