PDS_VERSION_ID = PDS3
/* FILE DATA ELEMENTS */
RECORD_TYPE = STREAM
/* POINTERS TO DATA OBJECTS */
^COMPRESSED_FILE = "HG806_0000_BL3.JP2"
/* IDENTIFICATION DATA ELEMENTS */
DATA_SET_ID = "MEX-M-HRSC-5-REFDR-MAPPROJECTED-V3.0"
DATA_SET_NAME = "MARS EXPRESS HRSC MAP PROJECTED REFDR V3.0"
DETECTOR_ID = MEX_HRSC_BLUE
EVENT_TYPE = "MARS-REGIONAL-MAPPING-Te-Im-Eo"
INSTRUMENT_HOST_ID = MEX
INSTRUMENT_HOST_NAME = "MARS EXPRESS"
INSTRUMENT_ID = HRSC
INSTRUMENT_NAME = "HIGH RESOLUTION STEREO CAMERA"
MISSION_NAME = "MARS EXPRESS"
MISSION_PHASE_NAME = ME_Phase_36
PROCESSING_LEVEL_ID = 3
PRODUCT_CREATION_TIME = 2018-06-28T11:48:36.000Z
PRODUCT_ID = "HG806_0000_BL3.JP2"
RELEASE_ID = 0138
REVISION_ID = 0000
/* QUALITY DATA ELEMENTS */
DATA_QUALITY_ID = 1
DATA_QUALITY_DESC = "Data calculated based on original SPICE kernels"
/* TIME DATA ELEMENTS */
SPACECRAFT_CLOCK_START_COUNT = "1/0439796770.09049"
SPACECRAFT_CLOCK_STOP_COUNT = "1/0439797006.57715"
START_TIME = 2017-04-09T05:46:42.984Z
STOP_TIME = 2017-04-09T05:49:34.443Z
/* ORBITAL DATA ELEMENTS */
ASCENDING_NODE_LONGITUDE = 258.27
MAXIMUM_RESOLUTION = 52.3
FOOTPRINT_POINT_LATITUDE = (-37.2742,-37.2664,-37.2594,-37.0277, -36.8069,-36.5856,-36.3642,-36.1431, -35.9217,-35.5898,-35.3685,-35.147, -34.9255,-34.704,-34.4827,-34.2612, -33.929,-33.5969,-33.3757,-33.044, -32.8223,-32.4911,-32.27,-32.0477, -31.8258,-31.6048,-31.3836,-31.1625, -30.8307,-30.4991,-30.2778,-29.9469, -29.6077,-29.3796,-29.1515,-28.9236, -28.6958,-28.3542,-28.1253,-27.8977, -27.6702,-27.4428,-27.2156,-26.9898, -26.7625,-26.5354,-26.3086,-26.0818, -26.0449,-26.0458,-26.0465,-26.0473, -26.2745,-26.5017,-26.7295,-26.9569, -27.1844,-27.4121,-27.6399,-27.8681, -28.0955,-28.3234,-28.6654,-28.8935, -29.1218,-29.4643,-29.6928,-29.9194, -30.1404,-30.3615,-30.5827,-30.804, -31.0255,-31.2473,-31.4688,-31.6904, -31.9118,-32.1334,-32.4659,-32.7984, -33.0196,-33.2414,-33.4632,-33.6849, -33.9067,-34.1298,-34.351,-34.5727, -34.7945,-35.0162,-35.2374,-35.4591, -35.6809,-35.9028,-36.2356,-36.568, -36.7897,-37.0113,-37.233,-37.2742)
FOOTPRINT_POINT_LONGITUDE = (23.8217,23.2314,22.838,22.6471,22.6551 ,22.6619,22.6685,22.6753,22.6816,22.691 ,22.697,22.7027,22.708,22.7132,22.7187, 22.7236,22.7308,22.7377,22.7424,22.7495 ,22.753,22.7602,22.7641,22.7659,22.7681 ,22.7718,22.7749,22.7778,22.7817, 22.7856,22.7874,22.7916,22.7948,22.7968 ,22.7987,22.8004,22.8022,22.8046, 22.8038,22.8051,22.8062,22.8072,22.8084 ,22.8116,22.812,22.8125,22.8131,22.8136 ,23.1792,23.4316,23.7858,24.1694, 24.1679,24.1665,24.1643,24.1629,24.1615 ,24.1599,24.1582,24.1559,24.1552, 24.1538,24.1515,24.15,24.1482,24.1455, 24.1436,24.142,24.1405,24.1389,24.1373, 24.1353,24.1333,24.1307,24.1286,24.1265 ,24.1249,24.1227,24.1196,24.1164,24.115 ,24.1129,24.1105,24.1083,24.1059,24.101 ,24.0998,24.0977,24.0953,24.093,24.0919 ,24.0895,24.087,24.0841,24.0799,24.0764 ,24.0739,24.0713,24.0685,23.8217)
ORBIT_NUMBER = 16806
ORBITAL_ECCENTRICITY = 0.579
ORBITAL_INCLINATION = 86.94
ORBITAL_SEMIMAJOR_AXIS = 8824.3
PERIAPSIS_ALTITUDE = 329.71
PERIAPSIS_ARGUMENT_ANGLE = 322.26
PERIAPSIS_TIME = 2017-04-09T05:46:42.000Z
SPACECRAFT_ORIENTATION = (0.0,1.0,0.0)
^MEX_ORIENTATION_DESC = "MEX_ORIENTATION_DESC.TXT"
SPACECRAFT_POINTING_MODE = NADIR
^MEX_POINTING_DESC = "MEX_POINTING_DESC.TXT"
RIGHT_ASCENSION = -1e+32
DECLINATION = -1e+32
OFFSET_ANGLE = -1e+32
SPACECRAFT_SOLAR_DISTANCE = 2.27979e+08
TARGET_NAME = MARS
/* CAMERA DATA ELEMENTS */
DETECTOR_TEMPERATURE = 18.3705
FOCAL_PLANE_TEMPERATURE = 8.5833
INST_CMPRS_NAME = "DISCRETE COSINE TRANSFORMATION (DCT)"
INST_CMPRS_RATIO = 5.50555
INST_CMPRS_QUALITY = 0
INST_CMPRS_QUANTZ_TBL_ID = 0
INSTRUMENT_TEMPERATURE = 11.234
LENS_TEMPERATURE = 8.5833
MACROPIXEL_SIZE = 4
MISSING_FRAMES = 0
PIXEL_SUBSAMPLING_FLAG = N
SIGNAL_CHAIN_ID = 2
/* RADIOMETRIC DATA ELEMENTS */
BANDWIDTH = 76.0
CENTER_FILTER_WAVELENGTH = 444.0
RADIANCE_OFFSET = 0.544179
RADIANCE_SCALING_FACTOR = 0.00135329
REFLECTANCE_SCALING_FACTOR = 7.22663e-05
MEX:REFLECTANCE_OFFSET = 0.0290594
/* IMAGE OBJECT DEFINITIONS */
OBJECT = IMAGE
  INTERCHANGE_FORMAT = BINARY
  LINES = 13322
  LINE_SAMPLES = 1659
  SAMPLE_TYPE = UNSIGNED_INTEGER
  SAMPLE_BITS = 8
  BANDS = 1
  BAND_STORAGE_TYPE = BAND_SEQUENTIAL
  MAXIMUM = 255
  MEAN = 140.0
  MINIMUM = 1
  STANDARD_DEVIATION = 26.1325
END_OBJECT = IMAGE
/* MAP OBJECT DEFINITIONS */
OBJECT = IMAGE_MAP_PROJECTION
  ^DATA_SET_MAP_PROJECTION_CATALOG= "DSMAP.CAT"
  A_AXIS_RADIUS = 3396.0
  B_AXIS_RADIUS = 3396.0
  C_AXIS_RADIUS = 3396.0
  CENTER_LATITUDE = 0.0
  CENTER_LONGITUDE = 23.0
  COORDINATE_SYSTEM_NAME = PLANETOGRAPHIC
  COORDINATE_SYSTEM_TYPE = "BODY-FIXED ROTATING"
  EASTERNMOST_LONGITUDE = 24.1694
  FIRST_STANDARD_PARALLEL = "N/A"
  LINE_FIRST_PIXEL = 1
  LINE_LAST_PIXEL = 13322
  LINE_PROJECTION_OFFSET = -30867.875
  MAP_PROJECTION_ROTATION = 0.0
  MAP_PROJECTION_TYPE = SINUSOIDAL
  MAP_RESOLUTION = 1185.42760773333
  MAP_SCALE = 0.05
  MAXIMUM_LATITUDE = -26.0449
  MINIMUM_LATITUDE = -37.2742
  POSITIVE_LONGITUDE_DIRECTION = EAST
  REFERENCE_LATITUDE = "N/A"
  REFERENCE_LONGITUDE = "N/A"
  SAMPLE_FIRST_PIXEL = 1
  SAMPLE_LAST_PIXEL = 1659
  SAMPLE_PROJECTION_OFFSET = 377.375
  SECOND_STANDARD_PARALLEL = "N/A"
  WESTERNMOST_LONGITUDE = 22.6471
END_OBJECT = IMAGE_MAP_PROJECTION
/* The JPEG2000 image data file associated with this label. */
OBJECT = COMPRESSED_FILE
  FILE_NAME = "HG806_0000_BL3.JP2"
  RECORD_TYPE = UNDEFINED
  FILE_RECORDS = UNK
  ENCODING_TYPE = "JP2"
  INTERCHANGE_FORMAT = BINARY
  UNCOMPRESSED_FILE_NAME = "HG806_0000_BL3.IMG"
  REQUIRED_STORAGE_BYTES = "22121106"
  ^DESCRIPTION = "JP2INFO.TXT"
END_OBJECT = COMPRESSED_FILE
END
