PDS_VERSION_ID = PDS3
/* FILE DATA ELEMENTS */
RECORD_TYPE = STREAM
/* POINTERS TO DATA OBJECTS */
^COMPRESSED_FILE = "HG806_0000_RE3.JP2"
/* IDENTIFICATION DATA ELEMENTS */
DATA_SET_ID = "MEX-M-HRSC-5-REFDR-MAPPROJECTED-V3.0"
DATA_SET_NAME = "MARS EXPRESS HRSC MAP PROJECTED REFDR V3.0"
DETECTOR_ID = MEX_HRSC_RED
EVENT_TYPE = "MARS-REGIONAL-MAPPING-Te-Im-Eo"
INSTRUMENT_HOST_ID = MEX
INSTRUMENT_HOST_NAME = "MARS EXPRESS"
INSTRUMENT_ID = HRSC
INSTRUMENT_NAME = "HIGH RESOLUTION STEREO CAMERA"
MISSION_NAME = "MARS EXPRESS"
MISSION_PHASE_NAME = ME_Phase_36
PROCESSING_LEVEL_ID = 3
PRODUCT_CREATION_TIME = 2018-06-28T11:48:36.000Z
PRODUCT_ID = "HG806_0000_RE3.JP2"
RELEASE_ID = 0138
REVISION_ID = 0000
/* QUALITY DATA ELEMENTS */
DATA_QUALITY_ID = 1
DATA_QUALITY_DESC = "Data calculated based on original SPICE kernels"
/* TIME DATA ELEMENTS */
SPACECRAFT_CLOCK_START_COUNT = "1/0439796770.09049"
SPACECRAFT_CLOCK_STOP_COUNT = "1/0439797006.57715"
START_TIME = 2017-04-09T05:46:23.322Z
STOP_TIME = 2017-04-09T05:49:13.809Z
/* ORBITAL DATA ELEMENTS */
ASCENDING_NODE_LONGITUDE = 258.27
MAXIMUM_RESOLUTION = 54.5
FOOTPRINT_POINT_LATITUDE = (-37.3207,-37.3172,-37.3135,-37.3058, -37.2783,-37.0541,-36.8354,-36.6153, -36.3942,-36.174,-35.8429,-35.5119, -35.2909,-34.958,-34.7361,-34.5151, -34.293,-34.0709,-33.8488,-33.6267, -33.405,-33.185,-32.9614,-32.7391, -32.5198,-32.2976,-32.0708,-31.8453, -31.623,-31.4004,-31.0653,-30.8422, -30.5073,-30.2828,-29.9501,-29.7266, -29.3918,-29.1685,-28.9452,-28.7223, -28.4973,-28.2647,-27.9153,-27.6847, -27.454,-27.2239,-26.8843,-26.653, -26.4225,-26.0774,-26.0615,-26.0623, -26.0623,-26.0625,-26.0626,-26.0634, -26.2947,-26.5257,-26.7585,-26.9892, -27.2203,-27.4515,-27.6829,-28.0286, -28.2594,-28.4901,-28.7161,-29.0512, -29.275,-29.4985,-29.7222,-29.9452, -30.2794,-30.5021,-30.8374,-31.0609, -31.3975,-31.7327,-32.0668,-32.29, -32.5128,-32.8472,-33.1798,-33.4025, -33.625,-33.9602,-34.1865,-34.4067, -34.6286,-34.9616,-35.2913,-35.5128, -35.846,-36.069,-36.2898,-36.5101, -36.7307,-37.062,-37.283,-37.3207)
FOOTPRINT_POINT_LONGITUDE = (23.7034,23.4386,23.2137,22.83,22.632, 22.6379,22.6458,22.6531,22.6599,22.6669 ,22.6768,22.6865,22.6928,22.7012, 22.7067,22.7125,22.7177,22.7228,22.7278 ,22.7326,22.7375,22.7429,22.7469, 22.7511,22.7565,22.7606,22.7628,22.7653 ,22.7691,22.7726,22.7771,22.7801, 22.7843,22.7865,22.7911,22.7933,22.7967 ,22.7988,22.8007,22.8027,22.8045, 22.8055,22.8065,22.8079,22.8091,22.8105 ,22.8144,22.815,22.8158,22.817,23.1045, 23.292,23.5047,23.7806,23.956,24.1608, 24.1595,24.1583,24.1563,24.1552,24.1539 ,24.1525,24.1511,24.1494,24.1481, 24.1468,24.1454,24.1434,24.1418,24.1403 ,24.1387,24.1374,24.1354,24.1341, 24.1315,24.1297,24.1264,24.1236,24.1212 ,24.1193,24.1174,24.1146,24.1124, 24.1104,24.1084,24.1048,24.101,24.0998, 24.0978,24.0946,24.0928,24.0906,24.0869 ,24.0839,24.0819,24.0799,24.0778, 24.0742,24.0717,23.7034)
ORBIT_NUMBER = 16806
ORBITAL_ECCENTRICITY = 0.579
ORBITAL_INCLINATION = 86.94
ORBITAL_SEMIMAJOR_AXIS = 8824.3
PERIAPSIS_ALTITUDE = 329.71
PERIAPSIS_ARGUMENT_ANGLE = 322.26
PERIAPSIS_TIME = 2017-04-09T05:46:42.000Z
SPACECRAFT_ORIENTATION = (0.0,1.0,0.0)
^MEX_ORIENTATION_DESC = "MEX_ORIENTATION_DESC.TXT"
SPACECRAFT_POINTING_MODE = NADIR
^MEX_POINTING_DESC = "MEX_POINTING_DESC.TXT"
RIGHT_ASCENSION = -1e+32
DECLINATION = -1e+32
OFFSET_ANGLE = -1e+32
SPACECRAFT_SOLAR_DISTANCE = 2.27979e+08
TARGET_NAME = MARS
/* CAMERA DATA ELEMENTS */
DETECTOR_TEMPERATURE = 17.7588
FOCAL_PLANE_TEMPERATURE = 8.5833
INST_CMPRS_NAME = "DISCRETE COSINE TRANSFORMATION (DCT)"
INST_CMPRS_RATIO = 18.543
INST_CMPRS_QUALITY = 0
INST_CMPRS_QUANTZ_TBL_ID = 0
INSTRUMENT_TEMPERATURE = 11.234
LENS_TEMPERATURE = 8.5833
MACROPIXEL_SIZE = 4
MISSING_FRAMES = 0
PIXEL_SUBSAMPLING_FLAG = N
SIGNAL_CHAIN_ID = 2
/* RADIOMETRIC DATA ELEMENTS */
BANDWIDTH = 48.0
CENTER_FILTER_WAVELENGTH = 748.0
RADIANCE_OFFSET = 1.00438
RADIANCE_SCALING_FACTOR = 0.00287422
REFLECTANCE_SCALING_FACTOR = 0.000340905
MEX:REFLECTANCE_OFFSET = 0.119127
/* IMAGE OBJECT DEFINITIONS */
OBJECT = IMAGE
  INTERCHANGE_FORMAT = BINARY
  LINES = 13322
  LINE_SAMPLES = 1659
  SAMPLE_TYPE = UNSIGNED_INTEGER
  SAMPLE_BITS = 8
  BANDS = 1
  BAND_STORAGE_TYPE = BAND_SEQUENTIAL
  MAXIMUM = 255
  MEAN = 131.241
  MINIMUM = 1
  STANDARD_DEVIATION = 26.9896
END_OBJECT = IMAGE
/* MAP OBJECT DEFINITIONS */
OBJECT = IMAGE_MAP_PROJECTION
  ^DATA_SET_MAP_PROJECTION_CATALOG= "DSMAP.CAT"
  A_AXIS_RADIUS = 3396.0
  B_AXIS_RADIUS = 3396.0
  C_AXIS_RADIUS = 3396.0
  CENTER_LATITUDE = 0.0
  CENTER_LONGITUDE = 23.0
  COORDINATE_SYSTEM_NAME = PLANETOGRAPHIC
  COORDINATE_SYSTEM_TYPE = "BODY-FIXED ROTATING"
  EASTERNMOST_LONGITUDE = 24.1608
  FIRST_STANDARD_PARALLEL = "N/A"
  LINE_FIRST_PIXEL = 1
  LINE_LAST_PIXEL = 13322
  LINE_PROJECTION_OFFSET = -30867.875
  MAP_PROJECTION_ROTATION = 0.0
  MAP_PROJECTION_TYPE = SINUSOIDAL
  MAP_RESOLUTION = 1185.42760773333
  MAP_SCALE = 0.05
  MAXIMUM_LATITUDE = -26.0615
  MINIMUM_LATITUDE = -37.3207
  POSITIVE_LONGITUDE_DIRECTION = EAST
  REFERENCE_LATITUDE = "N/A"
  REFERENCE_LONGITUDE = "N/A"
  SAMPLE_FIRST_PIXEL = 1
  SAMPLE_LAST_PIXEL = 1659
  SAMPLE_PROJECTION_OFFSET = 377.375
  SECOND_STANDARD_PARALLEL = "N/A"
  WESTERNMOST_LONGITUDE = 22.632
END_OBJECT = IMAGE_MAP_PROJECTION
/* The JPEG2000 image data file associated with this label. */
OBJECT = COMPRESSED_FILE
  FILE_NAME = "HG806_0000_RE3.JP2"
  RECORD_TYPE = UNDEFINED
  FILE_RECORDS = UNK
  ENCODING_TYPE = "JP2"
  INTERCHANGE_FORMAT = BINARY
  UNCOMPRESSED_FILE_NAME = "HG806_0000_RE3.IMG"
  REQUIRED_STORAGE_BYTES = "22121106"
  ^DESCRIPTION = "JP2INFO.TXT"
END_OBJECT = COMPRESSED_FILE
END
