PDS_VERSION_ID = PDS3
/* FILE DATA ELEMENTS */
RECORD_TYPE = STREAM
/* POINTERS TO DATA OBJECTS */
^COMPRESSED_FILE = "HG806_0000_S13.JP2"
/* IDENTIFICATION DATA ELEMENTS */
DATA_SET_ID = "MEX-M-HRSC-5-REFDR-MAPPROJECTED-V3.0"
DATA_SET_NAME = "MARS EXPRESS HRSC MAP PROJECTED REFDR V3.0"
DETECTOR_ID = MEX_HRSC_S1
EVENT_TYPE = "MARS-REGIONAL-MAPPING-Te-Im-Eo"
INSTRUMENT_HOST_ID = MEX
INSTRUMENT_HOST_NAME = "MARS EXPRESS"
INSTRUMENT_ID = HRSC
INSTRUMENT_NAME = "HIGH RESOLUTION STEREO CAMERA"
MISSION_NAME = "MARS EXPRESS"
MISSION_PHASE_NAME = ME_Phase_36
PROCESSING_LEVEL_ID = 3
PRODUCT_CREATION_TIME = 2018-06-28T11:48:36.000Z
PRODUCT_ID = "HG806_0000_S13.JP2"
RELEASE_ID = 0138
REVISION_ID = 0000
/* QUALITY DATA ELEMENTS */
DATA_QUALITY_ID = 1
DATA_QUALITY_DESC = "Data calculated based on original SPICE kernels"
/* TIME DATA ELEMENTS */
SPACECRAFT_CLOCK_START_COUNT = "1/0439796770.09049"
SPACECRAFT_CLOCK_STOP_COUNT = "1/0439797006.57715"
START_TIME = 2017-04-09T05:47:17.345Z
STOP_TIME = 2017-04-09T05:50:12.972Z
/* ORBITAL DATA ELEMENTS */
ASCENDING_NODE_LONGITUDE = 258.27
MAXIMUM_RESOLUTION = 27.9
FOOTPRINT_POINT_LATITUDE = (-37.2182,-37.2158,-37.2118,-37.2088, -37.2062,-37.2281,-37.0077,-36.7806, -36.5566,-36.3327,-36.1079,-35.7718, -35.5477,-35.2125,-34.9901,-34.6556, -34.433,-34.2109,-33.9888,-33.7669, -33.5447,-33.3219,-33.099,-32.8794, -32.6559,-32.3225,-32.1072,-31.8809, -31.653,-31.4254,-31.1988,-30.8595, -30.6334,-30.296,-30.0689,-29.7295, -29.5043,-29.2795,-28.9423,-28.6054, -28.3808,-28.1629,-27.9394,-27.6043, -27.2691,-27.0388,-26.7063,-26.3729, -26.151,-26.0197,-26.0206,-26.0224, -26.023,-26.0235,-26.0234,-26.1342, -26.3557,-26.6875,-27.0213,-27.3557, -27.5785,-27.9125,-28.2509,-28.4752, -28.7,-28.9251,-29.2625,-29.4882, -29.7134,-29.9396,-30.1668,-30.3931, -30.6204,-30.8473,-31.0732,-31.2991, -31.5261,-31.7532,-31.9822,-32.2083, -32.5395,-32.7606,-32.9831,-33.206, -33.4273,-33.6493,-33.8712,-34.1988, -34.5356,-34.7584,-34.9816,-35.209, -35.5445,-35.7681,-35.9898,-36.214, -36.5524,-36.8899,-37.2269,-37.2182)
FOOTPRINT_POINT_LONGITUDE = (23.763,23.5564,23.2396,23.0194,22.8403 ,22.6323,22.6374,22.6452,22.6515, 22.6577,22.6641,22.6731,22.679,22.6872, 22.6921,22.6997,22.7045,22.7089,22.7133 ,22.7176,22.7218,22.7262,22.7306, 22.7336,22.738,22.7439,22.7445,22.7471, 22.7502,22.7531,22.7556,22.7589,22.7611 ,22.7636,22.766,22.769,22.7706,22.7719, 22.7739,22.7757,22.7769,22.7756,22.7763 ,22.7772,22.7781,22.781,22.7809,22.781, 22.7809,22.959,23.2336,23.4255,23.5904, 23.7967,23.9891,24.1992,24.1971,24.1937 ,24.1908,24.1878,24.1857,24.1821, 24.1799,24.1778,24.1758,24.1737,24.1704 ,24.1683,24.1659,24.1638,24.1619, 24.1596,24.1575,24.1552,24.1524,24.1495 ,24.1469,24.1442,24.1421,24.1395, 24.1356,24.133,24.1309,24.1287,24.1259, 24.1233,24.1205,24.1142,24.111,24.1081, 24.1053,24.1039,24.0996,24.0965,24.0927 ,24.0897,24.0858,24.0813,24.0764, 23.763)
ORBIT_NUMBER = 16806
ORBITAL_ECCENTRICITY = 0.579
ORBITAL_INCLINATION = 86.94
ORBITAL_SEMIMAJOR_AXIS = 8824.3
PERIAPSIS_ALTITUDE = 329.71
PERIAPSIS_ARGUMENT_ANGLE = 322.26
PERIAPSIS_TIME = 2017-04-09T05:46:42.000Z
SPACECRAFT_ORIENTATION = (0.0,1.0,0.0)
^MEX_ORIENTATION_DESC = "MEX_ORIENTATION_DESC.TXT"
SPACECRAFT_POINTING_MODE = NADIR
^MEX_POINTING_DESC = "MEX_POINTING_DESC.TXT"
RIGHT_ASCENSION = -1e+32
DECLINATION = -1e+32
OFFSET_ANGLE = -1e+32
SPACECRAFT_SOLAR_DISTANCE = 2.27979e+08
TARGET_NAME = MARS
/* CAMERA DATA ELEMENTS */
DETECTOR_TEMPERATURE = 17.9627
FOCAL_PLANE_TEMPERATURE = 8.5833
INST_CMPRS_NAME = "DISCRETE COSINE TRANSFORMATION (DCT)"
INST_CMPRS_RATIO = 10.9594
INST_CMPRS_QUALITY = 0
INST_CMPRS_QUANTZ_TBL_ID = 0
INSTRUMENT_TEMPERATURE = 11.234
LENS_TEMPERATURE = 8.5833
MACROPIXEL_SIZE = 2
MISSING_FRAMES = 0
PIXEL_SUBSAMPLING_FLAG = N
SIGNAL_CHAIN_ID = 1
/* RADIOMETRIC DATA ELEMENTS */
BANDWIDTH = 180.0
CENTER_FILTER_WAVELENGTH = 677.0
RADIANCE_OFFSET = 4.09976
RADIANCE_SCALING_FACTOR = 0.0105335
REFLECTANCE_SCALING_FACTOR = 0.00028563
MEX:REFLECTANCE_OFFSET = 0.11117
/* IMAGE OBJECT DEFINITIONS */
OBJECT = IMAGE
  INTERCHANGE_FORMAT = BINARY
  LINES = 26643
  LINE_SAMPLES = 3318
  SAMPLE_TYPE = UNSIGNED_INTEGER
  SAMPLE_BITS = 8
  BANDS = 1
  BAND_STORAGE_TYPE = BAND_SEQUENTIAL
  MAXIMUM = 255
  MEAN = 139.307
  MINIMUM = 1
  STANDARD_DEVIATION = 25.8985
END_OBJECT = IMAGE
/* MAP OBJECT DEFINITIONS */
OBJECT = IMAGE_MAP_PROJECTION
  ^DATA_SET_MAP_PROJECTION_CATALOG= "DSMAP.CAT"
  A_AXIS_RADIUS = 3396.0
  B_AXIS_RADIUS = 3396.0
  C_AXIS_RADIUS = 3396.0
  CENTER_LATITUDE = 0.0
  CENTER_LONGITUDE = 23.0
  COORDINATE_SYSTEM_NAME = PLANETOGRAPHIC
  COORDINATE_SYSTEM_TYPE = "BODY-FIXED ROTATING"
  EASTERNMOST_LONGITUDE = 24.1992
  FIRST_STANDARD_PARALLEL = "N/A"
  LINE_FIRST_PIXEL = 1
  LINE_LAST_PIXEL = 26643
  LINE_PROJECTION_OFFSET = -61735.25
  MAP_PROJECTION_ROTATION = 0.0
  MAP_PROJECTION_TYPE = SINUSOIDAL
  MAP_RESOLUTION = 2370.85521546667
  MAP_SCALE = 0.025
  MAXIMUM_LATITUDE = -26.0197
  MINIMUM_LATITUDE = -37.2281
  POSITIVE_LONGITUDE_DIRECTION = EAST
  REFERENCE_LATITUDE = "N/A"
  REFERENCE_LONGITUDE = "N/A"
  SAMPLE_FIRST_PIXEL = 1
  SAMPLE_LAST_PIXEL = 3318
  SAMPLE_PROJECTION_OFFSET = 755.25
  SECOND_STANDARD_PARALLEL = "N/A"
  WESTERNMOST_LONGITUDE = 22.6323
END_OBJECT = IMAGE_MAP_PROJECTION
/* The JPEG2000 image data file associated with this label. */
OBJECT = COMPRESSED_FILE
  FILE_NAME = "HG806_0000_S13.JP2"
  RECORD_TYPE = UNDEFINED
  FILE_RECORDS = UNK
  ENCODING_TYPE = "JP2"
  INTERCHANGE_FORMAT = BINARY
  UNCOMPRESSED_FILE_NAME = "HG806_0000_S13.IMG"
  REQUIRED_STORAGE_BYTES = "88424700"
  ^DESCRIPTION = "JP2INFO.TXT"
END_OBJECT = COMPRESSED_FILE
END
