PDS_VERSION_ID = PDS3
/* FILE DATA ELEMENTS */
RECORD_TYPE = STREAM
/* POINTERS TO DATA OBJECTS */
^COMPRESSED_FILE = "HG809_0000_S13.JP2"
/* IDENTIFICATION DATA ELEMENTS */
DATA_SET_ID = "MEX-M-HRSC-5-REFDR-MAPPROJECTED-V3.0"
DATA_SET_NAME = "MARS EXPRESS HRSC MAP PROJECTED REFDR V3.0"
DETECTOR_ID = MEX_HRSC_S1
EVENT_TYPE = "MARS-REGIONAL-MAPPING-Im-Gl-La"
INSTRUMENT_HOST_ID = MEX
INSTRUMENT_HOST_NAME = "MARS EXPRESS"
INSTRUMENT_ID = HRSC
INSTRUMENT_NAME = "HIGH RESOLUTION STEREO CAMERA"
MISSION_NAME = "MARS EXPRESS"
MISSION_PHASE_NAME = ME_Phase_36
PROCESSING_LEVEL_ID = 3
PRODUCT_CREATION_TIME = 2018-06-28T11:48:36.000Z
PRODUCT_ID = "HG809_0000_S13.JP2"
RELEASE_ID = 0138
REVISION_ID = 0000
/* QUALITY DATA ELEMENTS */
DATA_QUALITY_ID = 1
DATA_QUALITY_DESC = "Data calculated based on original SPICE kernels"
/* TIME DATA ELEMENTS */
SPACECRAFT_CLOCK_START_COUNT = "1/0439872361.07341"
SPACECRAFT_CLOCK_STOP_COUNT = "1/0439872573.38931"
START_TIME = 2017-04-10T02:47:08.715Z
STOP_TIME = 2017-04-10T02:49:39.698Z
/* ORBITAL DATA ELEMENTS */
ASCENDING_NODE_LONGITUDE = 258.21
MAXIMUM_RESOLUTION = 28.8
FOOTPRINT_POINT_LATITUDE = (-34.8553,-34.846,-34.8365,-34.8269, -34.8173,-34.8789,-34.6918,-34.4111, -34.1275,-33.941,-33.7541,-33.5671, -33.3812,-33.1879,-32.8947,-32.6068, -32.4126,-32.2199,-32.0285,-31.8359, -31.6437,-31.4504,-31.2598,-31.0677, -30.7801,-30.5886,-30.3968,-30.2059, -29.9215,-29.7317,-29.4471,-29.257, -28.9739,-28.7853,-28.5959,-28.4142, -28.2271,-28.0313,-27.7517,-27.4705, -27.283,-27.0962,-26.909,-26.6281, -26.4403,-26.249,-26.0639,-25.8599, -25.6353,-25.2789,-25.2841,-25.2927, -25.3103,-25.3192,-25.3258,-25.5468, -25.8784,-26.0888,-26.2781,-26.5619, -26.8437,-27.1248,-27.3127,-27.4964, -27.6837,-27.8638,-28.0593,-28.2459, -28.5265,-28.7149,-28.9062,-29.0954, -29.3793,-29.6626,-29.8573,-30.0484, -30.2345,-30.4259,-30.6193,-30.8102, -31.0019,-31.1938,-31.3874,-31.579, -31.7714,-32.0601,-32.3494,-32.6378, -32.8299,-33.0239,-33.2171,-33.4111, -33.5993,-33.788,-34.0721,-34.3526, -34.5429,-34.7295,-34.9173,-34.8553)
FOOTPRINT_POINT_LONGITUDE = (77.9194,77.6948,77.4725,77.2526, 77.0349,76.715,76.7168,76.7192,76.7215, 76.7228,76.7241,76.7252,76.7264,76.7273 ,76.7283,76.7295,76.7299,76.7304, 76.7309,76.7313,76.7315,76.7316,76.7318 ,76.7318,76.7316,76.7314,76.7311, 76.7307,76.7302,76.7297,76.7288,76.7281 ,76.7269,76.7261,76.7251,76.7246, 76.7236,76.7219,76.7202,76.7182,76.7168 ,76.7153,76.7137,76.7112,76.7094, 76.7073,76.7055,76.7034,76.7009,76.8073 ,77.0578,77.3945,77.7542,77.9723, 78.1671,78.1671,78.1666,78.1677,78.1702 ,78.1735,78.1751,78.1757,78.1764, 78.1738,78.1737,78.1679,78.1738,78.1727 ,78.1714,78.1715,78.1736,78.1739, 78.1742,78.1737,78.1778,78.179,78.176, 78.1772,78.1798,78.1802,78.1812,78.1823 ,78.1845,78.185,78.1861,78.1875,78.1891 ,78.1897,78.1898,78.1914,78.1921, 78.1934,78.1945,78.1964,78.1998,78.1999 ,78.1999,78.1994,78.1998,77.9194)
ORBIT_NUMBER = 16809
ORBITAL_ECCENTRICITY = 0.579
ORBITAL_INCLINATION = 86.96
ORBITAL_SEMIMAJOR_AXIS = 8823.81
PERIAPSIS_ALTITUDE = 328.56
PERIAPSIS_ARGUMENT_ANGLE = 321.74
PERIAPSIS_TIME = 2017-04-10T02:45:49.000Z
SPACECRAFT_ORIENTATION = (0.0,1.0,0.0)
^MEX_ORIENTATION_DESC = "MEX_ORIENTATION_DESC.TXT"
SPACECRAFT_POINTING_MODE = ACROSSTRACK
^MEX_POINTING_DESC = "MEX_POINTING_DESC.TXT"
RIGHT_ASCENSION = -1e+32
DECLINATION = -1e+32
OFFSET_ANGLE = -0.73
SPACECRAFT_SOLAR_DISTANCE = 2.28149e+08
TARGET_NAME = MARS
/* CAMERA DATA ELEMENTS */
DETECTOR_TEMPERATURE = 17.9627
FOCAL_PLANE_TEMPERATURE = 8.7872
INST_CMPRS_NAME = "DISCRETE COSINE TRANSFORMATION (DCT)"
INST_CMPRS_RATIO = 10.1282
INST_CMPRS_QUALITY = 0
INST_CMPRS_QUANTZ_TBL_ID = 0
INSTRUMENT_TEMPERATURE = 11.6418
LENS_TEMPERATURE = 8.9911
MACROPIXEL_SIZE = 2
MISSING_FRAMES = 1
PIXEL_SUBSAMPLING_FLAG = N
SIGNAL_CHAIN_ID = 1
/* RADIOMETRIC DATA ELEMENTS */
BANDWIDTH = 180.0
CENTER_FILTER_WAVELENGTH = 677.0
RADIANCE_OFFSET = 4.80662
RADIANCE_SCALING_FACTOR = 0.0109031
REFLECTANCE_SCALING_FACTOR = 0.000296094
MEX:REFLECTANCE_OFFSET = 0.130532
/* IMAGE OBJECT DEFINITIONS */
OBJECT = IMAGE
  INTERCHANGE_FORMAT = BINARY
  LINES = 22728
  LINE_SAMPLES = 3194
  SAMPLE_TYPE = UNSIGNED_INTEGER
  SAMPLE_BITS = 8
  BANDS = 1
  BAND_STORAGE_TYPE = BAND_SEQUENTIAL
  MAXIMUM = 255
  MEAN = 114.396
  MINIMUM = 1
  STANDARD_DEVIATION = 22.5542
END_OBJECT = IMAGE
/* MAP OBJECT DEFINITIONS */
OBJECT = IMAGE_MAP_PROJECTION
  ^DATA_SET_MAP_PROJECTION_CATALOG= "DSMAP.CAT"
  A_AXIS_RADIUS = 3396.0
  B_AXIS_RADIUS = 3396.0
  C_AXIS_RADIUS = 3396.0
  CENTER_LATITUDE = 0.0
  CENTER_LONGITUDE = 77.0
  COORDINATE_SYSTEM_NAME = PLANETOGRAPHIC
  COORDINATE_SYSTEM_TYPE = "BODY-FIXED ROTATING"
  EASTERNMOST_LONGITUDE = 78.1999
  FIRST_STANDARD_PARALLEL = "N/A"
  LINE_FIRST_PIXEL = 1
  LINE_LAST_PIXEL = 22728
  LINE_PROJECTION_OFFSET = -59980.75
  MAP_PROJECTION_ROTATION = 0.0
  MAP_PROJECTION_TYPE = SINUSOIDAL
  MAP_RESOLUTION = 2370.85521546667
  MAP_SCALE = 0.025
  MAXIMUM_LATITUDE = -25.2789
  MINIMUM_LATITUDE = -34.9173
  POSITIVE_LONGITUDE_DIRECTION = EAST
  REFERENCE_LATITUDE = "N/A"
  REFERENCE_LONGITUDE = "N/A"
  SAMPLE_FIRST_PIXEL = 1
  SAMPLE_LAST_PIXEL = 3194
  SAMPLE_PROJECTION_OFFSET = 611.75
  SECOND_STANDARD_PARALLEL = "N/A"
  WESTERNMOST_LONGITUDE = 76.7009
END_OBJECT = IMAGE_MAP_PROJECTION
/* The JPEG2000 image data file associated with this label. */
OBJECT = COMPRESSED_FILE
  FILE_NAME = "HG809_0000_S13.JP2"
  RECORD_TYPE = UNDEFINED
  FILE_RECORDS = UNK
  ENCODING_TYPE = "JP2"
  INTERCHANGE_FORMAT = BINARY
  UNCOMPRESSED_FILE_NAME = "HG809_0000_S13.IMG"
  REQUIRED_STORAGE_BYTES = "72615590"
  ^DESCRIPTION = "JP2INFO.TXT"
END_OBJECT = COMPRESSED_FILE
END
