PDS_VERSION_ID = PDS3
/* FILE DATA ELEMENTS */
RECORD_TYPE = STREAM
/* POINTERS TO DATA OBJECTS */
^COMPRESSED_FILE = "HG816_0000_P23.JP2"
/* IDENTIFICATION DATA ELEMENTS */
DATA_SET_ID = "MEX-M-HRSC-5-REFDR-MAPPROJECTED-V3.0"
DATA_SET_NAME = "MARS EXPRESS HRSC MAP PROJECTED REFDR V3.0"
DETECTOR_ID = MEX_HRSC_P2
EVENT_TYPE = "MARS-REGIONAL-MAPPING-Im-Gl-La"
INSTRUMENT_HOST_ID = MEX
INSTRUMENT_HOST_NAME = "MARS EXPRESS"
INSTRUMENT_ID = HRSC
INSTRUMENT_NAME = "HIGH RESOLUTION STEREO CAMERA"
MISSION_NAME = "MARS EXPRESS"
MISSION_PHASE_NAME = ME_Phase_36
PROCESSING_LEVEL_ID = 3
PRODUCT_CREATION_TIME = 2018-06-28T11:48:36.000Z
PRODUCT_ID = "HG816_0000_P23.JP2"
RELEASE_ID = 0138
REVISION_ID = 0000
/* QUALITY DATA ELEMENTS */
DATA_QUALITY_ID = 1
DATA_QUALITY_DESC = "Data calculated based on original SPICE kernels"
/* TIME DATA ELEMENTS */
SPACECRAFT_CLOCK_START_COUNT = "1/0440048546.09046"
SPACECRAFT_CLOCK_STOP_COUNT = "1/0440048694.58275"
START_TIME = 2017-04-12T03:42:44.851Z
STOP_TIME = 2017-04-12T03:44:12.095Z
/* ORBITAL DATA ELEMENTS */
ASCENDING_NODE_LONGITUDE = 258.08
MAXIMUM_RESOLUTION = 27.5
FOOTPRINT_POINT_LATITUDE = (-42.1501,-42.1544,-42.1565,-42.158, -42.1588,-42.159,-42.1585,-42.0394, -41.8698,-41.7569,-41.5873,-41.4176, -41.3043,-41.1909,-41.0215,-40.9082, -40.7944,-40.6812,-40.512,-40.3982, -40.2843,-40.1707,-40.0004,-39.83, -39.716,-39.602,-39.4883,-39.3179, -39.1474,-39.0334,-38.8623,-38.7482, -38.5774,-38.4067,-38.2358,-38.1218, -38.0076,-37.894,-37.7797,-37.6079, -37.4934,-37.3224,-37.1512,-37.037, -36.9226,-36.8084,-36.6372,-36.4658, -36.3948,-36.3934,-36.3915,-36.3896, -36.3859,-36.3837,-36.3809,-36.495, -36.665,-36.7781,-36.8922,-37.0071, -37.1216,-37.2367,-37.3511,-37.466, -37.6374,-37.7514,-37.8644,-37.9792, -38.0955,-38.2103,-38.3248,-38.438, -38.6081,-38.7224,-38.8362,-39.0067, -39.121,-39.2351,-39.3489,-39.4631, -39.5772,-39.6912,-39.862,-39.9757, -40.0894,-40.2033,-40.3738,-40.4871, -40.6005,-40.7141,-40.8279,-40.9415, -41.0551,-41.2252,-41.3954,-41.509, -41.6791,-41.7926,-41.9629,-42.1501)
FOOTPRINT_POINT_LONGITUDE = (81.7388,81.387,81.1447,80.9041,80.6655 ,80.4285,80.1929,80.1919,80.1984, 80.2028,80.2092,80.2154,80.2195,80.2236 ,80.2296,80.2335,80.2374,80.2413, 80.2469,80.2507,80.2543,80.258,80.2633, 80.2686,80.272,80.2754,80.2787,80.2837, 80.2885,80.2916,80.2963,80.2994,80.3039 ,80.3082,80.3125,80.3153,80.3181, 80.3208,80.3235,80.3275,80.33,80.3338, 80.3375,80.3399,80.3423,80.3446,80.348, 80.3513,80.5481,80.7312,80.9575,81.1284 ,81.4009,81.5452,81.6904,81.8249, 81.8266,81.8279,81.8281,81.8274,81.8271 ,81.8262,81.8259,81.8252,81.8249,81.825 ,81.8262,81.8254,81.8229,81.822,81.8214 ,81.8222,81.8231,81.8227,81.8227,81.823 ,81.8224,81.822,81.8219,81.8213,81.8208 ,81.8204,81.8199,81.8198,81.8195, 81.8191,81.8187,81.8188,81.8187,81.8184 ,81.8179,81.8174,81.817,81.8166,81.816, 81.8154,81.8148,81.8142,81.8132, 81.7388)
ORBIT_NUMBER = 16816
ORBITAL_ECCENTRICITY = 0.579
ORBITAL_INCLINATION = 86.96
ORBITAL_SEMIMAJOR_AXIS = 8822.01
PERIAPSIS_ALTITUDE = 328.29
PERIAPSIS_ARGUMENT_ANGLE = 320.54
PERIAPSIS_TIME = 2017-04-12T03:43:47.000Z
SPACECRAFT_ORIENTATION = (0.0,1.0,0.0)
^MEX_ORIENTATION_DESC = "MEX_ORIENTATION_DESC.TXT"
SPACECRAFT_POINTING_MODE = ACROSSTRACK
^MEX_POINTING_DESC = "MEX_POINTING_DESC.TXT"
RIGHT_ASCENSION = -1e+32
DECLINATION = -1e+32
OFFSET_ANGLE = -0.55
SPACECRAFT_SOLAR_DISTANCE = 2.28546e+08
TARGET_NAME = MARS
/* CAMERA DATA ELEMENTS */
DETECTOR_TEMPERATURE = 18.7783
FOCAL_PLANE_TEMPERATURE = 8.5833
INST_CMPRS_NAME = "DISCRETE COSINE TRANSFORMATION (DCT)"
INST_CMPRS_RATIO = 8.06288
INST_CMPRS_QUALITY = 0
INST_CMPRS_QUANTZ_TBL_ID = 0
INSTRUMENT_TEMPERATURE = 11.6418
LENS_TEMPERATURE = 9.195
MACROPIXEL_SIZE = 2
MISSING_FRAMES = 0
PIXEL_SUBSAMPLING_FLAG = N
SIGNAL_CHAIN_ID = 3
/* RADIOMETRIC DATA ELEMENTS */
BANDWIDTH = 177.0
CENTER_FILTER_WAVELENGTH = 676.5
RADIANCE_OFFSET = 4.75758
RADIANCE_SCALING_FACTOR = 0.00730064
REFLECTANCE_SCALING_FACTOR = 0.000202193
MEX:REFLECTANCE_OFFSET = 0.131762
/* IMAGE OBJECT DEFINITIONS */
OBJECT = IMAGE
  INTERCHANGE_FORMAT = BINARY
  LINES = 13575
  LINE_SAMPLES = 3054
  SAMPLE_TYPE = UNSIGNED_INTEGER
  SAMPLE_BITS = 8
  BANDS = 1
  BAND_STORAGE_TYPE = BAND_SEQUENTIAL
  MAXIMUM = 255
  MEAN = 153.688
  MINIMUM = 1
  STANDARD_DEVIATION = 27.7046
END_OBJECT = IMAGE
/* MAP OBJECT DEFINITIONS */
OBJECT = IMAGE_MAP_PROJECTION
  ^DATA_SET_MAP_PROJECTION_CATALOG= "DSMAP.CAT"
  A_AXIS_RADIUS = 3396.0
  B_AXIS_RADIUS = 3396.0
  C_AXIS_RADIUS = 3396.0
  CENTER_LATITUDE = 0.0
  CENTER_LONGITUDE = 81.0
  COORDINATE_SYSTEM_NAME = PLANETOGRAPHIC
  COORDINATE_SYSTEM_TYPE = "BODY-FIXED ROTATING"
  EASTERNMOST_LONGITUDE = 81.82810000000001
  FIRST_STANDARD_PARALLEL = "N/A"
  LINE_FIRST_PIXEL = 1
  LINE_LAST_PIXEL = 13575
  LINE_PROJECTION_OFFSET = -86322.75
  MAP_PROJECTION_ROTATION = 0.0
  MAP_PROJECTION_TYPE = SINUSOIDAL
  MAP_RESOLUTION = 2370.85521546667
  MAP_SCALE = 0.025
  MAXIMUM_LATITUDE = -36.3809
  MINIMUM_LATITUDE = -42.159
  POSITIVE_LONGITUDE_DIRECTION = EAST
  REFERENCE_LATITUDE = "N/A"
  REFERENCE_LONGITUDE = "N/A"
  SAMPLE_FIRST_PIXEL = 1
  SAMPLE_LAST_PIXEL = 3054
  SAMPLE_PROJECTION_OFFSET = 1416.75
  SECOND_STANDARD_PARALLEL = "N/A"
  WESTERNMOST_LONGITUDE = 80.1919
END_OBJECT = IMAGE_MAP_PROJECTION
/* The JPEG2000 image data file associated with this label. */
OBJECT = COMPRESSED_FILE
  FILE_NAME = "HG816_0000_P23.JP2"
  RECORD_TYPE = UNDEFINED
  FILE_RECORDS = UNK
  ENCODING_TYPE = "JP2"
  INTERCHANGE_FORMAT = BINARY
  UNCOMPRESSED_FILE_NAME = "HG816_0000_P23.IMG"
  REQUIRED_STORAGE_BYTES = "41482482"
  ^DESCRIPTION = "JP2INFO.TXT"
END_OBJECT = COMPRESSED_FILE
END
