PDS_VERSION_ID = PDS3
/* FILE DATA ELEMENTS */
RECORD_TYPE = STREAM
/* POINTERS TO DATA OBJECTS */
^COMPRESSED_FILE = "HG820_0000_GR3.JP2"
/* IDENTIFICATION DATA ELEMENTS */
DATA_SET_ID = "MEX-M-HRSC-5-REFDR-MAPPROJECTED-V3.0"
DATA_SET_NAME = "MARS EXPRESS HRSC MAP PROJECTED REFDR V3.0"
DETECTOR_ID = MEX_HRSC_GREEN
EVENT_TYPE = "MARS-REGIONAL-MAPPING-Im-Eo"
INSTRUMENT_HOST_ID = MEX
INSTRUMENT_HOST_NAME = "MARS EXPRESS"
INSTRUMENT_ID = HRSC
INSTRUMENT_NAME = "HIGH RESOLUTION STEREO CAMERA"
MISSION_NAME = "MARS EXPRESS"
MISSION_PHASE_NAME = ME_Phase_36
PROCESSING_LEVEL_ID = 3
PRODUCT_CREATION_TIME = 2018-06-28T11:48:36.000Z
PRODUCT_ID = "HG820_0000_GR3.JP2"
RELEASE_ID = 0138
REVISION_ID = 0000
/* QUALITY DATA ELEMENTS */
DATA_QUALITY_ID = 1
DATA_QUALITY_DESC = "Data calculated based on original SPICE kernels"
/* TIME DATA ELEMENTS */
SPACECRAFT_CLOCK_START_COUNT = "1/0440149173.07319"
SPACECRAFT_CLOCK_STOP_COUNT = "1/0440149409.21881"
START_TIME = 2017-04-13T07:40:19.364Z
STOP_TIME = 2017-04-13T07:43:10.755Z
/* ORBITAL DATA ELEMENTS */
ASCENDING_NODE_LONGITUDE = 258.01
MAXIMUM_RESOLUTION = 52.2
FOOTPRINT_POINT_LATITUDE = (-49.5218,-49.5102,-49.503,-49.4877, -49.4835,-49.2562,-49.0289,-48.8023, -48.5749,-48.3474,-48.1197,-47.8919, -47.6641,-47.4363,-47.2084,-46.9803, -46.7522,-46.5239,-46.2949,-46.0714, -45.8504,-45.6292,-45.4081,-45.1869, -44.8552,-44.6335,-44.4122,-44.0808, -43.8595,-43.6388,-43.4174,-43.1958, -42.9738,-42.6408,-42.4193,-42.1977, -41.976,-41.7546,-41.533,-41.3116, -41.09,-40.7576,-40.5359,-40.3145, -40.0929,-39.8715,-39.5393,-39.3175, -38.9855,-38.7641,-38.4327,-38.2744, -38.279,-38.2872,-38.2926,-38.6253, -38.8471,-39.1798,-39.4016,-39.6235, -39.9564,-40.1784,-40.4003,-40.6223, -40.8443,-41.0663,-41.2884,-41.5103, -41.8433,-42.0654,-42.2873,-42.5092, -42.7313,-42.9532,-43.1753,-43.5081, -43.7299,-43.9522,-44.1744,-44.3955, -44.6175,-44.8396,-45.0612,-45.2831, -45.6157,-45.8372,-46.1695,-46.3954, -46.6242,-46.9673,-47.1959,-47.4245, -47.653,-47.8821,-48.1106,-48.3388, -48.5669,-48.9088,-49.137,-49.5218)
FOOTPRINT_POINT_LONGITUDE = (31.8037,31.259,30.9709,30.4317,30.0586 ,30.0783,30.0976,30.1149,30.1333, 30.1515,30.1694,30.1871,30.2041,30.2208 ,30.2373,30.2535,30.2694,30.2852, 30.3019,30.3168,30.331,30.3452,30.3589, 30.3723,30.3918,30.4052,30.4178,30.435, 30.4467,30.4571,30.4685,30.4798,30.4917 ,30.5088,30.5192,30.5293,30.5396,30.549 ,30.5585,30.5676,30.5766,30.5899, 30.5986,30.6068,30.615,30.6228,30.6342, 30.6423,30.6529,30.6598,30.669,30.8878, 31.1841,31.6987,32.1256,32.1219,32.1192 ,32.1152,32.1123,32.1096,32.1052, 32.1026,32.0995,32.0965,32.0937,32.0905 ,32.0876,32.0839,32.0791,32.0761, 32.0722,32.0684,32.0656,32.0617,32.0583 ,32.0523,32.0483,32.0459,32.043,32.0365 ,32.0332,32.0301,32.0254,32.0219, 32.0158,32.0108,32.0038,31.999,31.9942, 31.9867,31.981,31.976,31.9704,31.9676, 31.9625,31.9564,31.9501,31.9403,31.9351 ,31.8037)
ORBIT_NUMBER = 16820
ORBITAL_ECCENTRICITY = 0.579
ORBITAL_INCLINATION = 86.94
ORBITAL_SEMIMAJOR_AXIS = 8820.9
PERIAPSIS_ALTITUDE = 329.26
PERIAPSIS_ARGUMENT_ANGLE = 319.87
PERIAPSIS_TIME = 2017-04-13T07:42:39.000Z
SPACECRAFT_ORIENTATION = (0.0,1.0,0.0)
^MEX_ORIENTATION_DESC = "MEX_ORIENTATION_DESC.TXT"
SPACECRAFT_POINTING_MODE = ACROSSTRACK
^MEX_POINTING_DESC = "MEX_POINTING_DESC.TXT"
RIGHT_ASCENSION = -1e+32
DECLINATION = -1e+32
OFFSET_ANGLE = -0.229
SPACECRAFT_SOLAR_DISTANCE = 2.28772e+08
TARGET_NAME = MARS
/* CAMERA DATA ELEMENTS */
DETECTOR_TEMPERATURE = 18.5744
FOCAL_PLANE_TEMPERATURE = 8.9911
INST_CMPRS_NAME = "DISCRETE COSINE TRANSFORMATION (DCT)"
INST_CMPRS_RATIO = 12.4351
INST_CMPRS_QUALITY = 0
INST_CMPRS_QUANTZ_TBL_ID = 0
INSTRUMENT_TEMPERATURE = 12.0496
LENS_TEMPERATURE = 10.4184
MACROPIXEL_SIZE = 4
MISSING_FRAMES = 0
PIXEL_SUBSAMPLING_FLAG = N
SIGNAL_CHAIN_ID = 2
/* RADIOMETRIC DATA ELEMENTS */
BANDWIDTH = 88.0
CENTER_FILTER_WAVELENGTH = 538.0
RADIANCE_OFFSET = 1.22617
RADIANCE_SCALING_FACTOR = 0.00326293
REFLECTANCE_SCALING_FACTOR = 0.000147029
MEX:REFLECTANCE_OFFSET = 0.0552518
/* IMAGE OBJECT DEFINITIONS */
OBJECT = IMAGE
  INTERCHANGE_FORMAT = BINARY
  LINES = 13366
  LINE_SAMPLES = 1840
  SAMPLE_TYPE = UNSIGNED_INTEGER
  SAMPLE_BITS = 8
  BANDS = 1
  BAND_STORAGE_TYPE = BAND_SEQUENTIAL
  MAXIMUM = 255
  MEAN = 151.648
  MINIMUM = 1
  STANDARD_DEVIATION = 24.8323
END_OBJECT = IMAGE
/* MAP OBJECT DEFINITIONS */
OBJECT = IMAGE_MAP_PROJECTION
  ^DATA_SET_MAP_PROJECTION_CATALOG= "DSMAP.CAT"
  A_AXIS_RADIUS = 3396.0
  B_AXIS_RADIUS = 3396.0
  C_AXIS_RADIUS = 3396.0
  CENTER_LATITUDE = 0.0
  CENTER_LONGITUDE = 31.0
  COORDINATE_SYSTEM_NAME = PLANETOGRAPHIC
  COORDINATE_SYSTEM_TYPE = "BODY-FIXED ROTATING"
  EASTERNMOST_LONGITUDE = 32.1256
  FIRST_STANDARD_PARALLEL = "N/A"
  LINE_FIRST_PIXEL = 1
  LINE_LAST_PIXEL = 13366
  LINE_PROJECTION_OFFSET = -45369.875
  MAP_PROJECTION_ROTATION = 0.0
  MAP_PROJECTION_TYPE = SINUSOIDAL
  MAP_RESOLUTION = 1185.42760773333
  MAP_SCALE = 0.05
  MAXIMUM_LATITUDE = -38.2744
  MINIMUM_LATITUDE = -49.5218
  POSITIVE_LONGITUDE_DIRECTION = EAST
  REFERENCE_LATITUDE = "N/A"
  REFERENCE_LONGITUDE = "N/A"
  SAMPLE_FIRST_PIXEL = 1
  SAMPLE_LAST_PIXEL = 1840
  SAMPLE_PROJECTION_OFFSET = 750.375
  SECOND_STANDARD_PARALLEL = "N/A"
  WESTERNMOST_LONGITUDE = 30.0586
END_OBJECT = IMAGE_MAP_PROJECTION
/* The JPEG2000 image data file associated with this label. */
OBJECT = COMPRESSED_FILE
  FILE_NAME = "HG820_0000_GR3.JP2"
  RECORD_TYPE = UNDEFINED
  FILE_RECORDS = UNK
  ENCODING_TYPE = "JP2"
  INTERCHANGE_FORMAT = BINARY
  UNCOMPRESSED_FILE_NAME = "HG820_0000_GR3.IMG"
  REQUIRED_STORAGE_BYTES = "24613680"
  ^DESCRIPTION = "JP2INFO.TXT"
END_OBJECT = COMPRESSED_FILE
END
