PDS_VERSION_ID = PDS3
/* FILE DATA ELEMENTS */
RECORD_TYPE = STREAM
/* POINTERS TO DATA OBJECTS */
^COMPRESSED_FILE = "HG830_0001_GR3.JP2"
/* IDENTIFICATION DATA ELEMENTS */
DATA_SET_ID = "MEX-M-HRSC-5-REFDR-MAPPROJECTED-V3.0"
DATA_SET_NAME = "MARS EXPRESS HRSC MAP PROJECTED REFDR V3.0"
DETECTOR_ID = MEX_HRSC_GREEN
EVENT_TYPE = "MARS-REGIONAL-MAPPING-Vo-Im-Fl"
INSTRUMENT_HOST_ID = MEX
INSTRUMENT_HOST_NAME = "MARS EXPRESS"
INSTRUMENT_ID = HRSC
INSTRUMENT_NAME = "HIGH RESOLUTION STEREO CAMERA"
MISSION_NAME = "MARS EXPRESS"
MISSION_PHASE_NAME = ME_Phase_36
PROCESSING_LEVEL_ID = 3
PRODUCT_CREATION_TIME = 2018-06-28T11:48:36.000Z
PRODUCT_ID = "HG830_0001_GR3.JP2"
RELEASE_ID = 0138
REVISION_ID = 0000
/* QUALITY DATA ELEMENTS */
DATA_QUALITY_ID = 1
DATA_QUALITY_DESC = "Data calculated based on original SPICE kernels"
/* TIME DATA ELEMENTS */
SPACECRAFT_CLOCK_START_COUNT = "1/0440401489.60016"
SPACECRAFT_CLOCK_STOP_COUNT = "1/0440401809.20693"
START_TIME = 2017-04-16T05:45:42.055Z
STOP_TIME = 2017-04-16T05:48:30.019Z
/* ORBITAL DATA ELEMENTS */
ASCENDING_NODE_LONGITUDE = 257.82
MAXIMUM_RESOLUTION = 67.7
FOOTPRINT_POINT_LATITUDE = (-20.0414,-20.0428,-20.0444,-20.0458, -20.0462,-20.0459,-19.5047,-19.3203, -19.1359,-18.9517,-18.5839,-18.3982, -18.2102,-18.0223,-17.8348,-17.5536, -17.2668,-17.0754,-16.8842,-16.6933, -16.5,-16.305,-16.1105,-15.8186, -15.5226,-15.3245,-15.1265,-14.9289, -14.7273,-14.5257,-14.3243,-14.1232, -13.918,-13.6105,-13.4061,-13.0951, -12.887,-12.679,-12.3631,-12.1517, -11.9405,-11.6195,-11.405,-11.1908, -10.9728,-10.7547,-10.538,-10.3173, -10.0961,-10.0058,-10.0011,-9.99499, -9.99084,-9.98868,-9.98647,-10.2081, -10.5389,-10.756,-10.9747,-11.1927, -11.4077,-11.623,-11.8384,-12.05, -12.3677,-12.5798,-12.788,-13.101, -13.3097,-13.5145,-13.7197,-13.9251, -14.1297,-14.4324,-14.7349,-14.9368, -15.1357,-15.3338,-15.5315,-15.8276, -16.0223,-16.2173,-16.4124,-16.6077, -16.7991,-16.9904,-17.182,-17.3738, -17.5647,-17.7527,-17.9402,-18.1283, -18.3166,-18.5042,-18.6882,-18.8725, -19.0568,-19.2415,-19.6986,-20.0414)
FOOTPRINT_POINT_LONGITUDE = (89.2042,88.9837,88.6761,88.2675, 88.0348,87.6383,87.6283,87.6248,87.621, 87.6173,87.6095,87.6057,87.6016,87.5976 ,87.5932,87.5869,87.5804,87.5758, 87.5714,87.5667,87.5619,87.5569,87.5517 ,87.5444,87.5369,87.5313,87.526,87.5202 ,87.5146,87.5088,87.503,87.4971,87.4917 ,87.4825,87.476,87.466,87.4594,87.4527, 87.4423,87.4352,87.428,87.4175,87.4096, 87.4019,87.3947,87.387,87.3776,87.3701, 87.3618,87.5876,87.9957,88.4574,88.7602 ,88.9757,89.2702,89.2685,89.2647, 89.2601,89.2589,89.2582,89.2568,89.2554 ,89.2542,89.2528,89.2503,89.2487, 89.2473,89.2454,89.2436,89.2422,89.2409 ,89.2396,89.2382,89.2373,89.234,89.2339 ,89.2348,89.2331,89.2295,89.2283, 89.2271,89.2261,89.2248,89.2234,89.223, 89.2219,89.2208,89.2199,89.2187,89.2188 ,89.2167,89.2158,89.2148,89.2137, 89.2125,89.2116,89.2103,89.2092,89.2067 ,89.2042)
ORBIT_NUMBER = 16830
ORBITAL_ECCENTRICITY = 0.579
ORBITAL_INCLINATION = 86.95
ORBITAL_SEMIMAJOR_AXIS = 8818.42
PERIAPSIS_ALTITUDE = 327.97
PERIAPSIS_ARGUMENT_ANGLE = 318.15
PERIAPSIS_TIME = 2017-04-16T05:39:59.000Z
SPACECRAFT_ORIENTATION = (0.0,1.0,0.0)
^MEX_ORIENTATION_DESC = "MEX_ORIENTATION_DESC.TXT"
SPACECRAFT_POINTING_MODE = ACROSSTRACK
^MEX_POINTING_DESC = "MEX_POINTING_DESC.TXT"
RIGHT_ASCENSION = -1e+32
DECLINATION = -1e+32
OFFSET_ANGLE = -0.229
SPACECRAFT_SOLAR_DISTANCE = 2.29337e+08
TARGET_NAME = MARS
/* CAMERA DATA ELEMENTS */
DETECTOR_TEMPERATURE = 0.0
FOCAL_PLANE_TEMPERATURE = 0.0
INST_CMPRS_NAME = "DISCRETE COSINE TRANSFORMATION (DCT)"
INST_CMPRS_RATIO = 12.1756
INST_CMPRS_QUALITY = 0
INST_CMPRS_QUANTZ_TBL_ID = 0
INSTRUMENT_TEMPERATURE = 0.0
LENS_TEMPERATURE = 0.0
MACROPIXEL_SIZE = 4
MISSING_FRAMES = 0
PIXEL_SUBSAMPLING_FLAG = N
SIGNAL_CHAIN_ID = 2
/* RADIOMETRIC DATA ELEMENTS */
BANDWIDTH = 88.0
CENTER_FILTER_WAVELENGTH = 538.0
RADIANCE_OFFSET = 1.31972
RADIANCE_SCALING_FACTOR = 0.00345024
REFLECTANCE_SCALING_FACTOR = 0.000156239
MEX:REFLECTANCE_OFFSET = 0.0597613
/* IMAGE OBJECT DEFINITIONS */
OBJECT = IMAGE
  INTERCHANGE_FORMAT = BINARY
  LINES = 12622
  LINE_SAMPLES = 2347
  SAMPLE_TYPE = UNSIGNED_INTEGER
  SAMPLE_BITS = 8
  BANDS = 1
  BAND_STORAGE_TYPE = BAND_SEQUENTIAL
  MAXIMUM = 255
  MEAN = 124.959
  MINIMUM = 1
  STANDARD_DEVIATION = 19.1691
END_OBJECT = IMAGE
/* MAP OBJECT DEFINITIONS */
OBJECT = IMAGE_MAP_PROJECTION
  ^DATA_SET_MAP_PROJECTION_CATALOG= "DSMAP.CAT"
  A_AXIS_RADIUS = 3396.0
  B_AXIS_RADIUS = 3396.0
  C_AXIS_RADIUS = 3396.0
  CENTER_LATITUDE = 0.0
  CENTER_LONGITUDE = 88.0
  COORDINATE_SYSTEM_NAME = PLANETOGRAPHIC
  COORDINATE_SYSTEM_TYPE = "BODY-FIXED ROTATING"
  EASTERNMOST_LONGITUDE = 89.2702
  FIRST_STANDARD_PARALLEL = "N/A"
  LINE_FIRST_PIXEL = 1
  LINE_LAST_PIXEL = 12622
  LINE_PROJECTION_OFFSET = -11146.625
  MAP_PROJECTION_ROTATION = 0.0
  MAP_PROJECTION_TYPE = SINUSOIDAL
  MAP_RESOLUTION = 1185.42760773333
  MAP_SCALE = 0.05
  MAXIMUM_LATITUDE = -9.986470000000001
  MINIMUM_LATITUDE = -20.0462
  POSITIVE_LONGITUDE_DIRECTION = EAST
  REFERENCE_LATITUDE = "N/A"
  REFERENCE_LONGITUDE = "N/A"
  SAMPLE_FIRST_PIXEL = 1
  SAMPLE_LAST_PIXEL = 2347
  SAMPLE_PROJECTION_OFFSET = 806.875
  SECOND_STANDARD_PARALLEL = "N/A"
  WESTERNMOST_LONGITUDE = 87.3618
END_OBJECT = IMAGE_MAP_PROJECTION
/* The JPEG2000 image data file associated with this label. */
OBJECT = COMPRESSED_FILE
  FILE_NAME = "HG830_0001_GR3.JP2"
  RECORD_TYPE = UNDEFINED
  FILE_RECORDS = UNK
  ENCODING_TYPE = "JP2"
  INTERCHANGE_FORMAT = BINARY
  UNCOMPRESSED_FILE_NAME = "HG830_0001_GR3.IMG"
  REQUIRED_STORAGE_BYTES = "29647304"
  ^DESCRIPTION = "JP2INFO.TXT"
END_OBJECT = COMPRESSED_FILE
END
