PDS_VERSION_ID = PDS3
/* FILE DATA ELEMENTS */
RECORD_TYPE = STREAM
/* POINTERS TO DATA OBJECTS */
^COMPRESSED_FILE = "HG837_0000_IR3.JP2"
/* IDENTIFICATION DATA ELEMENTS */
DATA_SET_ID = "MEX-M-HRSC-5-REFDR-MAPPROJECTED-V3.0"
DATA_SET_NAME = "MARS EXPRESS HRSC MAP PROJECTED REFDR V3.0"
DETECTOR_ID = MEX_HRSC_IR
EVENT_TYPE = "MARS-REGIONAL-MAPPING-Im-Fl-Gl"
INSTRUMENT_HOST_ID = MEX
INSTRUMENT_HOST_NAME = "MARS EXPRESS"
INSTRUMENT_ID = HRSC
INSTRUMENT_NAME = "HIGH RESOLUTION STEREO CAMERA"
MISSION_NAME = "MARS EXPRESS"
MISSION_PHASE_NAME = ME_Phase_36
PROCESSING_LEVEL_ID = 3
PRODUCT_CREATION_TIME = 2018-06-28T11:48:36.000Z
PRODUCT_ID = "HG837_0000_IR3.JP2"
RELEASE_ID = 0138
REVISION_ID = 0000
/* QUALITY DATA ELEMENTS */
DATA_QUALITY_ID = 1
DATA_QUALITY_DESC = "Data calculated based on original SPICE kernels"
/* TIME DATA ELEMENTS */
SPACECRAFT_CLOCK_START_COUNT = "1/0440577382.09055"
SPACECRAFT_CLOCK_STOP_COUNT = "1/0440577602.64836"
START_TIME = 2017-04-18T06:37:25.371Z
STOP_TIME = 2017-04-18T06:40:03.945Z
/* ORBITAL DATA ELEMENTS */
ASCENDING_NODE_LONGITUDE = 257.69
MAXIMUM_RESOLUTION = 55.5
FOOTPRINT_POINT_LATITUDE = (-47.498,-47.4907,-47.4831,-47.4751, -47.4668,-47.5273,-47.3187,-47.1127, -46.9014,-46.5862,-46.377,-46.1674, -45.8554,-45.6467,-45.4381,-45.2277, -44.9148,-44.7065,-44.3942,-44.1909, -43.9893,-43.7876,-43.5856,-43.3848, -43.1833,-42.9822,-42.7783,-42.5704, -42.3606,-42.1534,-41.946,-41.7389, -41.5314,-41.3237,-41.1168,-40.9092, -40.7021,-40.3917,-40.1857,-39.8789, -39.6729,-39.4642,-39.256,-39.0499, -38.8439,-38.6385,-38.4326,-38.1247, -37.8172,-37.509,-37.3039,-37.1686, -37.1741,-37.183,-37.1882,-37.1936, -37.5047,-37.7104,-37.9157,-38.2238, -38.4292,-38.637,-38.8441,-39.1517, -39.4605,-39.6666,-39.9773,-40.1844, -40.3919,-40.7026,-40.9098,-41.1173, -41.324,-41.6359,-41.8443,-42.051, -42.2599,-42.4683,-42.7809,-42.9875, -43.1894,-43.3904,-43.5921,-43.8948, -44.0962,-44.2986,-44.5044,-44.7132, -45.0267,-45.3404,-45.5501,-45.7593, -45.9689,-46.2827,-46.4926,-46.8064, -47.0164,-47.2257,-47.4308,-47.498)
FOOTPRINT_POINT_LONGITUDE = (92.4601,92.2108,91.9625,91.7154, 91.4693,91.1057,91.1192,91.1317,91.1456 ,91.1654,91.178,91.1905,91.2082,91.2199 ,91.2313,91.243,91.2595,91.2701,91.2856 ,91.2956,91.3052,91.3148,91.3242, 91.3331,91.3421,91.3508,91.3592,91.3677 ,91.3767,91.3848,91.3928,91.4005, 91.4082,91.4158,91.423,91.4302,91.4372, 91.4474,91.4537,91.4624,91.4684,91.475, 91.4812,91.4869,91.4924,91.4976,91.5028 ,91.5102,91.5172,91.5241,91.5285, 91.7378,91.9875,92.3778,92.6302,92.9397 ,93.0263,93.024,93.0215,93.0174,93.0146 ,93.0132,93.0113,93.006,93.0012,92.9979 ,92.994,92.9912,92.9886,92.984,92.9808, 92.9776,92.9738,92.9691,92.9662,92.9619 ,92.9591,92.9558,92.9506,92.9468, 92.9435,92.9394,92.9358,92.9301,92.9259 ,92.9223,92.918,92.9136,92.9071,92.9003 ,92.8961,92.8914,92.8869,92.8794, 92.8748,92.8668,92.862,92.8564,92.8473, 92.4601)
ORBIT_NUMBER = 16837
ORBITAL_ECCENTRICITY = 0.579
ORBITAL_INCLINATION = 86.95
ORBITAL_SEMIMAJOR_AXIS = 8816.48
PERIAPSIS_ALTITUDE = 327.84
PERIAPSIS_ARGUMENT_ANGLE = 316.96
PERIAPSIS_TIME = 2017-04-18T06:38:11.000Z
SPACECRAFT_ORIENTATION = (0.0,1.0,0.0)
^MEX_ORIENTATION_DESC = "MEX_ORIENTATION_DESC.TXT"
SPACECRAFT_POINTING_MODE = ACROSSTRACK
^MEX_POINTING_DESC = "MEX_POINTING_DESC.TXT"
RIGHT_ASCENSION = -1e+32
DECLINATION = -1e+32
OFFSET_ANGLE = -0.3
SPACECRAFT_SOLAR_DISTANCE = 2.29731e+08
TARGET_NAME = MARS
/* CAMERA DATA ELEMENTS */
DETECTOR_TEMPERATURE = 17.9627
FOCAL_PLANE_TEMPERATURE = 10.0106
INST_CMPRS_NAME = "DISCRETE COSINE TRANSFORMATION (DCT)"
INST_CMPRS_RATIO = 11.1783
INST_CMPRS_QUALITY = 0
INST_CMPRS_QUANTZ_TBL_ID = 0
INSTRUMENT_TEMPERATURE = 12.0496
LENS_TEMPERATURE = 9.6028
MACROPIXEL_SIZE = 4
MISSING_FRAMES = 0
PIXEL_SUBSAMPLING_FLAG = N
SIGNAL_CHAIN_ID = 2
/* RADIOMETRIC DATA ELEMENTS */
BANDWIDTH = 81.0
CENTER_FILTER_WAVELENGTH = 955.5
RADIANCE_OFFSET = 0.902055
RADIANCE_SCALING_FACTOR = 0.00293105
REFLECTANCE_SCALING_FACTOR = 0.000333725
MEX:REFLECTANCE_OFFSET = 0.102707
/* IMAGE OBJECT DEFINITIONS */
OBJECT = IMAGE
  INTERCHANGE_FORMAT = BINARY
  LINES = 12316
  LINE_SAMPLES = 1718
  SAMPLE_TYPE = UNSIGNED_INTEGER
  SAMPLE_BITS = 8
  BANDS = 1
  BAND_STORAGE_TYPE = BAND_SEQUENTIAL
  MAXIMUM = 255
  MEAN = 129.917
  MINIMUM = 1
  STANDARD_DEVIATION = 36.7872
END_OBJECT = IMAGE
/* MAP OBJECT DEFINITIONS */
OBJECT = IMAGE_MAP_PROJECTION
  ^DATA_SET_MAP_PROJECTION_CATALOG= "DSMAP.CAT"
  A_AXIS_RADIUS = 3396.0
  B_AXIS_RADIUS = 3396.0
  C_AXIS_RADIUS = 3396.0
  CENTER_LATITUDE = 0.0
  CENTER_LONGITUDE = 92.0
  COORDINATE_SYSTEM_NAME = PLANETOGRAPHIC
  COORDINATE_SYSTEM_TYPE = "BODY-FIXED ROTATING"
  EASTERNMOST_LONGITUDE = 93.02630000000001
  FIRST_STANDARD_PARALLEL = "N/A"
  LINE_FIRST_PIXEL = 1
  LINE_LAST_PIXEL = 12316
  LINE_PROJECTION_OFFSET = -44067.375
  MAP_PROJECTION_ROTATION = 0.0
  MAP_PROJECTION_TYPE = SINUSOIDAL
  MAP_RESOLUTION = 1185.42760773333
  MAP_SCALE = 0.05
  MAXIMUM_LATITUDE = -37.1686
  MINIMUM_LATITUDE = -47.5273
  POSITIVE_LONGITUDE_DIRECTION = EAST
  REFERENCE_LATITUDE = "N/A"
  REFERENCE_LONGITUDE = "N/A"
  SAMPLE_FIRST_PIXEL = 1
  SAMPLE_LAST_PIXEL = 1718
  SAMPLE_PROJECTION_OFFSET = 733.375
  SECOND_STANDARD_PARALLEL = "N/A"
  WESTERNMOST_LONGITUDE = 91.1057
END_OBJECT = IMAGE_MAP_PROJECTION
/* The JPEG2000 image data file associated with this label. */
OBJECT = COMPRESSED_FILE
  FILE_NAME = "HG837_0000_IR3.JP2"
  RECORD_TYPE = UNDEFINED
  FILE_RECORDS = UNK
  ENCODING_TYPE = "JP2"
  INTERCHANGE_FORMAT = BINARY
  UNCOMPRESSED_FILE_NAME = "HG837_0000_IR3.IMG"
  REQUIRED_STORAGE_BYTES = "21179504"
  ^DESCRIPTION = "JP2INFO.TXT"
END_OBJECT = COMPRESSED_FILE
END
