PDS_VERSION_ID = PDS3
/* FILE DATA ELEMENTS */
RECORD_TYPE = STREAM
/* POINTERS TO DATA OBJECTS */
^COMPRESSED_FILE = "HG855_0000_S23.JP2"
/* IDENTIFICATION DATA ELEMENTS */
DATA_SET_ID = "MEX-M-HRSC-5-REFDR-MAPPROJECTED-V3.0"
DATA_SET_NAME = "MARS EXPRESS HRSC MAP PROJECTED REFDR V3.0"
DETECTOR_ID = MEX_HRSC_S2
EVENT_TYPE = "MARS-REGIONAL-MAPPING-Im-Gl-Eo"
INSTRUMENT_HOST_ID = MEX
INSTRUMENT_HOST_NAME = "MARS EXPRESS"
INSTRUMENT_ID = HRSC
INSTRUMENT_NAME = "HIGH RESOLUTION STEREO CAMERA"
MISSION_NAME = "MARS EXPRESS"
MISSION_PHASE_NAME = ME_Phase_36
PROCESSING_LEVEL_ID = 3
PRODUCT_CREATION_TIME = 2018-06-28T11:48:36.000Z
PRODUCT_ID = "HG855_0000_S23.JP2"
RELEASE_ID = 0138
REVISION_ID = 0000
/* QUALITY DATA ELEMENTS */
DATA_QUALITY_ID = 1
DATA_QUALITY_DESC = "Data calculated based on original SPICE kernels"
/* TIME DATA ELEMENTS */
SPACECRAFT_CLOCK_START_COUNT = "1/0441030658.09039"
SPACECRAFT_CLOCK_STOP_COUNT = "1/0441030891.41885"
START_TIME = 2017-04-23T12:31:06.316Z
STOP_TIME = 2017-04-23T12:33:58.407Z
/* ORBITAL DATA ELEMENTS */
ASCENDING_NODE_LONGITUDE = 257.36
MAXIMUM_RESOLUTION = 28.4
FOOTPRINT_POINT_LATITUDE = (-53.0875,-53.0565,-53.0211,-52.9717, -52.5497,-52.3265,-51.9917,-51.7678, -51.5449,-51.3208,-51.0968,-50.7607, -50.5333,-50.1934,-49.9691,-49.7439, -49.5193,-49.3019,-49.0826,-48.8645, -48.644,-48.4187,-48.2059,-47.9827, -47.7594,-47.5397,-47.318,-47.0971, -46.7681,-46.5485,-46.3246,-46.102, -45.8808,-45.6591,-45.4372,-45.2175, -45.0031,-44.7778,-44.5488,-44.3284, -44.1066,-43.881,-43.6579,-43.4349, -43.2156,-42.8791,-42.6545,-42.3196, -42.0957,-41.7596,-41.7792,-41.8023, -41.8159,-41.9393,-42.1626,-42.3868, -42.6114,-42.834,-43.0573,-43.2816, -43.6177,-43.952,-44.1749,-44.3988, -44.6222,-44.8458,-45.0686,-45.2926, -45.5145,-45.7369,-45.9599,-46.1819, -46.4031,-46.6242,-46.8465,-47.0686, -47.2899,-47.5111,-47.7308,-47.9556, -48.1759,-48.3984,-48.7284,-48.9412, -49.1621,-49.392,-49.6118,-49.9488, -50.1759,-50.4018,-50.6279,-50.9671, -51.1933,-51.531,-51.7562,-51.9807, -52.2053,-52.542,-52.8784,-53.0875)
FOOTPRINT_POINT_LONGITUDE = (49.7817,49.1787,48.5694,47.8177, 47.7949,47.8244,47.868,47.8962,47.9249, 47.9523,47.9795,48.0198,48.044,48.0805, 48.1061,48.1309,48.1527,48.1765,48.1988 ,48.2216,48.2426,48.26,48.2858,48.3042, 48.3224,48.3428,48.3616,48.3807,48.4106 ,48.4301,48.4464,48.4635,48.4813, 48.4985,48.5154,48.5336,48.5551,48.5691 ,48.5806,48.5975,48.6132,48.6263, 48.6409,48.6553,48.672,48.6917,48.7045, 48.7245,48.7373,48.9145,49.2867,49.8087 ,50.1138,50.3428,50.3351,50.3273, 50.3192,50.3113,50.3032,50.2948,50.2821 ,50.2694,50.2607,50.2518,50.2428, 50.2337,50.2245,50.215,50.2057,50.1962, 50.1864,50.1766,50.1668,50.1569,50.1466 ,50.1362,50.1258,50.1152,50.1047, 50.0933,50.0824,50.071,50.054,50.0436, 50.0318,50.0185,50.0065,49.9877,49.9748 ,49.9618,49.9487,49.9285,49.9148, 49.8941,49.88,49.8657,49.8513,49.8291, 49.8065,49.7817)
ORBIT_NUMBER = 16855
ORBITAL_ECCENTRICITY = 0.578
ORBITAL_INCLINATION = 86.95
ORBITAL_SEMIMAJOR_AXIS = 8810.12
PERIAPSIS_ALTITUDE = 328.35
PERIAPSIS_ARGUMENT_ANGLE = 313.92
PERIAPSIS_TIME = 2017-04-23T12:33:25.000Z
SPACECRAFT_ORIENTATION = (0.0,1.0,0.0)
^MEX_ORIENTATION_DESC = "MEX_ORIENTATION_DESC.TXT"
SPACECRAFT_POINTING_MODE = ACROSSTRACK
^MEX_POINTING_DESC = "MEX_POINTING_DESC.TXT"
RIGHT_ASCENSION = -1e+32
DECLINATION = -1e+32
OFFSET_ANGLE = 0.458
SPACECRAFT_SOLAR_DISTANCE = 2.30738e+08
TARGET_NAME = MARS
/* CAMERA DATA ELEMENTS */
DETECTOR_TEMPERATURE = 18.5744
FOCAL_PLANE_TEMPERATURE = 8.7872
INST_CMPRS_NAME = "DISCRETE COSINE TRANSFORMATION (DCT)"
INST_CMPRS_RATIO = 11.5256
INST_CMPRS_QUALITY = 0
INST_CMPRS_QUANTZ_TBL_ID = 0
INSTRUMENT_TEMPERATURE = 11.234
LENS_TEMPERATURE = 8.7872
MACROPIXEL_SIZE = 2
MISSING_FRAMES = 0
PIXEL_SUBSAMPLING_FLAG = N
SIGNAL_CHAIN_ID = 1
/* RADIOMETRIC DATA ELEMENTS */
BANDWIDTH = 178.0
CENTER_FILTER_WAVELENGTH = 679.0
RADIANCE_OFFSET = 5.14676
RADIANCE_SCALING_FACTOR = 0.0108533
REFLECTANCE_SCALING_FACTOR = 0.000306005
MEX:REFLECTANCE_OFFSET = 0.145111
/* IMAGE OBJECT DEFINITIONS */
OBJECT = IMAGE
  INTERCHANGE_FORMAT = BINARY
  LINES = 26496
  LINE_SAMPLES = 4126
  SAMPLE_TYPE = UNSIGNED_INTEGER
  SAMPLE_BITS = 8
  BANDS = 1
  BAND_STORAGE_TYPE = BAND_SEQUENTIAL
  MAXIMUM = 255
  MEAN = 129.965
  MINIMUM = 1
  STANDARD_DEVIATION = 38.5121
END_OBJECT = IMAGE
/* MAP OBJECT DEFINITIONS */
OBJECT = IMAGE_MAP_PROJECTION
  ^DATA_SET_MAP_PROJECTION_CATALOG= "DSMAP.CAT"
  A_AXIS_RADIUS = 3396.0
  B_AXIS_RADIUS = 3396.0
  C_AXIS_RADIUS = 3396.0
  CENTER_LATITUDE = 0.0
  CENTER_LONGITUDE = 49.0
  COORDINATE_SYSTEM_NAME = PLANETOGRAPHIC
  COORDINATE_SYSTEM_TYPE = "BODY-FIXED ROTATING"
  EASTERNMOST_LONGITUDE = 50.3428
  FIRST_STANDARD_PARALLEL = "N/A"
  LINE_FIRST_PIXEL = 1
  LINE_LAST_PIXEL = 26496
  LINE_PROJECTION_OFFSET = -99123.25
  MAP_PROJECTION_ROTATION = 0.0
  MAP_PROJECTION_TYPE = SINUSOIDAL
  MAP_RESOLUTION = 2370.85521546667
  MAP_SCALE = 0.025
  MAXIMUM_LATITUDE = -41.7596
  MINIMUM_LATITUDE = -53.0875
  POSITIVE_LONGITUDE_DIRECTION = EAST
  REFERENCE_LATITUDE = "N/A"
  REFERENCE_LONGITUDE = "N/A"
  SAMPLE_FIRST_PIXEL = 1
  SAMPLE_LAST_PIXEL = 4126
  SAMPLE_PROJECTION_OFFSET = 1751.75
  SECOND_STANDARD_PARALLEL = "N/A"
  WESTERNMOST_LONGITUDE = 47.7949
END_OBJECT = IMAGE_MAP_PROJECTION
/* The JPEG2000 image data file associated with this label. */
OBJECT = COMPRESSED_FILE
  FILE_NAME = "HG855_0000_S23.JP2"
  RECORD_TYPE = UNDEFINED
  FILE_RECORDS = UNK
  ENCODING_TYPE = "JP2"
  INTERCHANGE_FORMAT = BINARY
  UNCOMPRESSED_FILE_NAME = "HG855_0000_S23.IMG"
  REQUIRED_STORAGE_BYTES = "109347252"
  ^DESCRIPTION = "JP2INFO.TXT"
END_OBJECT = COMPRESSED_FILE
END
