PDS_VERSION_ID = PDS3
/* FILE DATA ELEMENTS */
RECORD_TYPE = STREAM
/* POINTERS TO DATA OBJECTS */
^COMPRESSED_FILE = "HG859_0006_SR3.JP2"
/* IDENTIFICATION DATA ELEMENTS */
DATA_SET_ID = "MEX-M-HRSC-5-REFDR-MAPPROJECTED-V3.0"
DATA_SET_NAME = "MARS EXPRESS HRSC MAP PROJECTED REFDR V3.0"
DETECTOR_ID = MEX_HRSC_SRC
EVENT_TYPE = "MARS-LOCAL-CARTOGRAPHY-Im-Tc-Ts"
INSTRUMENT_HOST_ID = MEX
INSTRUMENT_HOST_NAME = "MARS EXPRESS"
INSTRUMENT_ID = HRSC
INSTRUMENT_NAME = "HIGH RESOLUTION STEREO CAMERA"
MISSION_NAME = "MARS EXPRESS"
MISSION_PHASE_NAME = ME_Phase_36
PROCESSING_LEVEL_ID = 3
PRODUCT_CREATION_TIME = 2018-06-28T11:48:36.000Z
PRODUCT_ID = "HG859_0006_SR3.JP2"
RELEASE_ID = 0138
REVISION_ID = 0000
/* QUALITY DATA ELEMENTS */
DATA_QUALITY_ID = 1
DATA_QUALITY_DESC = "Data calculated based on original SPICE kernels"
/* TIME DATA ELEMENTS */
SPACECRAFT_CLOCK_START_COUNT = "1/0441132113.07307"
SPACECRAFT_CLOCK_STOP_COUNT = "1/0441132314.38072"
IMAGE_TIME = 2017-04-24T16:43:34.202Z
START_TIME = 2017-04-24T16:43:34.200Z
STOP_TIME = 2017-04-24T16:43:34.205Z
/* ORBITAL DATA ELEMENTS */
ASCENDING_NODE_LONGITUDE = 257.29
MAXIMUM_RESOLUTION = 6.451
FOOTPRINT_POINT_LATITUDE = (-4.96623,-4.96503,-4.96383,-4.9622, -4.95675,-4.90305,-4.85729,-4.85727, -4.85725,-4.85723,-4.85721,-4.85719, -4.85716,-4.85714,-4.85712,-4.8571, -4.85708,-4.85706,-4.85704,-4.85701, -4.85699,-4.85873,-4.85993,-4.86102, -4.86243,-4.86461,-4.86592,-4.86831, -4.87016,-4.87191,-4.87365,-4.87561, -4.87702,-4.87909,-4.88181,-4.88399, -4.88541,-4.88649,-4.88813,-4.89009, -4.89128,-4.89292,-4.89477,-4.8964, -4.89793,-4.89989,-4.90184,-4.90446, -4.90685,-4.90957,-4.91143,-4.91262, -4.91404,-4.91589,-4.9172,-4.9185, -4.92024,-4.92144,-4.92307,-4.92438, -4.92699,-4.92874,-4.93146,-4.93331, -4.93483,-4.9369,-4.9381,-4.93995, -4.94158,-4.94278,-4.94485,-4.94637, -4.94757,-4.94953,-4.95138,-4.9529, -4.95486,-4.95639,-4.95824,-4.95965, -4.9615,-4.96281,-4.9651,-4.96651, -4.96654,-4.96656,-4.96658,-4.96661, -4.96663,-4.96665,-4.96667,-4.9667, -4.96672,-4.96674,-4.96676,-4.96679, -4.96681,-4.96683,-4.96685,-4.96623)
FOOTPRINT_POINT_LONGITUDE = (0.0196021,0.0195777,0.0195533, 0.0195199,0.0195186,0.0195182,0.0196764 ,0.0207748,0.0218732,0.0229715, 0.0240698,0.0251681,0.0262664,0.0273646 ,0.0284628,0.0295611,0.0306592, 0.0317574,0.0328555,0.0339536,0.0350517 ,0.0351974,0.0352221,0.0352446, 0.0352737,0.0353186,0.0353455,0.0353949 ,0.035433,0.0354689,0.0355047,0.0355451 ,0.0355742,0.0356168,0.0356728, 0.0357176,0.0357467,0.0357691,0.0358027 ,0.035843,0.0358676,0.0359012,0.0359392 ,0.0359728,0.0360041,0.0360444, 0.0360846,0.0361383,0.0361875,0.0362434 ,0.0362813,0.0363059,0.036335,0.0363729 ,0.0363997,0.0364266,0.0364623, 0.0364868,0.0365203,0.0365471,0.0366007 ,0.0366364,0.0366922,0.0367301, 0.0367613,0.0368037,0.0368282,0.0368661 ,0.0368996,0.0369241,0.0369664, 0.0369976,0.0370221,0.0370622,0.0371001 ,0.0371313,0.0371714,0.0372025, 0.0372404,0.0372693,0.0373071,0.0373338 ,0.0373806,0.0372997,0.0362014, 0.0351032,0.0340049,0.0329066,0.0318083 ,0.03071,0.0296116,0.0285132,0.0274148, 0.0263164,0.025218,0.0241195,0.023021, 0.0219225,0.0208239,0.0196021)
ORBIT_NUMBER = 16859
ORBITAL_ECCENTRICITY = 0.578
ORBITAL_INCLINATION = 86.95
ORBITAL_SEMIMAJOR_AXIS = 8806.87
PERIAPSIS_ALTITUDE = 328.54
PERIAPSIS_ARGUMENT_ANGLE = 313.22
PERIAPSIS_TIME = 2017-04-24T16:32:14.000Z
SPACECRAFT_ORIENTATION = (0.0,1.0,0.0)
^MEX_ORIENTATION_DESC = "MEX_ORIENTATION_DESC.TXT"
SPACECRAFT_POINTING_MODE = ACROSSTRACK
^MEX_POINTING_DESC = "MEX_POINTING_DESC.TXT"
RIGHT_ASCENSION = -1e+32
DECLINATION = -1e+32
OFFSET_ANGLE = 1.04
SPACECRAFT_SOLAR_DISTANCE = 2.3096e+08
TARGET_NAME = MARS
/* CAMERA DATA ELEMENTS */
BUFFER_MODE_ID = BUFFER_8
EXPOSURE_DURATION = 5.04
INST_CMPRS_NAME = NONE
INST_CMPRS_RATIO = 1.0
INST_CMPRS_QUALITY = -2147483648
INST_CMPRS_QUANTZ_TBL_ID = -2147483648
INSTRUMENT_TEMPERATURE = 7.66212
MISSING_FRAMES = 0
START_BIT = 0
/* RADIOMETRIC DATA ELEMENTS */
BANDWIDTH = 250.0
CENTER_FILTER_WAVELENGTH = 600.0
RADIANCE_OFFSET = -9.99e+31
RADIANCE_SCALING_FACTOR = -9.99e+31
REFLECTANCE_SCALING_FACTOR = -9.99e+31
MEX:REFLECTANCE_OFFSET = -9.99e+31
/* IMAGE OBJECT DEFINITIONS */
OBJECT = IMAGE
  INTERCHANGE_FORMAT = BINARY
  LINES = 1366
  LINE_SAMPLES = 1386
  SAMPLE_TYPE = UNSIGNED_INTEGER
  SAMPLE_BITS = 8
  BANDS = 1
  BAND_STORAGE_TYPE = BAND_SEQUENTIAL
  MAXIMUM = 247
  MEAN = 144.385
  MINIMUM = 2
  STANDARD_DEVIATION = 22.4707
END_OBJECT = IMAGE
/* MAP OBJECT DEFINITIONS */
OBJECT = IMAGE_MAP_PROJECTION
  ^DATA_SET_MAP_PROJECTION_CATALOG= "DSMAP.CAT"
  A_AXIS_RADIUS = 3396.19
  B_AXIS_RADIUS = 3396.19
  C_AXIS_RADIUS = 3396.19
  CENTER_LATITUDE = 0.0
  CENTER_LONGITUDE = 0.0
  COORDINATE_SYSTEM_NAME = PLANETOGRAPHIC
  COORDINATE_SYSTEM_TYPE = "BODY-FIXED ROTATING"
  EASTERNMOST_LONGITUDE = 0.037381
  FIRST_STANDARD_PARALLEL = "N/A"
  LINE_FIRST_PIXEL = 1
  LINE_LAST_PIXEL = 1366
  LINE_PROJECTION_OFFSET = -57559.0
  MAP_PROJECTION_ROTATION = 0.0
  MAP_PROJECTION_TYPE = SINUSOIDAL
  MAP_RESOLUTION = 11854.9393024378
  MAP_SCALE = 0.005
  MAXIMUM_LATITUDE = -4.85699
  MINIMUM_LATITUDE = -4.96685
  POSITIVE_LONGITUDE_DIRECTION = EAST
  REFERENCE_LATITUDE = "N/A"
  REFERENCE_LONGITUDE = "N/A"
  SAMPLE_FIRST_PIXEL = 1
  SAMPLE_LAST_PIXEL = 1386
  SAMPLE_PROJECTION_OFFSET = 922.0
  SECOND_STANDARD_PARALLEL = "N/A"
  WESTERNMOST_LONGITUDE = 0.019518
END_OBJECT = IMAGE_MAP_PROJECTION
/* The JPEG2000 image data file associated with this label. */
OBJECT = COMPRESSED_FILE
  FILE_NAME = "HG859_0006_SR3.JP2"
  RECORD_TYPE = UNDEFINED
  FILE_RECORDS = UNK
  ENCODING_TYPE = "JP2"
  INTERCHANGE_FORMAT = BINARY
  UNCOMPRESSED_FILE_NAME = "HG859_0006_SR3.IMG"
  REQUIRED_STORAGE_BYTES = "1914066"
  ^DESCRIPTION = "JP2INFO.TXT"
END_OBJECT = COMPRESSED_FILE
END
