PDS_VERSION_ID = PDS3
/* FILE DATA ELEMENTS */
RECORD_TYPE = STREAM
/* POINTERS TO DATA OBJECTS */
^COMPRESSED_FILE = "HG862_0000_BL3.JP2"
/* IDENTIFICATION DATA ELEMENTS */
DATA_SET_ID = "MEX-M-HRSC-5-REFDR-MAPPROJECTED-V3.0"
DATA_SET_NAME = "MARS EXPRESS HRSC MAP PROJECTED REFDR V3.0"
DETECTOR_ID = MEX_HRSC_BLUE
EVENT_TYPE = "MARS-REGIONAL-MAPPING-Im-Fl-Gl"
INSTRUMENT_HOST_ID = MEX
INSTRUMENT_HOST_NAME = "MARS EXPRESS"
INSTRUMENT_ID = HRSC
INSTRUMENT_NAME = "HIGH RESOLUTION STEREO CAMERA"
MISSION_NAME = "MARS EXPRESS"
MISSION_PHASE_NAME = ME_Phase_36
PROCESSING_LEVEL_ID = 3
PRODUCT_CREATION_TIME = 2018-06-28T11:48:36.000Z
PRODUCT_ID = "HG862_0000_BL3.JP2"
RELEASE_ID = 0138
REVISION_ID = 0000
/* QUALITY DATA ELEMENTS */
DATA_QUALITY_ID = 1
DATA_QUALITY_DESC = "Data calculated based on original SPICE kernels"
/* TIME DATA ELEMENTS */
SPACECRAFT_CLOCK_START_COUNT = "1/0441207184.08261"
SPACECRAFT_CLOCK_STOP_COUNT = "1/0441207372.55278"
START_TIME = 2017-04-25T13:33:37.363Z
STOP_TIME = 2017-04-25T13:35:36.516Z
/* ORBITAL DATA ELEMENTS */
ASCENDING_NODE_LONGITUDE = 257.22
MAXIMUM_RESOLUTION = 55.6
FOOTPRINT_POINT_LATITUDE = (-38.1767,-38.1763,-38.1755,-38.1742, -38.1725,-38.1703,-38.149,-37.9986, -37.7729,-37.6226,-37.4723,-37.3219, -37.1716,-37.0215,-36.7963,-36.5711, -36.4211,-36.1961,-36.0461,-35.8962, -35.7463,-35.5965,-35.4468,-35.2224, -35.0727,-34.9232,-34.6991,-34.4746, -34.3252,-34.1759,-34.0266,-33.8773, -33.6535,-33.5045,-33.2812,-33.1322, -32.984,-32.7619,-32.6128,-32.4642, -32.1682,-32.0196,-31.8496,-31.6725, -31.4955,-31.3187,-31.1419,-30.8778, -30.701,-30.4274,-30.4276,-30.4278, -30.4275,-30.4272,-30.4264,-30.4252, -30.6908,-30.9546,-31.1307,-31.308, -31.4858,-31.6625,-31.8398,-32.012, -32.1611,-32.309,-32.4576,-32.6059, -32.7538,-32.9026,-33.0518,-33.2009, -33.4248,-33.5741,-33.7983,-33.9477, -34.0973,-34.3218,-34.4716,-34.6212, -34.7709,-34.9207,-35.0704,-35.2202, -35.3701,-35.5949,-35.745,-35.895, -36.0451,-36.2704,-36.4206,-36.6461, -36.7965,-36.9468,-37.0974,-37.323, -37.4736,-37.6994,-37.925,-38.1767)
FOOTPRINT_POINT_LONGITUDE = (55.4011,55.1773,54.9546,54.7329, 54.5126,54.2934,53.9671,53.9699,53.9739 ,53.9766,53.9791,53.9816,53.984,53.9864 ,53.9897,53.993,53.995,53.998,53.9999, 54.0017,54.0034,54.0051,54.0067,54.0092 ,54.0106,54.012,54.0141,54.0158,54.0169 ,54.018,54.019,54.02,54.0213,54.0221, 54.0234,54.024,54.0251,54.0266,54.0268, 54.0273,54.0287,54.0288,54.0293,54.0294 ,54.0295,54.0295,54.0294,54.0298, 54.0293,54.0989,54.3406,54.6121,54.8134 ,54.9866,55.2325,55.5729,55.5698, 55.5723,55.574,55.5721,55.5689,55.5695, 55.5684,55.5668,55.5647,55.5661,55.5661 ,55.5668,55.5691,55.5685,55.5673, 55.5661,55.5641,55.5629,55.5606,55.5595 ,55.5579,55.5553,55.5535,55.5523, 55.5511,55.5499,55.5488,55.5476,55.5463 ,55.5444,55.543,55.5418,55.5401,55.5379 ,55.5363,55.5337,55.5319,55.5303, 55.5283,55.5261,55.5241,55.5213,55.5197 ,55.4011)
ORBIT_NUMBER = 16862
ORBITAL_ECCENTRICITY = 0.578
ORBITAL_INCLINATION = 86.96
ORBITAL_SEMIMAJOR_AXIS = 8807.79
PERIAPSIS_ALTITUDE = 328.14
PERIAPSIS_ARGUMENT_ANGLE = 312.73
PERIAPSIS_TIME = 2017-04-25T13:31:25.000Z
SPACECRAFT_ORIENTATION = (0.0,1.0,0.0)
^MEX_ORIENTATION_DESC = "MEX_ORIENTATION_DESC.TXT"
SPACECRAFT_POINTING_MODE = ACROSSTRACK
^MEX_POINTING_DESC = "MEX_POINTING_DESC.TXT"
RIGHT_ASCENSION = -1e+32
DECLINATION = -1e+32
OFFSET_ANGLE = -0.4
SPACECRAFT_SOLAR_DISTANCE = 2.31126e+08
TARGET_NAME = MARS
/* CAMERA DATA ELEMENTS */
DETECTOR_TEMPERATURE = 18.5744
FOCAL_PLANE_TEMPERATURE = 8.3794
INST_CMPRS_NAME = "DISCRETE COSINE TRANSFORMATION (DCT)"
INST_CMPRS_RATIO = 9.65859
INST_CMPRS_QUALITY = 0
INST_CMPRS_QUANTZ_TBL_ID = 0
INSTRUMENT_TEMPERATURE = 11.8457
LENS_TEMPERATURE = 9.195
MACROPIXEL_SIZE = 4
MISSING_FRAMES = 0
PIXEL_SUBSAMPLING_FLAG = N
SIGNAL_CHAIN_ID = 2
/* RADIOMETRIC DATA ELEMENTS */
BANDWIDTH = 76.0
CENTER_FILTER_WAVELENGTH = 444.0
RADIANCE_OFFSET = 0.668529
RADIANCE_SCALING_FACTOR = 0.00114468
REFLECTANCE_SCALING_FACTOR = 6.28259e-05
MEX:REFLECTANCE_OFFSET = 0.0366924
/* IMAGE OBJECT DEFINITIONS */
OBJECT = IMAGE
  INTERCHANGE_FORMAT = BINARY
  LINES = 9193
  LINE_SAMPLES = 1656
  SAMPLE_TYPE = UNSIGNED_INTEGER
  SAMPLE_BITS = 8
  BANDS = 1
  BAND_STORAGE_TYPE = BAND_SEQUENTIAL
  MAXIMUM = 254
  MEAN = 168.16
  MINIMUM = 1
  STANDARD_DEVIATION = 31.7794
END_OBJECT = IMAGE
/* MAP OBJECT DEFINITIONS */
OBJECT = IMAGE_MAP_PROJECTION
  ^DATA_SET_MAP_PROJECTION_CATALOG= "DSMAP.CAT"
  A_AXIS_RADIUS = 3396.0
  B_AXIS_RADIUS = 3396.0
  C_AXIS_RADIUS = 3396.0
  CENTER_LATITUDE = 0.0
  CENTER_LONGITUDE = 55.0
  COORDINATE_SYSTEM_NAME = PLANETOGRAPHIC
  COORDINATE_SYSTEM_TYPE = "BODY-FIXED ROTATING"
  EASTERNMOST_LONGITUDE = 55.574
  FIRST_STANDARD_PARALLEL = "N/A"
  LINE_FIRST_PIXEL = 1
  LINE_LAST_PIXEL = 9193
  LINE_PROJECTION_OFFSET = -36067.875
  MAP_PROJECTION_ROTATION = 0.0
  MAP_PROJECTION_TYPE = SINUSOIDAL
  MAP_RESOLUTION = 1185.42760773333
  MAP_SCALE = 0.05
  MAXIMUM_LATITUDE = -30.4252
  MINIMUM_LATITUDE = -38.1767
  POSITIVE_LONGITUDE_DIRECTION = EAST
  REFERENCE_LATITUDE = "N/A"
  REFERENCE_LONGITUDE = "N/A"
  SAMPLE_FIRST_PIXEL = 1
  SAMPLE_LAST_PIXEL = 1656
  SAMPLE_PROJECTION_OFFSET = 1019.375
  SECOND_STANDARD_PARALLEL = "N/A"
  WESTERNMOST_LONGITUDE = 53.9671
END_OBJECT = IMAGE_MAP_PROJECTION
/* The JPEG2000 image data file associated with this label. */
OBJECT = COMPRESSED_FILE
  FILE_NAME = "HG862_0000_BL3.JP2"
  RECORD_TYPE = UNDEFINED
  FILE_RECORDS = UNK
  ENCODING_TYPE = "JP2"
  INTERCHANGE_FORMAT = BINARY
  UNCOMPRESSED_FILE_NAME = "HG862_0000_BL3.IMG"
  REQUIRED_STORAGE_BYTES = "15243480"
  ^DESCRIPTION = "JP2INFO.TXT"
END_OBJECT = COMPRESSED_FILE
END
