PDS_VERSION_ID = PDS3
/* FILE DATA ELEMENTS */
RECORD_TYPE = STREAM
/* POINTERS TO DATA OBJECTS */
^COMPRESSED_FILE = "HG864_0000_ND3.JP2"
/* IDENTIFICATION DATA ELEMENTS */
DATA_SET_ID = "MEX-M-HRSC-5-REFDR-MAPPROJECTED-V3.0"
DATA_SET_NAME = "MARS EXPRESS HRSC MAP PROJECTED REFDR V3.0"
DETECTOR_ID = MEX_HRSC_NADIR
EVENT_TYPE = "MARS-LOCAL-STEREO-Fl-Gl-Pf"
INSTRUMENT_HOST_ID = MEX
INSTRUMENT_HOST_NAME = "MARS EXPRESS"
INSTRUMENT_ID = HRSC
INSTRUMENT_NAME = "HIGH RESOLUTION STEREO CAMERA"
MISSION_NAME = "MARS EXPRESS"
MISSION_PHASE_NAME = ME_Phase_36
PROCESSING_LEVEL_ID = 3
PRODUCT_CREATION_TIME = 2018-06-28T11:48:36.000Z
PRODUCT_ID = "HG864_0000_ND3.JP2"
RELEASE_ID = 0138
REVISION_ID = 0000
/* QUALITY DATA ELEMENTS */
DATA_QUALITY_ID = 1
DATA_QUALITY_DESC = "Data calculated based on original SPICE kernels"
/* TIME DATA ELEMENTS */
SPACECRAFT_CLOCK_START_COUNT = "1/0441257385.07359"
SPACECRAFT_CLOCK_STOP_COUNT = "1/0441257515.40432"
START_TIME = 2017-04-26T03:30:23.006Z
STOP_TIME = 2017-04-26T03:31:32.024Z
/* ORBITAL DATA ELEMENTS */
ASCENDING_NODE_LONGITUDE = 257.19
MAXIMUM_RESOLUTION = 13
FOOTPRINT_POINT_LATITUDE = (-49.0138,-49.0063,-48.9982,-48.9894, -48.9799,-48.9717,-48.917,-48.737, -48.5121,-48.422,-48.242,-48.1519, -48.0618,-47.9718,-47.8369,-47.7469, -47.6568,-47.5665,-47.4762,-47.3862, -47.2961,-47.206,-47.0709,-46.9808, -46.8907,-46.7556,-46.6656,-46.4857, -46.3506,-46.2605,-46.1704,-46.0803, -45.9451,-45.8549,-45.7648,-45.6747, -45.5397,-45.4496,-45.2694,-45.1793, -44.9991,-44.864,-44.6839,-44.5037, -44.4492,-44.4534,-44.4574,-44.4613, -44.4655,-44.469,-44.4776,-44.4835, -44.4888,-44.5791,-44.7146,-44.8049, -44.8952,-44.9855,-45.0758,-45.1661, -45.2564,-45.3919,-45.4822,-45.5725, -45.6629,-45.7532,-45.8435,-45.9338, -46.0242,-46.1597,-46.2501,-46.3404, -46.4308,-46.5663,-46.7018,-46.7921, -46.8825,-46.9728,-47.0632,-47.1535, -47.2891,-47.3794,-47.4698,-47.56, -47.6503,-47.7406,-47.8309,-47.9213, -48.0568,-48.1471,-48.2374,-48.3278, -48.4182,-48.5085,-48.6439,-48.7342, -48.8245,-48.9148,-49.0051,-49.0138)
FOOTPRINT_POINT_LONGITUDE = (209.172,208.907,208.64,208.371,208.102 ,207.881,207.667,207.684,207.707, 207.715,207.732,207.739,207.746,207.754 ,207.769,207.778,207.784,207.789, 207.793,207.802,207.808,207.815,207.826 ,207.834,207.841,207.852,207.86,207.879 ,207.89,207.896,207.902,207.909,207.918 ,207.924,207.929,207.936,207.947, 207.954,207.966,207.972,207.984,207.993 ,208.005,208.017,208.149,208.278, 208.406,208.533,208.676,208.803,209.135 ,209.386,209.628,209.624,209.619, 209.615,209.611,209.607,209.603,209.599 ,209.595,209.589,209.585,209.581, 209.577,209.573,209.569,209.565,209.561 ,209.554,209.55,209.546,209.542,209.535 ,209.529,209.524,209.52,209.516,209.511 ,209.507,209.5,209.495,209.491,209.487, 209.483,209.479,209.474,209.469,209.462 ,209.458,209.453,209.448,209.442, 209.437,209.431,209.426,209.421,209.416 ,209.411,209.172)
ORBIT_NUMBER = 16864
ORBITAL_ECCENTRICITY = 0.578
ORBITAL_INCLINATION = 86.96
ORBITAL_SEMIMAJOR_AXIS = 8803.47
PERIAPSIS_ALTITUDE = 327.96
PERIAPSIS_ARGUMENT_ANGLE = 312.37
PERIAPSIS_TIME = 2017-04-26T03:30:46.000Z
SPACECRAFT_ORIENTATION = (0.0,1.0,0.0)
^MEX_ORIENTATION_DESC = "MEX_ORIENTATION_DESC.TXT"
SPACECRAFT_POINTING_MODE = ACROSSTRACK
^MEX_POINTING_DESC = "MEX_POINTING_DESC.TXT"
RIGHT_ASCENSION = -1e+32
DECLINATION = -1e+32
OFFSET_ANGLE = 0.4
SPACECRAFT_SOLAR_DISTANCE = 2.31237e+08
TARGET_NAME = MARS
/* CAMERA DATA ELEMENTS */
DETECTOR_TEMPERATURE = 18.5744
FOCAL_PLANE_TEMPERATURE = 7.7677
INST_CMPRS_NAME = "DISCRETE COSINE TRANSFORMATION (DCT)"
INST_CMPRS_RATIO = 5.93399
INST_CMPRS_QUALITY = 0
INST_CMPRS_QUANTZ_TBL_ID = 0
INSTRUMENT_TEMPERATURE = 11.234
LENS_TEMPERATURE = 7.9716
MACROPIXEL_SIZE = 1
MISSING_FRAMES = 0
PIXEL_SUBSAMPLING_FLAG = N
SIGNAL_CHAIN_ID = 0
/* RADIOMETRIC DATA ELEMENTS */
BANDWIDTH = 177.0
CENTER_FILTER_WAVELENGTH = 677.5
RADIANCE_OFFSET = 2.29829
RADIANCE_SCALING_FACTOR = 0.0172421
REFLECTANCE_SCALING_FACTOR = 0.000489767
MEX:REFLECTANCE_OFFSET = 0.0652837
/* IMAGE OBJECT DEFINITIONS */
OBJECT = IMAGE
  INTERCHANGE_FORMAT = BINARY
  LINES = 21677
  LINE_SAMPLES = 6434
  SAMPLE_TYPE = UNSIGNED_INTEGER
  SAMPLE_BITS = 8
  BANDS = 1
  BAND_STORAGE_TYPE = BAND_SEQUENTIAL
  MAXIMUM = 255
  MEAN = 139.696
  MINIMUM = 1
  STANDARD_DEVIATION = 22.7658
END_OBJECT = IMAGE
/* MAP OBJECT DEFINITIONS */
OBJECT = IMAGE_MAP_PROJECTION
  ^DATA_SET_MAP_PROJECTION_CATALOG= "DSMAP.CAT"
  A_AXIS_RADIUS = 3396.0
  B_AXIS_RADIUS = 3396.0
  C_AXIS_RADIUS = 3396.0
  CENTER_LATITUDE = 0.0
  CENTER_LONGITUDE = 209.0
  COORDINATE_SYSTEM_NAME = PLANETOGRAPHIC
  COORDINATE_SYSTEM_TYPE = "BODY-FIXED ROTATING"
  EASTERNMOST_LONGITUDE = 209.628
  FIRST_STANDARD_PARALLEL = "N/A"
  LINE_FIRST_PIXEL = 1
  LINE_LAST_PIXEL = 21677
  LINE_PROJECTION_OFFSET = -210753.0
  MAP_PROJECTION_ROTATION = 0.0
  MAP_PROJECTION_TYPE = SINUSOIDAL
  MAP_RESOLUTION = 4741.71043093333
  MAP_SCALE = 0.0125
  MAXIMUM_LATITUDE = -44.4492
  MINIMUM_LATITUDE = -49.0138
  POSITIVE_LONGITUDE_DIRECTION = EAST
  REFERENCE_LATITUDE = "N/A"
  REFERENCE_LONGITUDE = "N/A"
  SAMPLE_FIRST_PIXEL = 1
  SAMPLE_LAST_PIXEL = 6434
  SAMPLE_PROJECTION_OFFSET = 4272.0
  SECOND_STANDARD_PARALLEL = "N/A"
  WESTERNMOST_LONGITUDE = 207.667
END_OBJECT = IMAGE_MAP_PROJECTION
/* The JPEG2000 image data file associated with this label. */
OBJECT = COMPRESSED_FILE
  FILE_NAME = "HG864_0000_ND3.JP2"
  RECORD_TYPE = UNDEFINED
  FILE_RECORDS = UNK
  ENCODING_TYPE = "JP2"
  INTERCHANGE_FORMAT = BINARY
  UNCOMPRESSED_FILE_NAME = "HG864_0000_ND3.IMG"
  REQUIRED_STORAGE_BYTES = "139501988"
  ^DESCRIPTION = "JP2INFO.TXT"
END_OBJECT = COMPRESSED_FILE
END
