PDS_VERSION_ID = PDS3
/* FILE DATA ELEMENTS */
RECORD_TYPE = STREAM
/* POINTERS TO DATA OBJECTS */
^COMPRESSED_FILE = "HG867_0000_P23.JP2"
/* IDENTIFICATION DATA ELEMENTS */
DATA_SET_ID = "MEX-M-HRSC-5-REFDR-MAPPROJECTED-V3.0"
DATA_SET_NAME = "MARS EXPRESS HRSC MAP PROJECTED REFDR V3.0"
DETECTOR_ID = MEX_HRSC_P2
EVENT_TYPE = "MARS-LOCAL-STEREO-Te"
INSTRUMENT_HOST_ID = MEX
INSTRUMENT_HOST_NAME = "MARS EXPRESS"
INSTRUMENT_ID = HRSC
INSTRUMENT_NAME = "HIGH RESOLUTION STEREO CAMERA"
MISSION_NAME = "MARS EXPRESS"
MISSION_PHASE_NAME = ME_Phase_36
PROCESSING_LEVEL_ID = 3
PRODUCT_CREATION_TIME = 2018-06-28T11:48:36.000Z
PRODUCT_ID = "HG867_0000_P23.JP2"
RELEASE_ID = 0138
REVISION_ID = 0000
/* QUALITY DATA ELEMENTS */
DATA_QUALITY_ID = 1
DATA_QUALITY_DESC = "Data calculated based on original SPICE kernels"
/* TIME DATA ELEMENTS */
SPACECRAFT_CLOCK_START_COUNT = "1/0441333006.09048"
SPACECRAFT_CLOCK_STOP_COUNT = "1/0441333214.42139"
START_TIME = 2017-04-27T00:30:24.188Z
STOP_TIME = 2017-04-27T00:32:46.569Z
/* ORBITAL DATA ELEMENTS */
ASCENDING_NODE_LONGITUDE = 257.13
MAXIMUM_RESOLUTION = 26.7
FOOTPRINT_POINT_LATITUDE = (-45.1054,-45.1001,-45.0904,-45.0773, -44.9526,-44.7735,-44.5945,-44.4155, -44.2365,-43.9595,-43.7743,-43.5892, -43.4041,-43.2195,-43.0354,-42.8518, -42.6693,-42.4858,-42.3013,-42.1162, -41.9299,-41.7456,-41.561,-41.3745, -41.1891,-41.0031,-40.818,-40.5452, -40.3601,-40.1764,-39.9885,-39.7998, -39.5189,-39.2403,-38.9623,-38.7785, -38.4953,-38.3042,-38.1111,-37.9203, -37.7289,-37.4428,-37.2499,-36.9608, -36.7688,-36.4804,-36.288,-36.0959, -35.9038,-35.7121,-35.6819,-35.6868, -35.6888,-35.6916,-35.6943,-35.8864, -36.0784,-36.2707,-36.4631,-36.6559, -36.945,-37.1383,-37.429,-37.7145, -37.906,-38.0981,-38.2903,-38.4828, -38.675,-38.8609,-39.0465,-39.2323, -39.4185,-39.6042,-39.8828,-40.0685, -40.2543,-40.4402,-40.6263,-40.8123, -41.0923,-41.2787,-41.5548,-41.7413, -41.928,-42.1156,-42.3966,-42.5722, -42.8477,-43.0334,-43.2194,-43.4971, -43.6818,-43.8675,-44.0533,-44.2387, -44.4186,-44.6876,-44.8671,-45.1054)
FOOTPRINT_POINT_LONGITUDE = (263.062,262.772,262.344,261.872, 261.643,261.653,261.663,261.673,261.682 ,261.697,261.707,261.716,261.726, 261.735,261.745,261.755,261.765,261.775 ,261.784,261.792,261.799,261.808, 261.816,261.823,261.831,261.838,261.845 ,261.859,261.866,261.873,261.878, 261.883,261.891,261.9,261.909,261.915, 261.924,261.93,261.934,261.94,261.945, 261.953,261.957,261.963,261.967,261.973 ,261.977,261.981,261.984,261.988, 262.361,262.662,262.863,263.122,263.472 ,263.468,263.464,263.461,263.457, 263.453,263.447,263.442,263.435,263.431 ,263.428,263.424,263.42,263.415,263.411 ,263.407,263.403,263.399,263.395, 263.391,263.385,263.38,263.376,263.372, 263.367,263.363,263.355,263.35,263.345, 263.339,263.334,263.328,263.319,263.32, 263.315,263.309,263.304,263.296,263.291 ,263.286,263.28,263.275,263.269,263.26, 263.255,263.062)
ORBIT_NUMBER = 16867
ORBITAL_ECCENTRICITY = 0.578
ORBITAL_INCLINATION = 86.95
ORBITAL_SEMIMAJOR_AXIS = 8806.54
PERIAPSIS_ALTITUDE = 327.85
PERIAPSIS_ARGUMENT_ANGLE = 311.85
PERIAPSIS_TIME = 2017-04-27T00:29:58.000Z
SPACECRAFT_ORIENTATION = (0.0,1.0,0.0)
^MEX_ORIENTATION_DESC = "MEX_ORIENTATION_DESC.TXT"
SPACECRAFT_POINTING_MODE = NADIR
^MEX_POINTING_DESC = "MEX_POINTING_DESC.TXT"
RIGHT_ASCENSION = -1e+32
DECLINATION = -1e+32
OFFSET_ANGLE = -1e+32
SPACECRAFT_SOLAR_DISTANCE = 2.31403e+08
TARGET_NAME = MARS
/* CAMERA DATA ELEMENTS */
DETECTOR_TEMPERATURE = 18.3705
FOCAL_PLANE_TEMPERATURE = 8.3794
INST_CMPRS_NAME = "DISCRETE COSINE TRANSFORMATION (DCT)"
INST_CMPRS_RATIO = 6.33559
INST_CMPRS_QUALITY = 0
INST_CMPRS_QUANTZ_TBL_ID = 0
INSTRUMENT_TEMPERATURE = 11.234
LENS_TEMPERATURE = 8.5833
MACROPIXEL_SIZE = 2
MISSING_FRAMES = 0
PIXEL_SUBSAMPLING_FLAG = N
SIGNAL_CHAIN_ID = 3
/* RADIOMETRIC DATA ELEMENTS */
BANDWIDTH = 177.0
CENTER_FILTER_WAVELENGTH = 676.5
RADIANCE_OFFSET = 2.55559
RADIANCE_SCALING_FACTOR = 0.017594
REFLECTANCE_SCALING_FACTOR = 0.000499528
MEX:REFLECTANCE_OFFSET = 0.072558
/* IMAGE OBJECT DEFINITIONS */
OBJECT = IMAGE
  INTERCHANGE_FORMAT = BINARY
  LINES = 22334
  LINE_SAMPLES = 3345
  SAMPLE_TYPE = UNSIGNED_INTEGER
  SAMPLE_BITS = 8
  BANDS = 1
  BAND_STORAGE_TYPE = BAND_SEQUENTIAL
  MAXIMUM = 255
  MEAN = 119.961
  MINIMUM = 1
  STANDARD_DEVIATION = 25.5039
END_OBJECT = IMAGE
/* MAP OBJECT DEFINITIONS */
OBJECT = IMAGE_MAP_PROJECTION
  ^DATA_SET_MAP_PROJECTION_CATALOG= "DSMAP.CAT"
  A_AXIS_RADIUS = 3396.0
  B_AXIS_RADIUS = 3396.0
  C_AXIS_RADIUS = 3396.0
  CENTER_LATITUDE = 0.0
  CENTER_LONGITUDE = 263.0
  COORDINATE_SYSTEM_NAME = PLANETOGRAPHIC
  COORDINATE_SYSTEM_TYPE = "BODY-FIXED ROTATING"
  EASTERNMOST_LONGITUDE = 263.472
  FIRST_STANDARD_PARALLEL = "N/A"
  LINE_FIRST_PIXEL = 1
  LINE_LAST_PIXEL = 22334
  LINE_PROJECTION_OFFSET = -84503.75
  MAP_PROJECTION_ROTATION = 0.0
  MAP_PROJECTION_TYPE = SINUSOIDAL
  MAP_RESOLUTION = 2370.85521546667
  MAP_SCALE = 0.025
  MAXIMUM_LATITUDE = -35.6819
  MINIMUM_LATITUDE = -45.1054
  POSITIVE_LONGITUDE_DIRECTION = EAST
  REFERENCE_LATITUDE = "N/A"
  REFERENCE_LONGITUDE = "N/A"
  SAMPLE_FIRST_PIXEL = 1
  SAMPLE_LAST_PIXEL = 3345
  SAMPLE_PROJECTION_OFFSET = 2340.75
  SECOND_STANDARD_PARALLEL = "N/A"
  WESTERNMOST_LONGITUDE = 261.643
END_OBJECT = IMAGE_MAP_PROJECTION
/* The JPEG2000 image data file associated with this label. */
OBJECT = COMPRESSED_FILE
  FILE_NAME = "HG867_0000_P23.JP2"
  RECORD_TYPE = UNDEFINED
  FILE_RECORDS = UNK
  ENCODING_TYPE = "JP2"
  INTERCHANGE_FORMAT = BINARY
  UNCOMPRESSED_FILE_NAME = "HG867_0000_P23.IMG"
  REQUIRED_STORAGE_BYTES = "74730645"
  ^DESCRIPTION = "JP2INFO.TXT"
END_OBJECT = COMPRESSED_FILE
END
