PDS_VERSION_ID = PDS3
/* FILE DATA ELEMENTS */
RECORD_TYPE = STREAM
/* POINTERS TO DATA OBJECTS */
^COMPRESSED_FILE = "HG869_0000_BL3.JP2"
/* IDENTIFICATION DATA ELEMENTS */
DATA_SET_ID = "MEX-M-HRSC-5-REFDR-MAPPROJECTED-V3.0"
DATA_SET_NAME = "MARS EXPRESS HRSC MAP PROJECTED REFDR V3.0"
DETECTOR_ID = MEX_HRSC_BLUE
EVENT_TYPE = "MARS-REGIONAL-MAPPING-Vo-Im-Fl"
INSTRUMENT_HOST_ID = MEX
INSTRUMENT_HOST_NAME = "MARS EXPRESS"
INSTRUMENT_ID = HRSC
INSTRUMENT_NAME = "HIGH RESOLUTION STEREO CAMERA"
MISSION_NAME = "MARS EXPRESS"
MISSION_PHASE_NAME = ME_Phase_36
PROCESSING_LEVEL_ID = 3
PRODUCT_CREATION_TIME = 2018-06-28T11:48:36.000Z
PRODUCT_ID = "HG869_0000_BL3.JP2"
RELEASE_ID = 0138
REVISION_ID = 0000
/* QUALITY DATA ELEMENTS */
DATA_QUALITY_ID = 1
DATA_QUALITY_DESC = "Data calculated based on original SPICE kernels"
/* TIME DATA ELEMENTS */
SPACECRAFT_CLOCK_START_COUNT = "1/0441383232.08274"
SPACECRAFT_CLOCK_STOP_COUNT = "1/0441383446.23204"
START_TIME = 2017-04-27T14:27:46.447Z
STOP_TIME = 2017-04-27T14:30:17.713Z
/* ORBITAL DATA ELEMENTS */
ASCENDING_NODE_LONGITUDE = 257.09
MAXIMUM_RESOLUTION = 53.4
FOOTPRINT_POINT_LATITUDE = (-54.1606,-54.1469,-54.1323,-54.1168, -54.1004,-54.0797,-53.9552,-53.6544, -53.4538,-53.2529,-53.0517,-52.7509, -52.5563,-52.3616,-52.0696,-51.7775, -51.5826,-51.3875,-51.1923,-50.9971, -50.802,-50.5094,-50.3143,-50.119, -49.9234,-49.6303,-49.4347,-49.2392, -49.0436,-48.8478,-48.6521,-48.4564, -48.1629,-47.9672,-47.6726,-47.4765, -47.1826,-46.9866,-46.7907,-46.5948, -46.3986,-46.2027,-46.0067,-45.8112, -45.5173,-45.2233,-44.93,-44.7344, -44.4409,-44.2445,-44.199,-44.2163, -44.2275,-44.2411,-44.2502,-44.2578, -44.4544,-44.651,-44.8477,-45.0443, -45.3393,-45.6339,-45.8306,-46.1254, -46.4201,-46.7148,-46.9112,-47.1071, -47.304,-47.5007,-47.7954,-47.9916, -48.188,-48.3846,-48.6794,-48.9743, -49.1708,-49.367,-49.5633,-49.8578, -50.152,-50.3481,-50.6423,-50.8382, -51.0341,-51.328,-51.5237,-51.7195, -51.9153,-52.1111,-52.3068,-52.6001, -52.7958,-52.9952,-53.1971,-53.5, -53.7017,-53.9033,-54.105,-54.1606)
FOOTPRINT_POINT_LONGITUDE = (56.3792,56.0893,55.7965,55.5011, 55.2024,54.8435,54.7448,54.7916,54.8225 ,54.8517,54.8799,54.9231,54.9504, 54.9776,55.0181,55.058,55.0839,55.1086, 55.133,55.157,55.1816,55.2186,55.2427, 55.2659,55.2878,55.3218,55.3433,55.3651 ,55.3861,55.4065,55.427,55.4475,55.4782 ,55.4982,55.5233,55.5408,55.5683, 55.5863,55.6043,55.6225,55.6388,55.6563 ,55.6732,55.6922,55.7172,55.741,55.7677 ,55.7848,55.8095,55.8228,56.0344, 56.4169,56.6834,57.0387,57.2978,57.4995 ,57.489,57.4785,57.4679,57.4571,57.4408 ,57.4238,57.4126,57.3953,57.3776, 57.3597,57.3474,57.3346,57.3227,57.3104 ,57.2914,57.2783,57.2653,57.2523, 57.2326,57.2127,57.1991,57.1852,57.1712 ,57.1499,57.1281,57.1134,57.0911, 57.0758,57.0605,57.0371,57.0211,57.0051 ,56.989,56.9728,56.9562,56.9309,56.9141 ,56.8965,56.8784,56.851,56.8324,56.8135 ,56.7944,56.3792)
ORBIT_NUMBER = 16869
ORBITAL_ECCENTRICITY = 0.578
ORBITAL_INCLINATION = 86.96
ORBITAL_SEMIMAJOR_AXIS = 8805.5
PERIAPSIS_ALTITUDE = 327.85
PERIAPSIS_ARGUMENT_ANGLE = 311.53
PERIAPSIS_TIME = 2017-04-27T14:29:21.000Z
SPACECRAFT_ORIENTATION = (0.0,1.0,0.0)
^MEX_ORIENTATION_DESC = "MEX_ORIENTATION_DESC.TXT"
SPACECRAFT_POINTING_MODE = ACROSSTRACK
^MEX_POINTING_DESC = "MEX_POINTING_DESC.TXT"
RIGHT_ASCENSION = -1e+32
DECLINATION = -1e+32
OFFSET_ANGLE = 0.83
SPACECRAFT_SOLAR_DISTANCE = 2.31513e+08
TARGET_NAME = MARS
/* CAMERA DATA ELEMENTS */
DETECTOR_TEMPERATURE = 18.3705
FOCAL_PLANE_TEMPERATURE = 7.9716
INST_CMPRS_NAME = "DISCRETE COSINE TRANSFORMATION (DCT)"
INST_CMPRS_RATIO = 5.71707
INST_CMPRS_QUALITY = 0
INST_CMPRS_QUANTZ_TBL_ID = 0
INSTRUMENT_TEMPERATURE = 11.6418
LENS_TEMPERATURE = 8.3794
MACROPIXEL_SIZE = 4
MISSING_FRAMES = 0
PIXEL_SUBSAMPLING_FLAG = N
SIGNAL_CHAIN_ID = 2
/* RADIOMETRIC DATA ELEMENTS */
BANDWIDTH = 76.0
CENTER_FILTER_WAVELENGTH = 444.0
RADIANCE_OFFSET = 0.603906
RADIANCE_SCALING_FACTOR = 0.00135329
REFLECTANCE_SCALING_FACTOR = 7.45244e-05
MEX:REFLECTANCE_OFFSET = 0.0332565
/* IMAGE OBJECT DEFINITIONS */
OBJECT = IMAGE
  INTERCHANGE_FORMAT = BINARY
  LINES = 11789
  LINE_SAMPLES = 2208
  SAMPLE_TYPE = UNSIGNED_INTEGER
  SAMPLE_BITS = 8
  BANDS = 1
  BAND_STORAGE_TYPE = BAND_SEQUENTIAL
  MAXIMUM = 254
  MEAN = 133.231
  MINIMUM = 1
  STANDARD_DEVIATION = 39.0146
END_OBJECT = IMAGE
/* MAP OBJECT DEFINITIONS */
OBJECT = IMAGE_MAP_PROJECTION
  ^DATA_SET_MAP_PROJECTION_CATALOG= "DSMAP.CAT"
  A_AXIS_RADIUS = 3396.0
  B_AXIS_RADIUS = 3396.0
  C_AXIS_RADIUS = 3396.0
  CENTER_LATITUDE = 0.0
  CENTER_LONGITUDE = 56.0
  COORDINATE_SYSTEM_NAME = PLANETOGRAPHIC
  COORDINATE_SYSTEM_TYPE = "BODY-FIXED ROTATING"
  EASTERNMOST_LONGITUDE = 57.4995
  FIRST_STANDARD_PARALLEL = "N/A"
  LINE_FIRST_PIXEL = 1
  LINE_LAST_PIXEL = 11789
  LINE_PROJECTION_OFFSET = -52421.375
  MAP_PROJECTION_ROTATION = 0.0
  MAP_PROJECTION_TYPE = SINUSOIDAL
  MAP_RESOLUTION = 1185.42760773333
  MAP_SCALE = 0.05
  MAXIMUM_LATITUDE = -44.199
  MINIMUM_LATITUDE = -54.1606
  POSITIVE_LONGITUDE_DIRECTION = EAST
  REFERENCE_LATITUDE = "N/A"
  REFERENCE_LONGITUDE = "N/A"
  SAMPLE_FIRST_PIXEL = 1
  SAMPLE_LAST_PIXEL = 2208
  SAMPLE_PROJECTION_OFFSET = 916.875
  SECOND_STANDARD_PARALLEL = "N/A"
  WESTERNMOST_LONGITUDE = 54.7448
END_OBJECT = IMAGE_MAP_PROJECTION
/* The JPEG2000 image data file associated with this label. */
OBJECT = COMPRESSED_FILE
  FILE_NAME = "HG869_0000_BL3.JP2"
  RECORD_TYPE = UNDEFINED
  FILE_RECORDS = UNK
  ENCODING_TYPE = "JP2"
  INTERCHANGE_FORMAT = BINARY
  UNCOMPRESSED_FILE_NAME = "HG869_0000_BL3.IMG"
  REQUIRED_STORAGE_BYTES = "26052192"
  ^DESCRIPTION = "JP2INFO.TXT"
END_OBJECT = COMPRESSED_FILE
END
