PDS_VERSION_ID = PDS3
/* FILE DATA ELEMENTS */
RECORD_TYPE = STREAM
/* POINTERS TO DATA OBJECTS */
^COMPRESSED_FILE = "HG869_0000_RE3.JP2"
/* IDENTIFICATION DATA ELEMENTS */
DATA_SET_ID = "MEX-M-HRSC-5-REFDR-MAPPROJECTED-V3.0"
DATA_SET_NAME = "MARS EXPRESS HRSC MAP PROJECTED REFDR V3.0"
DETECTOR_ID = MEX_HRSC_RED
EVENT_TYPE = "MARS-REGIONAL-MAPPING-Vo-Im-Fl"
INSTRUMENT_HOST_ID = MEX
INSTRUMENT_HOST_NAME = "MARS EXPRESS"
INSTRUMENT_ID = HRSC
INSTRUMENT_NAME = "HIGH RESOLUTION STEREO CAMERA"
MISSION_NAME = "MARS EXPRESS"
MISSION_PHASE_NAME = ME_Phase_36
PROCESSING_LEVEL_ID = 3
PRODUCT_CREATION_TIME = 2018-06-28T11:48:36.000Z
PRODUCT_ID = "HG869_0000_RE3.JP2"
RELEASE_ID = 0138
REVISION_ID = 0000
/* QUALITY DATA ELEMENTS */
DATA_QUALITY_ID = 1
DATA_QUALITY_DESC = "Data calculated based on original SPICE kernels"
/* TIME DATA ELEMENTS */
SPACECRAFT_CLOCK_START_COUNT = "1/0441383232.08274"
SPACECRAFT_CLOCK_STOP_COUNT = "1/0441383446.23204"
START_TIME = 2017-04-27T14:27:25.707Z
STOP_TIME = 2017-04-27T14:29:57.948Z
/* ORBITAL DATA ELEMENTS */
ASCENDING_NODE_LONGITUDE = 257.09
MAXIMUM_RESOLUTION = 55.8
FOOTPRINT_POINT_LATITUDE = (-54.2507,-54.2094,-54.1634,-54.1386, -54.0358,-53.8382,-53.6403,-53.4422, -53.2434,-53.0438,-52.7455,-52.4468, -52.1484,-51.9494,-51.7504,-51.5508, -51.3531,-51.1593,-50.8688,-50.6753, -50.4826,-50.1921,-49.9983,-49.8029, -49.6092,-49.4145,-49.2201,-48.9275, -48.7325,-48.5373,-48.3433,-48.1481, -47.9531,-47.7561,-47.5579,-47.3623, -47.0686,-46.8728,-46.6773,-46.4804, -46.2845,-46.0888,-45.7964,-45.6011, -45.4048,-45.1107,-44.9162,-44.6236, -44.428,-44.1542,-44.1859,-44.2118, -44.2415,-44.3705,-44.6663,-44.8638, -45.0609,-45.3569,-45.5528,-45.7496, -45.9466,-46.1431,-46.4372,-46.7313, -46.9265,-47.1203,-47.3176,-47.5146, -47.7112,-47.9063,-48.1017,-48.3962, -48.5929,-48.8869,-49.0828,-49.2783, -49.4735,-49.6689,-49.8644,-50.0596, -50.3515,-50.5466,-50.7413,-50.9352, -51.1297,-51.3239,-51.5173,-51.716, -51.9165,-52.1173,-52.3175,-52.6176, -52.818,-53.0182,-53.2177,-53.418, -53.6175,-53.9162,-54.1154,-54.2507)
FOOTPRINT_POINT_LONGITUDE = (56.5189,55.9284,55.3267,55.0212, 54.7031,54.7348,54.766,54.7966,54.8261, 54.8545,54.898,54.9405,54.9827,55.0104, 55.038,55.0646,55.0898,55.1145,55.1512, 55.1757,55.2009,55.2366,55.26,55.2815, 55.3046,55.3264,55.3484,55.3799,55.4007 ,55.4212,55.4427,55.4628,55.4829, 55.5005,55.5168,55.5356,55.5633,55.5816 ,55.6001,55.6167,55.6343,55.652,55.6796 ,55.6972,55.7137,55.7384,55.7565, 55.7821,55.7985,55.8177,56.2188,56.5515 ,57.0014,57.4887,57.4733,57.4629, 57.4523,57.4363,57.4252,57.4142,57.4032 ,57.3919,57.3747,57.3572,57.3452, 57.3328,57.321,57.309,57.2969,57.2843, 57.2716,57.2527,57.24,57.2205,57.2073, 57.1939,57.1803,57.1666,57.1528,57.1388 ,57.1174,57.103,57.0884,57.0735,57.0586 ,57.0434,57.028,57.0121,56.996,56.9797, 56.9631,56.9379,56.9209,56.9037,56.8862 ,56.8687,56.8507,56.8234,56.805, 56.5189)
ORBIT_NUMBER = 16869
ORBITAL_ECCENTRICITY = 0.578
ORBITAL_INCLINATION = 86.96
ORBITAL_SEMIMAJOR_AXIS = 8805.5
PERIAPSIS_ALTITUDE = 327.85
PERIAPSIS_ARGUMENT_ANGLE = 311.53
PERIAPSIS_TIME = 2017-04-27T14:29:21.000Z
SPACECRAFT_ORIENTATION = (0.0,1.0,0.0)
^MEX_ORIENTATION_DESC = "MEX_ORIENTATION_DESC.TXT"
SPACECRAFT_POINTING_MODE = ACROSSTRACK
^MEX_POINTING_DESC = "MEX_POINTING_DESC.TXT"
RIGHT_ASCENSION = -1e+32
DECLINATION = -1e+32
OFFSET_ANGLE = 0.83
SPACECRAFT_SOLAR_DISTANCE = 2.31513e+08
TARGET_NAME = MARS
/* CAMERA DATA ELEMENTS */
DETECTOR_TEMPERATURE = 18.3705
FOCAL_PLANE_TEMPERATURE = 7.9716
INST_CMPRS_NAME = "DISCRETE COSINE TRANSFORMATION (DCT)"
INST_CMPRS_RATIO = 29.0464
INST_CMPRS_QUALITY = 0
INST_CMPRS_QUANTZ_TBL_ID = 0
INSTRUMENT_TEMPERATURE = 11.6418
LENS_TEMPERATURE = 8.3794
MACROPIXEL_SIZE = 4
MISSING_FRAMES = 0
PIXEL_SUBSAMPLING_FLAG = N
SIGNAL_CHAIN_ID = 2
/* RADIOMETRIC DATA ELEMENTS */
BANDWIDTH = 48.0
CENTER_FILTER_WAVELENGTH = 748.0
RADIANCE_OFFSET = 1.28941
RADIANCE_SCALING_FACTOR = 0.00308712
REFLECTANCE_SCALING_FACTOR = 0.000377598
MEX:REFLECTANCE_OFFSET = 0.157712
/* IMAGE OBJECT DEFINITIONS */
OBJECT = IMAGE
  INTERCHANGE_FORMAT = BINARY
  LINES = 11789
  LINE_SAMPLES = 2208
  SAMPLE_TYPE = UNSIGNED_INTEGER
  SAMPLE_BITS = 8
  BANDS = 1
  BAND_STORAGE_TYPE = BAND_SEQUENTIAL
  MAXIMUM = 255
  MEAN = 104.973
  MINIMUM = 1
  STANDARD_DEVIATION = 38.3777
END_OBJECT = IMAGE
/* MAP OBJECT DEFINITIONS */
OBJECT = IMAGE_MAP_PROJECTION
  ^DATA_SET_MAP_PROJECTION_CATALOG= "DSMAP.CAT"
  A_AXIS_RADIUS = 3396.0
  B_AXIS_RADIUS = 3396.0
  C_AXIS_RADIUS = 3396.0
  CENTER_LATITUDE = 0.0
  CENTER_LONGITUDE = 56.0
  COORDINATE_SYSTEM_NAME = PLANETOGRAPHIC
  COORDINATE_SYSTEM_TYPE = "BODY-FIXED ROTATING"
  EASTERNMOST_LONGITUDE = 57.4887
  FIRST_STANDARD_PARALLEL = "N/A"
  LINE_FIRST_PIXEL = 1
  LINE_LAST_PIXEL = 11789
  LINE_PROJECTION_OFFSET = -52421.375
  MAP_PROJECTION_ROTATION = 0.0
  MAP_PROJECTION_TYPE = SINUSOIDAL
  MAP_RESOLUTION = 1185.42760773333
  MAP_SCALE = 0.05
  MAXIMUM_LATITUDE = -44.1542
  MINIMUM_LATITUDE = -54.2507
  POSITIVE_LONGITUDE_DIRECTION = EAST
  REFERENCE_LATITUDE = "N/A"
  REFERENCE_LONGITUDE = "N/A"
  SAMPLE_FIRST_PIXEL = 1
  SAMPLE_LAST_PIXEL = 2208
  SAMPLE_PROJECTION_OFFSET = 916.875
  SECOND_STANDARD_PARALLEL = "N/A"
  WESTERNMOST_LONGITUDE = 54.7031
END_OBJECT = IMAGE_MAP_PROJECTION
/* The JPEG2000 image data file associated with this label. */
OBJECT = COMPRESSED_FILE
  FILE_NAME = "HG869_0000_RE3.JP2"
  RECORD_TYPE = UNDEFINED
  FILE_RECORDS = UNK
  ENCODING_TYPE = "JP2"
  INTERCHANGE_FORMAT = BINARY
  UNCOMPRESSED_FILE_NAME = "HG869_0000_RE3.IMG"
  REQUIRED_STORAGE_BYTES = "26052192"
  ^DESCRIPTION = "JP2INFO.TXT"
END_OBJECT = COMPRESSED_FILE
END
