PDS_VERSION_ID = PDS3
/* FILE DATA ELEMENTS */
RECORD_TYPE = STREAM
/* POINTERS TO DATA OBJECTS */
^COMPRESSED_FILE = "HG871_0000_S13.JP2"
/* IDENTIFICATION DATA ELEMENTS */
DATA_SET_ID = "MEX-M-HRSC-5-REFDR-MAPPROJECTED-V3.0"
DATA_SET_NAME = "MARS EXPRESS HRSC MAP PROJECTED REFDR V3.0"
DETECTOR_ID = MEX_HRSC_S1
EVENT_TYPE = "MARS-LOCAL-STEREO-Fl-Gl-Pf"
INSTRUMENT_HOST_ID = MEX
INSTRUMENT_HOST_NAME = "MARS EXPRESS"
INSTRUMENT_ID = HRSC
INSTRUMENT_NAME = "HIGH RESOLUTION STEREO CAMERA"
MISSION_NAME = "MARS EXPRESS"
MISSION_PHASE_NAME = ME_Phase_36
PROCESSING_LEVEL_ID = 3
PRODUCT_CREATION_TIME = 2018-06-28T11:48:36.000Z
PRODUCT_ID = "HG871_0000_S13.JP2"
RELEASE_ID = 0138
REVISION_ID = 0000
/* QUALITY DATA ELEMENTS */
DATA_QUALITY_ID = 1
DATA_QUALITY_DESC = "Data calculated based on original SPICE kernels"
/* TIME DATA ELEMENTS */
SPACECRAFT_CLOCK_START_COUNT = "1/0441433670.09045"
SPACECRAFT_CLOCK_STOP_COUNT = "1/0441433803.26326"
START_TIME = 2017-04-28T04:28:57.054Z
STOP_TIME = 2017-04-28T04:30:09.545Z
/* ORBITAL DATA ELEMENTS */
ASCENDING_NODE_LONGITUDE = 257.06
MAXIMUM_RESOLUTION = 13.8
FOOTPRINT_POINT_LATITUDE = (-49.3795,-49.3766,-49.3732,-49.3694, -49.3651,-49.3603,-49.316,-49.175, -49.0336,-48.8917,-48.7971,-48.7023, -48.6074,-48.4652,-48.3709,-48.2763, -48.1818,-48.0877,-47.9928,-47.8988, -47.7573,-47.6157,-47.5212,-47.4269, -47.2851,-47.1911,-47.0971,-47.0031, -46.8623,-46.7685,-46.6279,-46.4874, -46.3937,-46.3002,-46.1598,-46.0661, -45.9722,-45.8785,-45.7843,-45.6906, -45.5966,-45.5032,-45.3177,-45.2238, -45.037,-44.8594,-44.7669,-44.7074, -44.71,-44.7113,-44.7126,-44.7139, -44.7149,-44.7165,-44.7178,-44.718, -44.8075,-44.9901,-45.0836,-45.1761, -45.3158,-45.4091,-45.5022,-45.5956, -45.6894,-45.8284,-45.9214,-46.0141, -46.1545,-46.2483,-46.3422,-46.4362, -46.5301,-46.6244,-46.7191,-46.8616, -46.9561,-47.0982,-47.1928,-47.2886, -47.3835,-47.4769,-47.6186,-47.7132, -47.8542,-47.9489,-48.0446,-48.1399, -48.2344,-48.3772,-48.4724,-48.5671, -48.7098,-48.8047,-48.8996,-48.9943, -49.0906,-49.2364,-49.422,-49.3795)
FOOTPRINT_POINT_LONGITUDE = (213.17,212.902,212.633,212.362,212.091 ,211.817,211.618,211.631,211.644, 211.657,211.665,211.674,211.683,211.696 ,211.704,211.712,211.72,211.728,211.736 ,211.744,211.756,211.767,211.775, 211.783,211.794,211.802,211.809,211.816 ,211.827,211.834,211.844,211.854, 211.861,211.867,211.877,211.883,211.89, 211.897,211.903,211.91,211.916,211.923, 211.934,211.94,211.952,211.957,211.962, 212.064,212.245,212.377,212.508,212.655 ,212.785,213.045,213.304,213.561, 213.613,213.604,213.599,213.595,213.589 ,213.584,213.58,213.575,213.571,213.564 ,213.56,213.555,213.548,213.544,213.539 ,213.535,213.53,213.525,213.521,213.514 ,213.509,213.502,213.498,213.493, 213.488,213.483,213.476,213.471,213.463 ,213.458,213.453,213.448,213.443, 213.436,213.431,213.425,213.418,213.412 ,213.407,213.402,213.396,213.389, 213.378,213.17)
ORBIT_NUMBER = 16871
ORBITAL_ECCENTRICITY = 0.578
ORBITAL_INCLINATION = 86.97
ORBITAL_SEMIMAJOR_AXIS = 8801.5
PERIAPSIS_ALTITUDE = 327.67
PERIAPSIS_ARGUMENT_ANGLE = 311.17
PERIAPSIS_TIME = 2017-04-28T04:28:40.000Z
SPACECRAFT_ORIENTATION = (0.0,1.0,0.0)
^MEX_ORIENTATION_DESC = "MEX_ORIENTATION_DESC.TXT"
SPACECRAFT_POINTING_MODE = ACROSSTRACK
^MEX_POINTING_DESC = "MEX_POINTING_DESC.TXT"
RIGHT_ASCENSION = -1e+32
DECLINATION = -1e+32
OFFSET_ANGLE = 0.35
SPACECRAFT_SOLAR_DISTANCE = 2.31623e+08
TARGET_NAME = MARS
/* CAMERA DATA ELEMENTS */
DETECTOR_TEMPERATURE = 17.7588
FOCAL_PLANE_TEMPERATURE = 8.7872
INST_CMPRS_NAME = "DISCRETE COSINE TRANSFORMATION (DCT)"
INST_CMPRS_RATIO = 6.92485
INST_CMPRS_QUALITY = 0
INST_CMPRS_QUANTZ_TBL_ID = 0
INSTRUMENT_TEMPERATURE = 11.4379
LENS_TEMPERATURE = 8.7872
MACROPIXEL_SIZE = 1
MISSING_FRAMES = 0
PIXEL_SUBSAMPLING_FLAG = N
SIGNAL_CHAIN_ID = 2
/* RADIOMETRIC DATA ELEMENTS */
BANDWIDTH = 180.0
CENTER_FILTER_WAVELENGTH = 677.0
RADIANCE_OFFSET = 2.98048
RADIANCE_SCALING_FACTOR = 0.0188809
REFLECTANCE_SCALING_FACTOR = 0.000528484
MEX:REFLECTANCE_OFFSET = 0.0834249
/* IMAGE OBJECT DEFINITIONS */
OBJECT = IMAGE
  INTERCHANGE_FORMAT = BINARY
  LINES = 22607
  LINE_SAMPLES = 6405
  SAMPLE_TYPE = UNSIGNED_INTEGER
  SAMPLE_BITS = 8
  BANDS = 1
  BAND_STORAGE_TYPE = BAND_SEQUENTIAL
  MAXIMUM = 255
  MEAN = 129.5
  MINIMUM = 1
  STANDARD_DEVIATION = 25.3721
END_OBJECT = IMAGE
/* MAP OBJECT DEFINITIONS */
OBJECT = IMAGE_MAP_PROJECTION
  ^DATA_SET_MAP_PROJECTION_CATALOG= "DSMAP.CAT"
  A_AXIS_RADIUS = 3396.0
  B_AXIS_RADIUS = 3396.0
  C_AXIS_RADIUS = 3396.0
  CENTER_LATITUDE = 0.0
  CENTER_LONGITUDE = 213.0
  COORDINATE_SYSTEM_NAME = PLANETOGRAPHIC
  COORDINATE_SYSTEM_TYPE = "BODY-FIXED ROTATING"
  EASTERNMOST_LONGITUDE = 213.613
  FIRST_STANDARD_PARALLEL = "N/A"
  LINE_FIRST_PIXEL = 1
  LINE_LAST_PIXEL = 22607
  LINE_PROJECTION_OFFSET = -211968.0
  MAP_PROJECTION_ROTATION = 0.0
  MAP_PROJECTION_TYPE = SINUSOIDAL
  MAP_RESOLUTION = 4741.71043093333
  MAP_SCALE = 0.0125
  MAXIMUM_LATITUDE = -44.7074
  MINIMUM_LATITUDE = -49.422
  POSITIVE_LONGITUDE_DIRECTION = EAST
  REFERENCE_LATITUDE = "N/A"
  REFERENCE_LONGITUDE = "N/A"
  SAMPLE_FIRST_PIXEL = 1
  SAMPLE_LAST_PIXEL = 6405
  SAMPLE_PROJECTION_OFFSET = 4375.0
  SECOND_STANDARD_PARALLEL = "N/A"
  WESTERNMOST_LONGITUDE = 211.618
END_OBJECT = IMAGE_MAP_PROJECTION
/* The JPEG2000 image data file associated with this label. */
OBJECT = COMPRESSED_FILE
  FILE_NAME = "HG871_0000_S13.JP2"
  RECORD_TYPE = UNDEFINED
  FILE_RECORDS = UNK
  ENCODING_TYPE = "JP2"
  INTERCHANGE_FORMAT = BINARY
  UNCOMPRESSED_FILE_NAME = "HG871_0000_S13.IMG"
  REQUIRED_STORAGE_BYTES = "144829860"
  ^DESCRIPTION = "JP2INFO.TXT"
END_OBJECT = COMPRESSED_FILE
END
