PDS_VERSION_ID = PDS3
/* FILE DATA ELEMENTS */
RECORD_TYPE = STREAM
/* POINTERS TO DATA OBJECTS */
^COMPRESSED_FILE = "HG872_0000_BL3.JP2"
/* IDENTIFICATION DATA ELEMENTS */
DATA_SET_ID = "MEX-M-HRSC-5-REFDR-MAPPROJECTED-V3.0"
DATA_SET_NAME = "MARS EXPRESS HRSC MAP PROJECTED REFDR V3.0"
DETECTOR_ID = MEX_HRSC_BLUE
EVENT_TYPE = "MARS-REGIONAL-MAPPING-Im-Eo"
INSTRUMENT_HOST_ID = MEX
INSTRUMENT_HOST_NAME = "MARS EXPRESS"
INSTRUMENT_ID = HRSC
INSTRUMENT_NAME = "HIGH RESOLUTION STEREO CAMERA"
MISSION_NAME = "MARS EXPRESS"
MISSION_PHASE_NAME = ME_Phase_36
PROCESSING_LEVEL_ID = 3
PRODUCT_CREATION_TIME = 2018-06-28T11:48:36.000Z
PRODUCT_ID = "HG872_0000_BL3.JP2"
RELEASE_ID = 0138
REVISION_ID = 0000
/* QUALITY DATA ELEMENTS */
DATA_QUALITY_ID = 1
DATA_QUALITY_DESC = "Data calculated based on original SPICE kernels"
/* TIME DATA ELEMENTS */
SPACECRAFT_CLOCK_START_COUNT = "1/0441458758.09065"
SPACECRAFT_CLOCK_STOP_COUNT = "1/0441458953.49247"
START_TIME = 2017-04-28T11:26:32.549Z
STOP_TIME = 2017-04-28T11:28:45.846Z
/* ORBITAL DATA ELEMENTS */
ASCENDING_NODE_LONGITUDE = 257.04
MAXIMUM_RESOLUTION = 51.8
FOOTPRINT_POINT_LATITUDE = (-55.9,-55.893,-55.8854,-55.8769, -55.8678,-55.8393,-55.6608,-55.4825, -55.2151,-55.0366,-54.8585,-54.6822, -54.4226,-54.1626,-53.9892,-53.8149, -53.6402,-53.4664,-53.2928,-53.1194, -52.9443,-52.6836,-52.4228,-52.2489, -52.075,-51.8141,-51.5545,-51.3808, -51.2078,-50.9466,-50.7726,-50.5984, -50.4239,-50.2495,-49.9876,-49.7259, -49.5515,-49.3768,-49.1148,-48.8527, -48.6779,-48.5035,-48.3314,-48.0773, -47.9077,-47.7387,-47.5699,-47.4022, -47.2323,-47.1348,-47.1412,-47.1489, -47.1538,-47.2446,-47.4139,-47.5832, -47.8371,-48.0913,-48.2608,-48.4305, -48.6059,-48.8685,-49.0435,-49.2184, -49.3935,-49.5682,-49.831,-50.0061, -50.1808,-50.3561,-50.5313,-50.7062, -50.8808,-51.0554,-51.3167,-51.5777, -51.7519,-51.9264,-52.1011,-52.2755, -52.45,-52.7115,-52.8858,-53.0601, -53.2343,-53.4084,-53.6704,-53.8455, -54.0193,-54.1932,-54.4544,-54.6285, -54.8018,-54.9812,-55.1604,-55.3396, -55.5197,-55.6989,-55.8773,-55.9)
FOOTPRINT_POINT_LONGITUDE = (111.459,111.153,110.848,110.545, 110.243,109.795,109.818,109.84,109.874, 109.895,109.917,109.938,109.968,109.997 ,110.016,110.034,110.051,110.069, 110.087,110.104,110.121,110.146,110.171 ,110.187,110.204,110.227,110.252, 110.267,110.283,110.305,110.319,110.334 ,110.347,110.361,110.381,110.401, 110.413,110.426,110.444,110.462,110.474 ,110.486,110.497,110.513,110.523, 110.533,110.544,110.555,110.564,110.784 ,111.079,111.483,111.797,112.242, 112.237,112.233,112.225,112.217,112.211 ,112.204,112.196,112.188,112.183, 112.178,112.172,112.167,112.157,112.15, 112.145,112.136,112.129,112.122,112.116 ,112.11,112.104,112.099,112.094,112.087 ,112.08,112.073,112.066,112.055,112.048 ,112.041,112.034,112.026,112.011, 111.998,111.991,111.984,111.97,111.96, 111.954,111.946,111.939,111.93,111.917, 111.908,111.902,111.459)
ORBIT_NUMBER = 16872
ORBITAL_ECCENTRICITY = 0.578
ORBITAL_INCLINATION = 86.95
ORBITAL_SEMIMAJOR_AXIS = 8806.06
PERIAPSIS_ALTITUDE = 327.59
PERIAPSIS_ARGUMENT_ANGLE = 311.0
PERIAPSIS_TIME = 2017-04-28T11:28:24.000Z
SPACECRAFT_ORIENTATION = (0.0,1.0,0.0)
^MEX_ORIENTATION_DESC = "MEX_ORIENTATION_DESC.TXT"
SPACECRAFT_POINTING_MODE = ACROSSTRACK
^MEX_POINTING_DESC = "MEX_POINTING_DESC.TXT"
RIGHT_ASCENSION = -1e+32
DECLINATION = -1e+32
OFFSET_ANGLE = -0.35
SPACECRAFT_SOLAR_DISTANCE = 2.31679e+08
TARGET_NAME = MARS
/* CAMERA DATA ELEMENTS */
DETECTOR_TEMPERATURE = 17.9627
FOCAL_PLANE_TEMPERATURE = 7.7677
INST_CMPRS_NAME = "DISCRETE COSINE TRANSFORMATION (DCT)"
INST_CMPRS_RATIO = 5.73189
INST_CMPRS_QUALITY = 0
INST_CMPRS_QUANTZ_TBL_ID = 0
INSTRUMENT_TEMPERATURE = 11.234
LENS_TEMPERATURE = 8.9911
MACROPIXEL_SIZE = 4
MISSING_FRAMES = 0
PIXEL_SUBSAMPLING_FLAG = N
SIGNAL_CHAIN_ID = 2
/* RADIOMETRIC DATA ELEMENTS */
BANDWIDTH = 76.0
CENTER_FILTER_WAVELENGTH = 444.0
RADIANCE_OFFSET = 0.477816
RADIANCE_SCALING_FACTOR = 0.00143137
REFLECTANCE_SCALING_FACTOR = 7.89364e-05
MEX:REFLECTANCE_OFFSET = 0.0263504
/* IMAGE OBJECT DEFINITIONS */
OBJECT = IMAGE
  INTERCHANGE_FORMAT = BINARY
  LINES = 10390
  LINE_SAMPLES = 1830
  SAMPLE_TYPE = UNSIGNED_INTEGER
  SAMPLE_BITS = 8
  BANDS = 1
  BAND_STORAGE_TYPE = BAND_SEQUENTIAL
  MAXIMUM = 255
  MEAN = 115.647
  MINIMUM = 1
  STANDARD_DEVIATION = 20.4901
END_OBJECT = IMAGE
/* MAP OBJECT DEFINITIONS */
OBJECT = IMAGE_MAP_PROJECTION
  ^DATA_SET_MAP_PROJECTION_CATALOG= "DSMAP.CAT"
  A_AXIS_RADIUS = 3396.0
  B_AXIS_RADIUS = 3396.0
  C_AXIS_RADIUS = 3396.0
  CENTER_LATITUDE = 0.0
  CENTER_LONGITUDE = 111.0
  COORDINATE_SYSTEM_NAME = PLANETOGRAPHIC
  COORDINATE_SYSTEM_TYPE = "BODY-FIXED ROTATING"
  EASTERNMOST_LONGITUDE = 112.242
  FIRST_STANDARD_PARALLEL = "N/A"
  LINE_FIRST_PIXEL = 1
  LINE_LAST_PIXEL = 10390
  LINE_PROJECTION_OFFSET = -55873.875
  MAP_PROJECTION_ROTATION = 0.0
  MAP_PROJECTION_TYPE = SINUSOIDAL
  MAP_RESOLUTION = 1185.42760773333
  MAP_SCALE = 0.05
  MAXIMUM_LATITUDE = -47.1348
  MINIMUM_LATITUDE = -55.9
  POSITIVE_LONGITUDE_DIRECTION = EAST
  REFERENCE_LATITUDE = "N/A"
  REFERENCE_LONGITUDE = "N/A"
  SAMPLE_FIRST_PIXEL = 1
  SAMPLE_LAST_PIXEL = 1830
  SAMPLE_PROJECTION_OFFSET = 798.875
  SECOND_STANDARD_PARALLEL = "N/A"
  WESTERNMOST_LONGITUDE = 109.795
END_OBJECT = IMAGE_MAP_PROJECTION
/* The JPEG2000 image data file associated with this label. */
OBJECT = COMPRESSED_FILE
  FILE_NAME = "HG872_0000_BL3.JP2"
  RECORD_TYPE = UNDEFINED
  FILE_RECORDS = UNK
  ENCODING_TYPE = "JP2"
  INTERCHANGE_FORMAT = BINARY
  UNCOMPRESSED_FILE_NAME = "HG872_0000_BL3.IMG"
  REQUIRED_STORAGE_BYTES = "19033830"
  ^DESCRIPTION = "JP2INFO.TXT"
END_OBJECT = COMPRESSED_FILE
END
