PDS_VERSION_ID = PDS3
/* FILE DATA ELEMENTS */
RECORD_TYPE = STREAM
/* POINTERS TO DATA OBJECTS */
^COMPRESSED_FILE = "HG876_0000_ND3.JP2"
/* IDENTIFICATION DATA ELEMENTS */
DATA_SET_ID = "MEX-M-HRSC-5-REFDR-MAPPROJECTED-V3.0"
DATA_SET_NAME = "MARS EXPRESS HRSC MAP PROJECTED REFDR V3.0"
DETECTOR_ID = MEX_HRSC_NADIR
EVENT_TYPE = "MARS-REGIONAL-MAPPING-Im-Fl-Gl"
INSTRUMENT_HOST_ID = MEX
INSTRUMENT_HOST_NAME = "MARS EXPRESS"
INSTRUMENT_ID = HRSC
INSTRUMENT_NAME = "HIGH RESOLUTION STEREO CAMERA"
MISSION_NAME = "MARS EXPRESS"
MISSION_PHASE_NAME = ME_Phase_36
PROCESSING_LEVEL_ID = 3
PRODUCT_CREATION_TIME = 2018-06-28T11:48:36.000Z
PRODUCT_ID = "HG876_0000_ND3.JP2"
RELEASE_ID = 0138
REVISION_ID = 0000
/* QUALITY DATA ELEMENTS */
DATA_QUALITY_ID = 1
DATA_QUALITY_DESC = "Data calculated based on original SPICE kernels"
/* TIME DATA ELEMENTS */
SPACECRAFT_CLOCK_START_COUNT = "1/0441559534.09058"
SPACECRAFT_CLOCK_STOP_COUNT = "1/0441559767.07645"
START_TIME = 2017-04-29T15:26:12.574Z
STOP_TIME = 2017-04-29T15:29:02.566Z
/* ORBITAL DATA ELEMENTS */
ASCENDING_NODE_LONGITUDE = 256.96
MAXIMUM_RESOLUTION = 13.3
FOOTPRINT_POINT_LATITUDE = (-53.3959,-53.3737,-53.3361,-53.1143, -52.8925,-52.6707,-52.4487,-52.1158, -51.8938,-51.6717,-51.4496,-51.2274, -51.0053,-50.7831,-50.4497,-50.2274, -50.0051,-49.7827,-49.5603,-49.3379, -49.0043,-48.7819,-48.5592,-48.3368, -48.1144,-47.7805,-47.5583,-47.2249, -46.8913,-46.6688,-46.335,-46.0016, -45.7792,-45.5568,-45.3346,-45.1123, -44.8901,-44.6679,-44.4458,-44.2237, -44.0017,-43.7797,-43.4468,-43.2249, -43.0031,-42.7813,-42.5596,-42.3381, -42.2337,-42.2424,-42.2522,-42.2586, -42.3763,-42.5984,-42.8206,-43.0429, -43.2652,-43.4877,-43.8214,-44.044, -44.2666,-44.4892,-44.712,-44.9347, -45.1576,-45.4918,-45.7147,-45.9377, -46.1606,-46.3836,-46.6066,-46.8297, -47.0528,-47.2759,-47.499,-47.7221, -48.0568,-48.2799,-48.6146,-48.8378, -49.0609,-49.3957,-49.6188,-49.842, -50.1767,-50.3998,-50.7344,-50.9575, -51.1805,-51.4035,-51.6265,-51.8494, -52.0723,-52.2952,-52.518,-52.7408, -52.9636,-53.1863,-53.4089,-53.3959)
FOOTPRINT_POINT_LONGITUDE = (60.8402,60.2476,59.4337,59.4623, 59.4901,59.5188,59.5462,59.5868,59.6139 ,59.6398,59.6657,59.691,59.7161,59.7423 ,59.7782,59.8019,59.8255,59.8476, 59.8695,59.8909,59.9233,59.9443,59.9617 ,59.9833,60.0026,60.0298,60.0523, 60.0838,60.1115,60.1275,60.151,60.1777, 60.1932,60.2087,60.2253,60.2403,60.2546 ,60.2701,60.285,60.2988,60.3127,60.3267 ,60.3464,60.3593,60.3719,60.3844, 60.3967,60.4095,60.7428,61.0506,61.4367 ,61.7242,62.0441,62.0352,62.0262, 62.0171,62.0078,61.9983,61.9838,61.9741 ,61.9642,61.9543,61.9441,61.9338, 61.9233,61.9074,61.8966,61.8858,61.8748 ,61.8636,61.8522,61.8406,61.8289, 61.8171,61.8051,61.793,61.7745,61.7619, 61.7429,61.7298,61.7165,61.6963,61.6827 ,61.6687,61.6474,61.633,61.6111,61.5962 ,61.581,61.5657,61.5502,61.5344,61.5184 ,61.5022,61.4857,61.4689,61.4519, 61.4347,61.4171,60.8402)
ORBIT_NUMBER = 16876
ORBITAL_ECCENTRICITY = 0.578
ORBITAL_INCLINATION = 86.96
ORBITAL_SEMIMAJOR_AXIS = 8803.29
PERIAPSIS_ALTITUDE = 327.57
PERIAPSIS_ARGUMENT_ANGLE = 310.33
PERIAPSIS_TIME = 2017-04-29T15:27:12.000Z
SPACECRAFT_ORIENTATION = (0.0,1.0,0.0)
^MEX_ORIENTATION_DESC = "MEX_ORIENTATION_DESC.TXT"
SPACECRAFT_POINTING_MODE = ACROSSTRACK
^MEX_POINTING_DESC = "MEX_POINTING_DESC.TXT"
RIGHT_ASCENSION = -1e+32
DECLINATION = -1e+32
OFFSET_ANGLE = 0.458
SPACECRAFT_SOLAR_DISTANCE = 2.31898e+08
TARGET_NAME = MARS
/* CAMERA DATA ELEMENTS */
DETECTOR_TEMPERATURE = 18.3705
FOCAL_PLANE_TEMPERATURE = 7.5638
INST_CMPRS_NAME = "DISCRETE COSINE TRANSFORMATION (DCT)"
INST_CMPRS_RATIO = 7.05676
INST_CMPRS_QUALITY = 0
INST_CMPRS_QUANTZ_TBL_ID = 0
INSTRUMENT_TEMPERATURE = 11.234
LENS_TEMPERATURE = 7.9716
MACROPIXEL_SIZE = 1
MISSING_FRAMES = 0
PIXEL_SUBSAMPLING_FLAG = N
SIGNAL_CHAIN_ID = 0
/* RADIOMETRIC DATA ELEMENTS */
BANDWIDTH = 177.0
CENTER_FILTER_WAVELENGTH = 677.5
RADIANCE_OFFSET = 4.64654
RADIANCE_SCALING_FACTOR = 0.0090129
REFLECTANCE_SCALING_FACTOR = 0.000257479
MEX:REFLECTANCE_OFFSET = 0.132742
/* IMAGE OBJECT DEFINITIONS */
OBJECT = IMAGE
  INTERCHANGE_FORMAT = BINARY
  LINES = 53044
  LINE_SAMPLES = 8054
  SAMPLE_TYPE = UNSIGNED_INTEGER
  SAMPLE_BITS = 8
  BANDS = 1
  BAND_STORAGE_TYPE = BAND_SEQUENTIAL
  MAXIMUM = 254
  MEAN = 126.573
  MINIMUM = 1
  STANDARD_DEVIATION = 42.3364
END_OBJECT = IMAGE
/* MAP OBJECT DEFINITIONS */
OBJECT = IMAGE_MAP_PROJECTION
  ^DATA_SET_MAP_PROJECTION_CATALOG= "DSMAP.CAT"
  A_AXIS_RADIUS = 3396.0
  B_AXIS_RADIUS = 3396.0
  C_AXIS_RADIUS = 3396.0
  CENTER_LATITUDE = 0.0
  CENTER_LONGITUDE = 61.0
  COORDINATE_SYSTEM_NAME = PLANETOGRAPHIC
  COORDINATE_SYSTEM_TYPE = "BODY-FIXED ROTATING"
  EASTERNMOST_LONGITUDE = 62.0441
  FIRST_STANDARD_PARALLEL = "N/A"
  LINE_FIRST_PIXEL = 1
  LINE_LAST_PIXEL = 53044
  LINE_PROJECTION_OFFSET = -200233.0
  MAP_PROJECTION_ROTATION = 0.0
  MAP_PROJECTION_TYPE = SINUSOIDAL
  MAP_RESOLUTION = 4741.71043093333
  MAP_SCALE = 0.0125
  MAXIMUM_LATITUDE = -42.2337
  MINIMUM_LATITUDE = -53.4089
  POSITIVE_LONGITUDE_DIRECTION = EAST
  REFERENCE_LATITUDE = "N/A"
  REFERENCE_LONGITUDE = "N/A"
  SAMPLE_FIRST_PIXEL = 1
  SAMPLE_LAST_PIXEL = 8054
  SAMPLE_PROJECTION_OFFSET = 4399.0
  SECOND_STANDARD_PARALLEL = "N/A"
  WESTERNMOST_LONGITUDE = 59.4337
END_OBJECT = IMAGE_MAP_PROJECTION
/* The JPEG2000 image data file associated with this label. */
OBJECT = COMPRESSED_FILE
  FILE_NAME = "HG876_0000_ND3.JP2"
  RECORD_TYPE = UNDEFINED
  FILE_RECORDS = UNK
  ENCODING_TYPE = "JP2"
  INTERCHANGE_FORMAT = BINARY
  UNCOMPRESSED_FILE_NAME = "HG876_0000_ND3.IMG"
  REQUIRED_STORAGE_BYTES = "427248592"
  ^DESCRIPTION = "JP2INFO.TXT"
END_OBJECT = COMPRESSED_FILE
END
