PDS_VERSION_ID = PDS3
/* FILE DATA ELEMENTS */
RECORD_TYPE = STREAM
/* POINTERS TO DATA OBJECTS */
^COMPRESSED_FILE = "HG877_0000_P23.JP2"
/* IDENTIFICATION DATA ELEMENTS */
DATA_SET_ID = "MEX-M-HRSC-5-REFDR-MAPPROJECTED-V3.0"
DATA_SET_NAME = "MARS EXPRESS HRSC MAP PROJECTED REFDR V3.0"
DETECTOR_ID = MEX_HRSC_P2
EVENT_TYPE = "MARS-LOCAL-STEREO-Fl-Gl-Tc"
INSTRUMENT_HOST_ID = MEX
INSTRUMENT_HOST_NAME = "MARS EXPRESS"
INSTRUMENT_ID = HRSC
INSTRUMENT_NAME = "HIGH RESOLUTION STEREO CAMERA"
MISSION_NAME = "MARS EXPRESS"
MISSION_PHASE_NAME = ME_Phase_36
PROCESSING_LEVEL_ID = 3
PRODUCT_CREATION_TIME = 2018-06-28T11:48:36.000Z
PRODUCT_ID = "HG877_0000_P23.JP2"
RELEASE_ID = 0138
REVISION_ID = 0000
/* QUALITY DATA ELEMENTS */
DATA_QUALITY_ID = 1
DATA_QUALITY_DESC = "Data calculated based on original SPICE kernels"
/* TIME DATA ELEMENTS */
SPACECRAFT_CLOCK_START_COUNT = "1/0441584626.09043"
SPACECRAFT_CLOCK_STOP_COUNT = "1/0441584809.26518"
START_TIME = 2017-04-29T22:24:05.811Z
STOP_TIME = 2017-04-29T22:26:06.448Z
/* ORBITAL DATA ELEMENTS */
ASCENDING_NODE_LONGITUDE = 256.95
MAXIMUM_RESOLUTION = 27.4
FOOTPRINT_POINT_LATITUDE = (-59.2605,-59.2426,-59.2235,-59.203, -59.1812,-59.1581,-59.1335,-58.9053, -58.6786,-58.4527,-58.2981,-58.1419, -57.9078,-57.7494,-57.5941,-57.361, -57.2011,-57.0449,-56.8904,-56.7341, -56.5014,-56.3464,-56.191,-56.0357, -55.8801,-55.7244,-55.5688,-55.4133, -55.2556,-55.0233,-54.8676,-54.7114, -54.4773,-54.321,-54.1646,-54.0085, -53.8557,-53.5525,-53.4005,-53.1726, -53.0205,-52.8682,-52.7158,-52.5635, -52.4115,-52.1835,-52.0312,-51.8792, -51.7264,-51.497,-51.3445,-51.3447, -51.3688,-51.3872,-51.4062,-51.4288, -51.6587,-51.8122,-51.9654,-52.1184, -52.2716,-52.5011,-52.7304,-52.8831, -53.0358,-53.2647,-53.4175,-53.5704, -53.7228,-53.8751,-54.0274,-54.1826, -54.3401,-54.4975,-54.6547,-54.8124, -54.9727,-55.1262,-55.2824,-55.4391, -55.5956,-55.7521,-55.9867,-56.1445, -56.3862,-56.6321,-56.7976,-57.0964, -57.2499,-57.4034,-57.6396,-57.8008, -57.9545,-58.1099,-58.4112,-58.5661, -58.7214,-58.9551,-59.108,-59.2605)
FOOTPRINT_POINT_LONGITUDE = (318.408,318.049,317.689,317.327, 316.963,316.597,316.229,316.012,316.067 ,316.123,316.154,316.184,316.227, 316.253,316.283,316.327,316.35,316.378, 316.408,316.435,316.478,316.506,316.533 ,316.561,316.588,316.615,316.641, 316.668,316.691,316.732,316.757,316.782 ,316.819,316.843,316.867,316.891, 316.914,316.958,316.98,317.012,317.033, 317.053,317.074,317.094,317.115,317.145 ,317.165,317.185,317.204,317.232,317.25 ,317.569,317.975,318.305,318.669, 319.144,319.127,319.116,319.105,319.094 ,319.082,319.065,319.048,319.036, 319.024,319.006,318.993,318.981,318.969 ,318.956,318.943,318.93,318.917,318.903 ,318.89,318.876,318.861,318.848,318.833 ,318.819,318.805,318.79,318.768,318.752 ,318.728,318.703,318.686,318.656,318.64 ,318.624,318.599,318.581,318.564, 318.547,318.513,318.496,318.478,318.45, 318.432,318.408)
ORBIT_NUMBER = 16877
ORBITAL_ECCENTRICITY = 0.578
ORBITAL_INCLINATION = 86.96
ORBITAL_SEMIMAJOR_AXIS = 8799.07
PERIAPSIS_ALTITUDE = 328.05
PERIAPSIS_ARGUMENT_ANGLE = 310.16
PERIAPSIS_TIME = 2017-04-29T22:26:52.000Z
SPACECRAFT_ORIENTATION = (0.0,1.0,0.0)
^MEX_ORIENTATION_DESC = "MEX_ORIENTATION_DESC.TXT"
SPACECRAFT_POINTING_MODE = ACROSSTRACK
^MEX_POINTING_DESC = "MEX_POINTING_DESC.TXT"
RIGHT_ASCENSION = -1e+32
DECLINATION = -1e+32
OFFSET_ANGLE = 0.539
SPACECRAFT_SOLAR_DISTANCE = 2.31953e+08
TARGET_NAME = MARS
/* CAMERA DATA ELEMENTS */
DETECTOR_TEMPERATURE = 18.1666
FOCAL_PLANE_TEMPERATURE = 8.7872
INST_CMPRS_NAME = "DISCRETE COSINE TRANSFORMATION (DCT)"
INST_CMPRS_RATIO = 8.13112
INST_CMPRS_QUALITY = 0
INST_CMPRS_QUANTZ_TBL_ID = 0
INSTRUMENT_TEMPERATURE = 11.0301
LENS_TEMPERATURE = 8.7872
MACROPIXEL_SIZE = 2
MISSING_FRAMES = 0
PIXEL_SUBSAMPLING_FLAG = N
SIGNAL_CHAIN_ID = 3
/* RADIOMETRIC DATA ELEMENTS */
BANDWIDTH = 177.0
CENTER_FILTER_WAVELENGTH = 676.5
RADIANCE_OFFSET = 2.96266
RADIANCE_SCALING_FACTOR = 0.0194684
REFLECTANCE_SCALING_FACTOR = 0.000555379
MEX:REFLECTANCE_OFFSET = 0.0845161
/* IMAGE OBJECT DEFINITIONS */
OBJECT = IMAGE
  INTERCHANGE_FORMAT = BINARY
  LINES = 18577
  LINE_SAMPLES = 4168
  SAMPLE_TYPE = UNSIGNED_INTEGER
  SAMPLE_BITS = 8
  BANDS = 1
  BAND_STORAGE_TYPE = BAND_SEQUENTIAL
  MAXIMUM = 255
  MEAN = 171.652
  MINIMUM = 1
  STANDARD_DEVIATION = 33.4003
END_OBJECT = IMAGE
/* MAP OBJECT DEFINITIONS */
OBJECT = IMAGE_MAP_PROJECTION
  ^DATA_SET_MAP_PROJECTION_CATALOG= "DSMAP.CAT"
  A_AXIS_RADIUS = 3396.0
  B_AXIS_RADIUS = 3396.0
  C_AXIS_RADIUS = 3396.0
  CENTER_LATITUDE = 0.0
  CENTER_LONGITUDE = 318.0
  COORDINATE_SYSTEM_NAME = PLANETOGRAPHIC
  COORDINATE_SYSTEM_TYPE = "BODY-FIXED ROTATING"
  EASTERNMOST_LONGITUDE = 319.144
  FIRST_STANDARD_PARALLEL = "N/A"
  LINE_FIRST_PIXEL = 1
  LINE_LAST_PIXEL = 18577
  LINE_PROJECTION_OFFSET = -121721.25
  MAP_PROJECTION_ROTATION = 0.0
  MAP_PROJECTION_TYPE = SINUSOIDAL
  MAP_RESOLUTION = 2370.85521546667
  MAP_SCALE = 0.025
  MAXIMUM_LATITUDE = -51.3445
  MINIMUM_LATITUDE = -59.2605
  POSITIVE_LONGITUDE_DIRECTION = EAST
  REFERENCE_LATITUDE = "N/A"
  REFERENCE_LONGITUDE = "N/A"
  SAMPLE_FIRST_PIXEL = 1
  SAMPLE_LAST_PIXEL = 4168
  SAMPLE_PROJECTION_OFFSET = 2483.75
  SECOND_STANDARD_PARALLEL = "N/A"
  WESTERNMOST_LONGITUDE = 316.012
END_OBJECT = IMAGE_MAP_PROJECTION
/* The JPEG2000 image data file associated with this label. */
OBJECT = COMPRESSED_FILE
  FILE_NAME = "HG877_0000_P23.JP2"
  RECORD_TYPE = UNDEFINED
  FILE_RECORDS = UNK
  ENCODING_TYPE = "JP2"
  INTERCHANGE_FORMAT = BINARY
  UNCOMPRESSED_FILE_NAME = "HG877_0000_P23.IMG"
  REQUIRED_STORAGE_BYTES = "77453944"
  ^DESCRIPTION = "JP2INFO.TXT"
END_OBJECT = COMPRESSED_FILE
END
