PDS_VERSION_ID = PDS3
/* FILE DATA ELEMENTS */
RECORD_TYPE = STREAM
/* POINTERS TO DATA OBJECTS */
^COMPRESSED_FILE = "HG882_0000_ND3.JP2"
/* IDENTIFICATION DATA ELEMENTS */
DATA_SET_ID = "MEX-M-HRSC-5-REFDR-MAPPROJECTED-V3.0"
DATA_SET_NAME = "MARS EXPRESS HRSC MAP PROJECTED REFDR V3.0"
DETECTOR_ID = MEX_HRSC_NADIR
EVENT_TYPE = "MARS-LOCAL-STEREO-Fl"
INSTRUMENT_HOST_ID = MEX
INSTRUMENT_HOST_NAME = "MARS EXPRESS"
INSTRUMENT_ID = HRSC
INSTRUMENT_NAME = "HIGH RESOLUTION STEREO CAMERA"
MISSION_NAME = "MARS EXPRESS"
MISSION_PHASE_NAME = ME_Phase_36
PROCESSING_LEVEL_ID = 3
PRODUCT_CREATION_TIME = 2018-06-28T11:48:36.000Z
PRODUCT_ID = "HG882_0000_ND3.JP2"
RELEASE_ID = 0138
REVISION_ID = 0000
/* QUALITY DATA ELEMENTS */
DATA_QUALITY_ID = 1
DATA_QUALITY_DESC = "Data calculated based on original SPICE kernels"
/* TIME DATA ELEMENTS */
SPACECRAFT_CLOCK_START_COUNT = "1/0441710818.09051"
SPACECRAFT_CLOCK_STOP_COUNT = "1/0441710936.50728"
START_TIME = 2017-05-01T09:27:36.561Z
STOP_TIME = 2017-05-01T09:28:29.574Z
/* ORBITAL DATA ELEMENTS */
ASCENDING_NODE_LONGITUDE = 256.85
MAXIMUM_RESOLUTION = 13.6
FOOTPRINT_POINT_LATITUDE = (-41.6988,-41.6968,-41.6946,-41.6922, -41.6897,-41.6871,-41.6843,-41.6814, -41.6772,-41.674,-41.6693,-41.6292, -41.5605,-41.4917,-41.4229,-41.3541, -41.2853,-41.1822,-41.0791,-41.0103, -40.9072,-40.8385,-40.7698,-40.7011, -40.5981,-40.5294,-40.4608,-40.3921, -40.3235,-40.2549,-40.1862,-40.1176, -40.049,-39.9804,-39.9119,-39.7748, -39.6719,-39.5349,-39.3979,-39.2609, -39.124,-38.9871,-38.8161,-38.6793, -38.5426,-38.4059,-38.2693,-38.2311, -38.2348,-38.2383,-38.2403,-38.2434, -38.246,-38.2482,-38.2503,-38.2518, -38.2536,-38.2553,-38.2568,-38.3263, -38.4632,-38.6002,-38.7372,-38.8742, -39.0113,-39.1485,-39.2171,-39.2857, -39.3543,-39.4229,-39.4915,-39.5945, -39.6632,-39.7318,-39.8005,-39.8692, -39.9379,-40.0067,-40.0754,-40.1785, -40.2816,-40.3504,-40.4192,-40.488, -40.5912,-40.6944,-40.7633,-40.8665, -40.9698,-41.0386,-41.1075,-41.1764, -41.2797,-41.3486,-41.4176,-41.4865, -41.5554,-41.6244,-41.6933,-41.6988)
FOOTPRINT_POINT_LONGITUDE = (168.382,168.26,168.138,168.016,167.893 ,167.77,167.647,167.523,167.353,167.229 ,167.058,166.901,166.905,166.908, 166.911,166.914,166.916,166.921,166.925 ,166.928,166.932,166.935,166.938,166.94 ,166.944,166.947,166.949,166.952, 166.955,166.957,166.96,166.962,166.964, 166.967,166.97,166.975,166.978,166.983, 166.988,166.992,166.997,167.001,167.006 ,167.011,167.015,167.019,167.023, 167.119,167.277,167.434,167.529,167.685 ,167.826,167.951,168.075,168.169, 168.293,168.417,168.54,168.608,168.604, 168.6,168.596,168.591,168.587,168.583, 168.581,168.579,168.577,168.574,168.572 ,168.569,168.567,168.565,168.562,168.56 ,168.558,168.555,168.553,168.55,168.547 ,168.544,168.542,168.54,168.536,168.532 ,168.53,168.526,168.523,168.521,168.518 ,168.516,168.512,168.51,168.508,168.505 ,168.503,168.5,168.498,168.382)
ORBIT_NUMBER = 16882
ORBITAL_ECCENTRICITY = 0.578
ORBITAL_INCLINATION = 86.96
ORBITAL_SEMIMAJOR_AXIS = 8799.24
PERIAPSIS_ALTITUDE = 328.52
PERIAPSIS_ARGUMENT_ANGLE = 309.31
PERIAPSIS_TIME = 2017-05-01T09:25:21.000Z
SPACECRAFT_ORIENTATION = (0.0,1.0,0.0)
^MEX_ORIENTATION_DESC = "MEX_ORIENTATION_DESC.TXT"
SPACECRAFT_POINTING_MODE = ACROSSTRACK
^MEX_POINTING_DESC = "MEX_POINTING_DESC.TXT"
RIGHT_ASCENSION = -1e+32
DECLINATION = -1e+32
OFFSET_ANGLE = 0.3
SPACECRAFT_SOLAR_DISTANCE = 2.32227e+08
TARGET_NAME = MARS
/* CAMERA DATA ELEMENTS */
DETECTOR_TEMPERATURE = 18.5744
FOCAL_PLANE_TEMPERATURE = 9.6028
INST_CMPRS_NAME = "DISCRETE COSINE TRANSFORMATION (DCT)"
INST_CMPRS_RATIO = 5.92804
INST_CMPRS_QUALITY = 0
INST_CMPRS_QUANTZ_TBL_ID = 0
INSTRUMENT_TEMPERATURE = 12.8652
LENS_TEMPERATURE = 8.7872
MACROPIXEL_SIZE = 1
MISSING_FRAMES = 0
PIXEL_SUBSAMPLING_FLAG = N
SIGNAL_CHAIN_ID = 0
/* RADIOMETRIC DATA ELEMENTS */
BANDWIDTH = 177.0
CENTER_FILTER_WAVELENGTH = 677.5
RADIANCE_OFFSET = 2.65932
RADIANCE_SCALING_FACTOR = 0.0146002
REFLECTANCE_SCALING_FACTOR = 0.000418282
MEX:REFLECTANCE_OFFSET = 0.0761871
/* IMAGE OBJECT DEFINITIONS */
OBJECT = IMAGE
  INTERCHANGE_FORMAT = BINARY
  LINES = 16456
  LINE_SAMPLES = 6373
  SAMPLE_TYPE = UNSIGNED_INTEGER
  SAMPLE_BITS = 8
  BANDS = 1
  BAND_STORAGE_TYPE = BAND_SEQUENTIAL
  MAXIMUM = 255
  MEAN = 145.964
  MINIMUM = 1
  STANDARD_DEVIATION = 22.737
END_OBJECT = IMAGE
/* MAP OBJECT DEFINITIONS */
OBJECT = IMAGE_MAP_PROJECTION
  ^DATA_SET_MAP_PROJECTION_CATALOG= "DSMAP.CAT"
  A_AXIS_RADIUS = 3396.0
  B_AXIS_RADIUS = 3396.0
  C_AXIS_RADIUS = 3396.0
  CENTER_LATITUDE = 0.0
  CENTER_LONGITUDE = 168.0
  COORDINATE_SYSTEM_NAME = PLANETOGRAPHIC
  COORDINATE_SYSTEM_TYPE = "BODY-FIXED ROTATING"
  EASTERNMOST_LONGITUDE = 168.608
  FIRST_STANDARD_PARALLEL = "N/A"
  LINE_FIRST_PIXEL = 1
  LINE_LAST_PIXEL = 16456
  LINE_PROJECTION_OFFSET = -181278.0
  MAP_PROJECTION_ROTATION = 0.0
  MAP_PROJECTION_TYPE = SINUSOIDAL
  MAP_RESOLUTION = 4741.71043093333
  MAP_SCALE = 0.0125
  MAXIMUM_LATITUDE = -38.2311
  MINIMUM_LATITUDE = -41.6988
  POSITIVE_LONGITUDE_DIRECTION = EAST
  REFERENCE_LATITUDE = "N/A"
  REFERENCE_LONGITUDE = "N/A"
  SAMPLE_FIRST_PIXEL = 1
  SAMPLE_LAST_PIXEL = 6373
  SAMPLE_PROJECTION_OFFSET = 4064.0
  SECOND_STANDARD_PARALLEL = "N/A"
  WESTERNMOST_LONGITUDE = 166.901
END_OBJECT = IMAGE_MAP_PROJECTION
/* The JPEG2000 image data file associated with this label. */
OBJECT = COMPRESSED_FILE
  FILE_NAME = "HG882_0000_ND3.JP2"
  RECORD_TYPE = UNDEFINED
  FILE_RECORDS = UNK
  ENCODING_TYPE = "JP2"
  INTERCHANGE_FORMAT = BINARY
  UNCOMPRESSED_FILE_NAME = "HG882_0000_ND3.IMG"
  REQUIRED_STORAGE_BYTES = "104905953"
  ^DESCRIPTION = "JP2INFO.TXT"
END_OBJECT = COMPRESSED_FILE
END
