PDS_VERSION_ID = PDS3
/* FILE DATA ELEMENTS */
RECORD_TYPE = STREAM
/* POINTERS TO DATA OBJECTS */
^COMPRESSED_FILE = "HG883_0000_P13.JP2"
/* IDENTIFICATION DATA ELEMENTS */
DATA_SET_ID = "MEX-M-HRSC-5-REFDR-MAPPROJECTED-V3.0"
DATA_SET_NAME = "MARS EXPRESS HRSC MAP PROJECTED REFDR V3.0"
DETECTOR_ID = MEX_HRSC_P1
EVENT_TYPE = "MARS-REGIONAL-MAPPING-Im-Fl-Gl"
INSTRUMENT_HOST_ID = MEX
INSTRUMENT_HOST_NAME = "MARS EXPRESS"
INSTRUMENT_ID = HRSC
INSTRUMENT_NAME = "HIGH RESOLUTION STEREO CAMERA"
MISSION_NAME = "MARS EXPRESS"
MISSION_PHASE_NAME = ME_Phase_36
PROCESSING_LEVEL_ID = 3
PRODUCT_CREATION_TIME = 2018-06-28T11:48:36.000Z
PRODUCT_ID = "HG883_0000_P13.JP2"
RELEASE_ID = 0138
REVISION_ID = 0000
/* QUALITY DATA ELEMENTS */
DATA_QUALITY_ID = 1
DATA_QUALITY_DESC = "Data calculated based on original SPICE kernels"
/* TIME DATA ELEMENTS */
SPACECRAFT_CLOCK_START_COUNT = "1/0441735833.07323"
SPACECRAFT_CLOCK_STOP_COUNT = "1/0441736056.47842"
START_TIME = 2017-05-01T16:24:50.944Z
STOP_TIME = 2017-05-01T16:27:32.039Z
/* ORBITAL DATA ELEMENTS */
ASCENDING_NODE_LONGITUDE = 256.83
MAXIMUM_RESOLUTION = 27.3
FOOTPRINT_POINT_LATITUDE = (-52.5698,-52.5655,-52.5606,-52.5551, -52.5489,-52.5421,-52.5996,-52.3915, -52.0793,-51.8712,-51.559,-51.3507, -51.038,-50.83,-50.6222,-50.3099, -50.1028,-49.7919,-49.5843,-49.3765, -49.1687,-48.962,-48.7545,-48.5465, -48.3388,-48.0271,-47.7169,-47.5092, -47.3018,-46.9914,-46.7854,-46.5813, -46.2721,-46.0655,-45.8595,-45.6534, -45.4483,-45.2426,-45.0368,-44.8313, -44.6217,-44.4088,-44.1975,-43.88, -43.6683,-43.4565,-43.2451,-42.9281, -42.6117,-42.4004,-42.1901,-42.1657, -42.1674,-42.1676,-42.1685,-42.1687, -42.2743,-42.4853,-42.6962,-43.0125, -43.3308,-43.5425,-43.8603,-44.0717, -44.2843,-44.4961,-44.8135,-45.0197, -45.227,-45.5374,-45.8473,-46.1574, -46.3644,-46.5702,-46.8817,-47.0896, -47.297,-47.5042,-47.711,-47.9197, -48.2308,-48.5421,-48.8544,-49.0639, -49.3753,-49.584,-49.7922,-50.0003, -50.3132,-50.6266,-50.8354,-51.0444, -51.2531,-51.4622,-51.7756,-51.9849, -52.1941,-52.4031,-52.6121,-52.5698)
FOOTPRINT_POINT_LONGITUDE = (64.7218,64.4402,64.1555,63.8683, 63.5782,63.2847,62.9418,62.9692,63.0099 ,63.0366,63.076,63.1022,63.1415,63.1662 ,63.1904,63.2271,63.2493,63.2823, 63.3046,63.3272,63.3495,63.3696,63.3908 ,63.4128,63.4342,63.466,63.4946,63.5151 ,63.535,63.5632,63.58,63.5935,63.6189, 63.6365,63.653,63.6694,63.6842,63.6998, 63.7155,63.7308,63.7464,63.7628,63.7765 ,63.7979,63.8123,63.8266,63.8404, 63.8606,63.88,63.8934,63.9053,64.259, 64.4916,64.7893,65.1961,65.357,65.5974, 65.5871,65.5766,65.5609,65.5444,65.5334 ,65.5167,65.5055,65.494,65.4825,65.4648 ,65.4531,65.441,65.4229,65.4045,65.3859 ,65.3733,65.3608,65.3411,65.3277, 65.3144,65.301,65.2875,65.2733,65.2524, 65.231,65.209,65.1937,65.1714,65.156, 65.1405,65.1249,65.1009,65.0763,65.0597 ,65.0429,65.0259,65.0087,64.9824, 64.9645,64.9465,64.9282,64.9097, 64.7218)
ORBIT_NUMBER = 16883
ORBITAL_ECCENTRICITY = 0.578
ORBITAL_INCLINATION = 86.97
ORBITAL_SEMIMAJOR_AXIS = 8801.22
PERIAPSIS_ALTITUDE = 327.34
PERIAPSIS_ARGUMENT_ANGLE = 309.13
PERIAPSIS_TIME = 2017-05-01T16:25:01.000Z
SPACECRAFT_ORIENTATION = (0.0,1.0,0.0)
^MEX_ORIENTATION_DESC = "MEX_ORIENTATION_DESC.TXT"
SPACECRAFT_POINTING_MODE = ACROSSTRACK
^MEX_POINTING_DESC = "MEX_POINTING_DESC.TXT"
RIGHT_ASCENSION = -1e+32
DECLINATION = -1e+32
OFFSET_ANGLE = 0.74
SPACECRAFT_SOLAR_DISTANCE = 2.32281e+08
TARGET_NAME = MARS
/* CAMERA DATA ELEMENTS */
DETECTOR_TEMPERATURE = 17.5549
FOCAL_PLANE_TEMPERATURE = 8.7872
INST_CMPRS_NAME = "DISCRETE COSINE TRANSFORMATION (DCT)"
INST_CMPRS_RATIO = 9.62168
INST_CMPRS_QUALITY = 0
INST_CMPRS_QUANTZ_TBL_ID = 0
INSTRUMENT_TEMPERATURE = 11.4379
LENS_TEMPERATURE = 8.9911
MACROPIXEL_SIZE = 2
MISSING_FRAMES = 0
PIXEL_SUBSAMPLING_FLAG = N
SIGNAL_CHAIN_ID = 3
/* RADIOMETRIC DATA ELEMENTS */
BANDWIDTH = 174.0
CENTER_FILTER_WAVELENGTH = 675.0
RADIANCE_OFFSET = 5.14193
RADIANCE_SCALING_FACTOR = 0.00784173
REFLECTANCE_SCALING_FACTOR = 0.000227575
MEX:REFLECTANCE_OFFSET = 0.149224
/* IMAGE OBJECT DEFINITIONS */
OBJECT = IMAGE
  INTERCHANGE_FORMAT = BINARY
  LINES = 24957
  LINE_SAMPLES = 4355
  SAMPLE_TYPE = UNSIGNED_INTEGER
  SAMPLE_BITS = 8
  BANDS = 1
  BAND_STORAGE_TYPE = BAND_SEQUENTIAL
  MAXIMUM = 255
  MEAN = 126.186
  MINIMUM = 1
  STANDARD_DEVIATION = 40.5339
END_OBJECT = IMAGE
/* MAP OBJECT DEFINITIONS */
OBJECT = IMAGE_MAP_PROJECTION
  ^DATA_SET_MAP_PROJECTION_CATALOG= "DSMAP.CAT"
  A_AXIS_RADIUS = 3396.0
  B_AXIS_RADIUS = 3396.0
  C_AXIS_RADIUS = 3396.0
  CENTER_LATITUDE = 0.0
  CENTER_LONGITUDE = 64.0
  COORDINATE_SYSTEM_NAME = PLANETOGRAPHIC
  COORDINATE_SYSTEM_TYPE = "BODY-FIXED ROTATING"
  EASTERNMOST_LONGITUDE = 65.59739999999999
  FIRST_STANDARD_PARALLEL = "N/A"
  LINE_FIRST_PIXEL = 1
  LINE_LAST_PIXEL = 24957
  LINE_PROJECTION_OFFSET = -99880.25
  MAP_PROJECTION_ROTATION = 0.0
  MAP_PROJECTION_TYPE = SINUSOIDAL
  MAP_RESOLUTION = 2370.85521546667
  MAP_SCALE = 0.025
  MAXIMUM_LATITUDE = -42.1657
  MINIMUM_LATITUDE = -52.6121
  POSITIVE_LONGITUDE_DIRECTION = EAST
  REFERENCE_LATITUDE = "N/A"
  REFERENCE_LONGITUDE = "N/A"
  SAMPLE_FIRST_PIXEL = 1
  SAMPLE_LAST_PIXEL = 4355
  SAMPLE_PROJECTION_OFFSET = 1544.25
  SECOND_STANDARD_PARALLEL = "N/A"
  WESTERNMOST_LONGITUDE = 62.9418
END_OBJECT = IMAGE_MAP_PROJECTION
/* The JPEG2000 image data file associated with this label. */
OBJECT = COMPRESSED_FILE
  FILE_NAME = "HG883_0000_P13.JP2"
  RECORD_TYPE = UNDEFINED
  FILE_RECORDS = UNK
  ENCODING_TYPE = "JP2"
  INTERCHANGE_FORMAT = BINARY
  UNCOMPRESSED_FILE_NAME = "HG883_0000_P13.IMG"
  REQUIRED_STORAGE_BYTES = "108713865"
  ^DESCRIPTION = "JP2INFO.TXT"
END_OBJECT = COMPRESSED_FILE
END
