PDS_VERSION_ID = PDS3
/* FILE DATA ELEMENTS */
RECORD_TYPE = STREAM
/* POINTERS TO DATA OBJECTS */
^COMPRESSED_FILE = "HG884_0000_GR3.JP2"
/* IDENTIFICATION DATA ELEMENTS */
DATA_SET_ID = "MEX-M-HRSC-5-REFDR-MAPPROJECTED-V3.0"
DATA_SET_NAME = "MARS EXPRESS HRSC MAP PROJECTED REFDR V3.0"
DETECTOR_ID = MEX_HRSC_GREEN
EVENT_TYPE = "MARS-REGIONAL-MAPPING-Te-Gl-Pf"
INSTRUMENT_HOST_ID = MEX
INSTRUMENT_HOST_NAME = "MARS EXPRESS"
INSTRUMENT_ID = HRSC
INSTRUMENT_NAME = "HIGH RESOLUTION STEREO CAMERA"
MISSION_NAME = "MARS EXPRESS"
MISSION_PHASE_NAME = ME_Phase_36
PROCESSING_LEVEL_ID = 3
PRODUCT_CREATION_TIME = 2018-06-28T11:48:36.000Z
PRODUCT_ID = "HG884_0000_GR3.JP2"
RELEASE_ID = 0138
REVISION_ID = 0000
/* QUALITY DATA ELEMENTS */
DATA_QUALITY_ID = 1
DATA_QUALITY_DESC = "Data calculated based on original SPICE kernels"
/* TIME DATA ELEMENTS */
SPACECRAFT_CLOCK_START_COUNT = "1/0441761013.07285"
SPACECRAFT_CLOCK_STOP_COUNT = "1/0441761217.40453"
START_TIME = 2017-05-01T23:24:16.255Z
STOP_TIME = 2017-05-01T23:26:38.177Z
/* ORBITAL DATA ELEMENTS */
ASCENDING_NODE_LONGITUDE = 256.82
MAXIMUM_RESOLUTION = 52.6
FOOTPRINT_POINT_LATITUDE = (-52.8386,-52.8282,-52.8202,-52.8127, -52.8036,-52.7964,-52.7044,-52.5166, -52.3286,-52.0467,-51.7667,-51.585, -51.4035,-51.1311,-50.9495,-50.6773, -50.4959,-50.2232,-50.0415,-49.7691, -49.5875,-49.4059,-49.1271,-48.9455, -48.764,-48.4844,-48.2967,-48.109, -47.9215,-47.7339,-47.5463,-47.3589, -47.1715,-46.9839,-46.7965,-46.5155, -46.2346,-46.0474,-45.8602,-45.673, -45.486,-45.2989,-45.1119,-44.8315, -44.6445,-44.4571,-44.1772,-43.9903, -43.7113,-43.5241,-43.5275,-43.535, -43.5403,-43.5448,-43.551,-43.6469, -43.8344,-44.1152,-44.3953,-44.5822, -44.7697,-44.9555,-45.1435,-45.426, -45.7074,-45.895,-46.0828,-46.2704, -46.4582,-46.7399,-47.0218,-47.2097, -47.3976,-47.6796,-47.8676,-48.0557, -48.2437,-48.5258,-48.8064,-48.9884, -49.1702,-49.3526,-49.5411,-49.7229, -49.905,-50.1782,-50.3605,-50.5425, -50.7246,-50.9067,-51.0886,-51.362, -51.5442,-51.7265,-51.9103,-52.1932, -52.3818,-52.6644,-52.8528,-52.8386)
FOOTPRINT_POINT_LONGITUDE = (323.645,323.255,322.983,322.746, 322.476,322.272,321.995,322.015,322.035 ,322.065,322.093,322.111,322.128, 322.154,322.17,322.194,322.21,322.235, 322.251,322.274,322.289,322.304,322.326 ,322.341,322.355,322.376,322.39,322.404 ,322.416,322.43,322.443,322.455,322.467 ,322.48,322.492,322.509,322.526,322.537 ,322.548,322.559,322.569,322.58,322.59, 322.605,322.615,322.626,322.64,322.649, 322.66,322.671,322.99,323.309,323.552, 323.796,324.19,324.299,324.294,324.286, 324.274,324.267,324.262,324.251,324.246 ,324.239,324.229,324.222,324.216, 324.208,324.201,324.19,324.179,324.171, 324.164,324.152,324.144,324.136,324.127 ,324.114,324.102,324.094,324.085, 324.077,324.069,324.059,324.05,324.037, 324.028,324.019,324.009,323.999,323.989 ,323.975,323.965,323.955,323.946, 323.931,323.92,323.903,323.892,323.645)
ORBIT_NUMBER = 16884
ORBITAL_ECCENTRICITY = 0.578
ORBITAL_INCLINATION = 86.96
ORBITAL_SEMIMAJOR_AXIS = 8796.93
PERIAPSIS_ALTITUDE = 327.91
PERIAPSIS_ARGUMENT_ANGLE = 308.96
PERIAPSIS_TIME = 2017-05-01T23:24:41.000Z
SPACECRAFT_ORIENTATION = (0.0,1.0,0.0)
^MEX_ORIENTATION_DESC = "MEX_ORIENTATION_DESC.TXT"
SPACECRAFT_POINTING_MODE = NADIR
^MEX_POINTING_DESC = "MEX_POINTING_DESC.TXT"
RIGHT_ASCENSION = -1e+32
DECLINATION = -1e+32
OFFSET_ANGLE = -1e+32
SPACECRAFT_SOLAR_DISTANCE = 2.32336e+08
TARGET_NAME = MARS
/* CAMERA DATA ELEMENTS */
DETECTOR_TEMPERATURE = 18.3705
FOCAL_PLANE_TEMPERATURE = 6.9521
INST_CMPRS_NAME = "DISCRETE COSINE TRANSFORMATION (DCT)"
INST_CMPRS_RATIO = 16.8206
INST_CMPRS_QUALITY = 0
INST_CMPRS_QUANTZ_TBL_ID = 0
INSTRUMENT_TEMPERATURE = 10.8262
LENS_TEMPERATURE = 7.3599
MACROPIXEL_SIZE = 4
MISSING_FRAMES = 1
PIXEL_SUBSAMPLING_FLAG = N
SIGNAL_CHAIN_ID = 2
/* RADIOMETRIC DATA ELEMENTS */
BANDWIDTH = 88.0
CENTER_FILTER_WAVELENGTH = 538.0
RADIANCE_OFFSET = 1.41788
RADIANCE_SCALING_FACTOR = 0.0041998
REFLECTANCE_SCALING_FACTOR = 0.000195187
MEX:REFLECTANCE_OFFSET = 0.0658963
/* IMAGE OBJECT DEFINITIONS */
OBJECT = IMAGE
  INTERCHANGE_FORMAT = BINARY
  LINES = 11092
  LINE_SAMPLES = 1851
  SAMPLE_TYPE = UNSIGNED_INTEGER
  SAMPLE_BITS = 8
  BANDS = 1
  BAND_STORAGE_TYPE = BAND_SEQUENTIAL
  MAXIMUM = 255
  MEAN = 132.092
  MINIMUM = 1
  STANDARD_DEVIATION = 35.0081
END_OBJECT = IMAGE
/* MAP OBJECT DEFINITIONS */
OBJECT = IMAGE_MAP_PROJECTION
  ^DATA_SET_MAP_PROJECTION_CATALOG= "DSMAP.CAT"
  A_AXIS_RADIUS = 3396.0
  B_AXIS_RADIUS = 3396.0
  C_AXIS_RADIUS = 3396.0
  CENTER_LATITUDE = 0.0
  CENTER_LONGITUDE = 323.0
  COORDINATE_SYSTEM_NAME = PLANETOGRAPHIC
  COORDINATE_SYSTEM_TYPE = "BODY-FIXED ROTATING"
  EASTERNMOST_LONGITUDE = 324.299
  FIRST_STANDARD_PARALLEL = "N/A"
  LINE_FIRST_PIXEL = 1
  LINE_LAST_PIXEL = 11092
  LINE_PROJECTION_OFFSET = -51577.125
  MAP_PROJECTION_ROTATION = 0.0
  MAP_PROJECTION_TYPE = SINUSOIDAL
  MAP_RESOLUTION = 1185.42760773333
  MAP_SCALE = 0.05
  MAXIMUM_LATITUDE = -43.5241
  MINIMUM_LATITUDE = -52.8528
  POSITIVE_LONGITUDE_DIRECTION = EAST
  REFERENCE_LATITUDE = "N/A"
  REFERENCE_LONGITUDE = "N/A"
  SAMPLE_FIRST_PIXEL = 1
  SAMPLE_LAST_PIXEL = 1851
  SAMPLE_PROJECTION_OFFSET = 732.625
  SECOND_STANDARD_PARALLEL = "N/A"
  WESTERNMOST_LONGITUDE = 321.995
END_OBJECT = IMAGE_MAP_PROJECTION
/* The JPEG2000 image data file associated with this label. */
OBJECT = COMPRESSED_FILE
  FILE_NAME = "HG884_0000_GR3.JP2"
  RECORD_TYPE = UNDEFINED
  FILE_RECORDS = UNK
  ENCODING_TYPE = "JP2"
  INTERCHANGE_FORMAT = BINARY
  UNCOMPRESSED_FILE_NAME = "HG884_0000_GR3.IMG"
  REQUIRED_STORAGE_BYTES = "20551653"
  ^DESCRIPTION = "JP2INFO.TXT"
END_OBJECT = COMPRESSED_FILE
END
