PDS_VERSION_ID = PDS3
/* FILE DATA ELEMENTS */
RECORD_TYPE = STREAM
/* POINTERS TO DATA OBJECTS */
^COMPRESSED_FILE = "HG892_0000_S13.JP2"
/* IDENTIFICATION DATA ELEMENTS */
DATA_SET_ID = "MEX-M-HRSC-5-REFDR-MAPPROJECTED-V3.0"
DATA_SET_NAME = "MARS EXPRESS HRSC MAP PROJECTED REFDR V3.0"
DETECTOR_ID = MEX_HRSC_S1
EVENT_TYPE = "MARS-LOCAL-STEREO-Fl-Gl-Pf"
INSTRUMENT_HOST_ID = MEX
INSTRUMENT_HOST_NAME = "MARS EXPRESS"
INSTRUMENT_ID = HRSC
INSTRUMENT_NAME = "HIGH RESOLUTION STEREO CAMERA"
MISSION_NAME = "MARS EXPRESS"
MISSION_PHASE_NAME = ME_Phase_36
PROCESSING_LEVEL_ID = 3
PRODUCT_CREATION_TIME = 2018-06-28T11:48:36.000Z
PRODUCT_ID = "HG892_0000_S13.JP2"
RELEASE_ID = 0138
REVISION_ID = 0000
/* QUALITY DATA ELEMENTS */
DATA_QUALITY_ID = 1
DATA_QUALITY_DESC = "Data calculated based on original SPICE kernels"
/* TIME DATA ELEMENTS */
SPACECRAFT_CLOCK_START_COUNT = "1/0441962565.07318"
SPACECRAFT_CLOCK_STOP_COUNT = "1/0441962713.24131"
START_TIME = 2017-05-04T07:23:52.441Z
STOP_TIME = 2017-05-04T07:25:19.569Z
/* ORBITAL DATA ELEMENTS */
ASCENDING_NODE_LONGITUDE = 256.67
MAXIMUM_RESOLUTION = 14.1
FOOTPRINT_POINT_LATITUDE = (-47.338,-47.3309,-47.3234,-47.3156, -47.3073,-47.2992,-47.1225,-46.9587, -46.8504,-46.6875,-46.5789,-46.4702, -46.3616,-46.2526,-46.1438,-45.9808, -45.8723,-45.7054,-45.5933,-45.4252, -45.3138,-45.2021,-45.0908,-44.9228, -44.812,-44.7002,-44.5894,-44.4788, -44.3677,-44.2005,-44.0891,-43.9223, -43.7553,-43.5887,-43.478,-43.3679, -43.2572,-43.0911,-42.9801,-42.8685, -42.7576,-42.6474,-42.5357,-42.425, -42.3147,-42.2043,-42.0933,-41.9832, -41.8732,-41.8036,-41.8077,-41.813, -41.8204,-41.8249,-41.8297,-41.8369, -41.8407,-41.9518,-42.0615,-42.2267, -42.3369,-42.4472,-42.5578,-42.6712, -42.7828,-42.8935,-43.0039,-43.1674, -43.3353,-43.5025,-43.6692,-43.8358, -43.9468,-44.1138,-44.2251,-44.3361, -44.4473,-44.5587,-44.6705,-44.7795, -44.8914,-45.0615,-45.2298,-45.3431, -45.4574,-45.6272,-45.7395,-45.907, -46.014,-46.1207,-46.2299,-46.3934, -46.5024,-46.6114,-46.7199,-46.8832, -46.9921,-47.1562,-47.2655,-47.338)
FOOTPRINT_POINT_LONGITUDE = (225.78,225.514,225.248,224.984,224.72, 224.473,224.379,224.388,224.394,224.403 ,224.408,224.414,224.42,224.426,224.431 ,224.44,224.445,224.453,224.459,224.467 ,224.472,224.477,224.482,224.49,224.494 ,224.499,224.504,224.508,224.513,224.52 ,224.524,224.531,224.538,224.544, 224.548,224.552,224.556,224.562,224.566 ,224.57,224.574,224.578,224.582,224.586 ,224.59,224.593,224.597,224.6,224.604, 224.704,224.867,225.08,225.358,225.539, 225.737,226.034,226.217,226.271,226.268 ,226.263,226.26,226.256,226.253,226.251 ,226.249,226.245,226.242,226.235, 226.231,226.226,226.221,226.216,226.212 ,226.207,226.203,226.199,226.195, 226.191,226.188,226.183,226.179,226.175 ,226.169,226.166,226.163,226.158, 226.154,226.148,226.143,226.138,226.134 ,226.129,226.125,226.121,226.116,226.11 ,226.105,226.099,226.095,225.78)
ORBIT_NUMBER = 16892
ORBITAL_ECCENTRICITY = 0.578
ORBITAL_INCLINATION = 86.97
ORBITAL_SEMIMAJOR_AXIS = 8796.09
PERIAPSIS_ALTITUDE = 327.06
PERIAPSIS_ARGUMENT_ANGLE = 307.57
PERIAPSIS_TIME = 2017-05-04T07:22:08.000Z
SPACECRAFT_ORIENTATION = (0.0,1.0,0.0)
^MEX_ORIENTATION_DESC = "MEX_ORIENTATION_DESC.TXT"
SPACECRAFT_POINTING_MODE = ACROSSTRACK
^MEX_POINTING_DESC = "MEX_POINTING_DESC.TXT"
RIGHT_ASCENSION = -1e+32
DECLINATION = -1e+32
OFFSET_ANGLE = -0.18
SPACECRAFT_SOLAR_DISTANCE = 2.32771e+08
TARGET_NAME = MARS
/* CAMERA DATA ELEMENTS */
DETECTOR_TEMPERATURE = 17.1471
FOCAL_PLANE_TEMPERATURE = 7.7677
INST_CMPRS_NAME = "DISCRETE COSINE TRANSFORMATION (DCT)"
INST_CMPRS_RATIO = 7.77096
INST_CMPRS_QUALITY = 0
INST_CMPRS_QUANTZ_TBL_ID = 0
INSTRUMENT_TEMPERATURE = 11.4379
LENS_TEMPERATURE = 8.3794
MACROPIXEL_SIZE = 1
MISSING_FRAMES = 0
PIXEL_SUBSAMPLING_FLAG = N
SIGNAL_CHAIN_ID = 2
/* RADIOMETRIC DATA ELEMENTS */
BANDWIDTH = 180.0
CENTER_FILTER_WAVELENGTH = 677.0
RADIANCE_OFFSET = 3.10623
RADIANCE_SCALING_FACTOR = 0.0158357
REFLECTANCE_SCALING_FACTOR = 0.000447649
MEX:REFLECTANCE_OFFSET = 0.087808
/* IMAGE OBJECT DEFINITIONS */
OBJECT = IMAGE
  INTERCHANGE_FORMAT = BINARY
  LINES = 26474
  LINE_SAMPLES = 6564
  SAMPLE_TYPE = UNSIGNED_INTEGER
  SAMPLE_BITS = 8
  BANDS = 1
  BAND_STORAGE_TYPE = BAND_SEQUENTIAL
  MAXIMUM = 255
  MEAN = 145.248
  MINIMUM = 1
  STANDARD_DEVIATION = 24.0167
END_OBJECT = IMAGE
/* MAP OBJECT DEFINITIONS */
OBJECT = IMAGE_MAP_PROJECTION
  ^DATA_SET_MAP_PROJECTION_CATALOG= "DSMAP.CAT"
  A_AXIS_RADIUS = 3396.0
  B_AXIS_RADIUS = 3396.0
  C_AXIS_RADIUS = 3396.0
  CENTER_LATITUDE = 0.0
  CENTER_LONGITUDE = 225.0
  COORDINATE_SYSTEM_NAME = PLANETOGRAPHIC
  COORDINATE_SYSTEM_TYPE = "BODY-FIXED ROTATING"
  EASTERNMOST_LONGITUDE = 226.271
  FIRST_STANDARD_PARALLEL = "N/A"
  LINE_FIRST_PIXEL = 1
  LINE_LAST_PIXEL = 26474
  LINE_PROJECTION_OFFSET = -198329.0
  MAP_PROJECTION_ROTATION = 0.0
  MAP_PROJECTION_TYPE = SINUSOIDAL
  MAP_RESOLUTION = 4741.71043093333
  MAP_SCALE = 0.0125
  MAXIMUM_LATITUDE = -41.8036
  MINIMUM_LATITUDE = -47.338
  POSITIVE_LONGITUDE_DIRECTION = EAST
  REFERENCE_LATITUDE = "N/A"
  REFERENCE_LONGITUDE = "N/A"
  SAMPLE_FIRST_PIXEL = 1
  SAMPLE_LAST_PIXEL = 6564
  SAMPLE_PROJECTION_OFFSET = 2028.0
  SECOND_STANDARD_PARALLEL = "N/A"
  WESTERNMOST_LONGITUDE = 224.379
END_OBJECT = IMAGE_MAP_PROJECTION
/* The JPEG2000 image data file associated with this label. */
OBJECT = COMPRESSED_FILE
  FILE_NAME = "HG892_0000_S13.JP2"
  RECORD_TYPE = UNDEFINED
  FILE_RECORDS = UNK
  ENCODING_TYPE = "JP2"
  INTERCHANGE_FORMAT = BINARY
  UNCOMPRESSED_FILE_NAME = "HG892_0000_S13.IMG"
  REQUIRED_STORAGE_BYTES = "173808156"
  ^DESCRIPTION = "JP2INFO.TXT"
END_OBJECT = COMPRESSED_FILE
END
