PDS_VERSION_ID = PDS3
/* FILE DATA ELEMENTS */
RECORD_TYPE = STREAM
/* POINTERS TO DATA OBJECTS */
^COMPRESSED_FILE = "HG895_0000_ND3.JP2"
/* IDENTIFICATION DATA ELEMENTS */
DATA_SET_ID = "MEX-M-HRSC-5-REFDR-MAPPROJECTED-V3.0"
DATA_SET_NAME = "MARS EXPRESS HRSC MAP PROJECTED REFDR V3.0"
DETECTOR_ID = MEX_HRSC_NADIR
EVENT_TYPE = "MARS-REGIONAL-MAPPING-Im-Gl-Pf"
INSTRUMENT_HOST_ID = MEX
INSTRUMENT_HOST_NAME = "MARS EXPRESS"
INSTRUMENT_ID = HRSC
INSTRUMENT_NAME = "HIGH RESOLUTION STEREO CAMERA"
MISSION_NAME = "MARS EXPRESS"
MISSION_PHASE_NAME = ME_Phase_36
PROCESSING_LEVEL_ID = 3
PRODUCT_CREATION_TIME = 2018-06-28T11:48:36.000Z
PRODUCT_ID = "HG895_0000_ND3.JP2"
RELEASE_ID = 0138
REVISION_ID = 0000
/* QUALITY DATA ELEMENTS */
DATA_QUALITY_ID = 1
DATA_QUALITY_DESC = "Data calculated based on original SPICE kernels"
/* TIME DATA ELEMENTS */
SPACECRAFT_CLOCK_START_COUNT = "1/0442037982.09056"
SPACECRAFT_CLOCK_STOP_COUNT = "1/0442038187.25670"
START_TIME = 2017-05-05T04:20:20.471Z
STOP_TIME = 2017-05-05T04:22:43.463Z
/* ORBITAL DATA ELEMENTS */
ASCENDING_NODE_LONGITUDE = 256.62
MAXIMUM_RESOLUTION = 13
FOOTPRINT_POINT_LATITUDE = (-56.8145,-56.8006,-56.7827,-56.7699, -56.7545,-56.4618,-56.2724,-56.083, -55.8936,-55.7041,-55.5145,-55.325, -55.1354,-54.9457,-54.756,-54.5664, -54.3766,-54.1868,-53.997,-53.8095, -53.6261,-53.4425,-53.1672,-52.9834, -52.7996,-52.5241,-52.3404,-52.1568, -51.8814,-51.6977,-51.4223,-51.2387, -51.0551,-50.8717,-50.688,-50.4127, -50.229,-50.0454,-49.7652,-49.5753, -49.3853,-49.1954,-49.0056,-48.8157, -48.6259,-48.436,-48.2463,-48.0565, -47.8668,-47.6771,-47.3908,-47.4084, -47.4177,-47.5235,-47.7137,-47.9039, -48.0941,-48.2843,-48.4746,-48.6649, -48.8553,-49.0457,-49.2361,-49.5217, -49.7122,-49.9965,-50.1806,-50.3648, -50.5489,-50.733,-51.0093,-51.1936, -51.3777,-51.6541,-51.8383,-52.0225, -52.2067,-52.4831,-52.6673,-52.8516, -53.0358,-53.22,-53.4043,-53.6806, -53.8648,-54.1481,-54.3385,-54.529, -54.7194,-54.9099,-55.1003,-55.2906, -55.481,-55.6713,-55.8616,-56.0519, -56.2421,-56.4323,-56.6224,-56.8145)
FOOTPRINT_POINT_LONGITUDE = (278.037,277.577,277.058,276.719, 276.339,276.215,276.242,276.27,276.297, 276.323,276.348,276.374,276.399,276.424 ,276.448,276.473,276.496,276.519, 276.542,276.564,276.587,276.608,276.639 ,276.656,276.674,276.702,276.72,276.739 ,276.768,276.786,276.813,276.831,276.85 ,276.869,276.886,276.911,276.927, 276.943,276.966,276.982,276.997,277.012 ,277.027,277.041,277.055,277.069, 277.083,277.097,277.11,277.124,277.31, 277.93,278.315,278.839,278.83,278.822, 278.814,278.805,278.796,278.788,278.779 ,278.769,278.76,278.745,278.735,278.721 ,278.711,278.703,278.698,278.689, 278.674,278.662,278.655,278.64,278.63, 278.619,278.609,278.593,278.581,278.568 ,278.555,278.544,278.53,278.507,278.496 ,278.477,278.464,278.451,278.438, 278.425,278.412,278.398,278.384,278.369 ,278.355,278.341,278.325,278.31,278.295 ,278.037)
ORBIT_NUMBER = 16895
ORBITAL_ECCENTRICITY = 0.578
ORBITAL_INCLINATION = 86.95
ORBITAL_SEMIMAJOR_AXIS = 8797.02
PERIAPSIS_ALTITUDE = 327.61
PERIAPSIS_ARGUMENT_ANGLE = 307.08
PERIAPSIS_TIME = 2017-05-05T04:21:22.000Z
SPACECRAFT_ORIENTATION = (0.0,1.0,0.0)
^MEX_ORIENTATION_DESC = "MEX_ORIENTATION_DESC.TXT"
SPACECRAFT_POINTING_MODE = NADIR
^MEX_POINTING_DESC = "MEX_POINTING_DESC.TXT"
RIGHT_ASCENSION = -1e+32
DECLINATION = -1e+32
OFFSET_ANGLE = -1e+32
SPACECRAFT_SOLAR_DISTANCE = 2.32933e+08
TARGET_NAME = MARS
/* CAMERA DATA ELEMENTS */
DETECTOR_TEMPERATURE = 18.1666
FOCAL_PLANE_TEMPERATURE = 7.9716
INST_CMPRS_NAME = "DISCRETE COSINE TRANSFORMATION (DCT)"
INST_CMPRS_RATIO = 5.9436
INST_CMPRS_QUALITY = 0
INST_CMPRS_QUANTZ_TBL_ID = 0
INSTRUMENT_TEMPERATURE = 11.4379
LENS_TEMPERATURE = 8.7872
MACROPIXEL_SIZE = 1
MISSING_FRAMES = 0
PIXEL_SUBSAMPLING_FLAG = N
SIGNAL_CHAIN_ID = 0
/* RADIOMETRIC DATA ELEMENTS */
BANDWIDTH = 177.0
CENTER_FILTER_WAVELENGTH = 677.5
RADIANCE_OFFSET = 2.49814
RADIANCE_SCALING_FACTOR = 0.00960069
REFLECTANCE_SCALING_FACTOR = 0.000276725
MEX:REFLECTANCE_OFFSET = 0.072005
/* IMAGE OBJECT DEFINITIONS */
OBJECT = IMAGE
  INTERCHANGE_FORMAT = BINARY
  LINES = 44728
  LINE_SAMPLES = 7578
  SAMPLE_TYPE = UNSIGNED_INTEGER
  SAMPLE_BITS = 8
  BANDS = 1
  BAND_STORAGE_TYPE = BAND_SEQUENTIAL
  MAXIMUM = 255
  MEAN = 121.115
  MINIMUM = 1
  STANDARD_DEVIATION = 27.7634
END_OBJECT = IMAGE
/* MAP OBJECT DEFINITIONS */
OBJECT = IMAGE_MAP_PROJECTION
  ^DATA_SET_MAP_PROJECTION_CATALOG= "DSMAP.CAT"
  A_AXIS_RADIUS = 3396.0
  B_AXIS_RADIUS = 3396.0
  C_AXIS_RADIUS = 3396.0
  CENTER_LATITUDE = 0.0
  CENTER_LONGITUDE = 278.0
  COORDINATE_SYSTEM_NAME = PLANETOGRAPHIC
  COORDINATE_SYSTEM_TYPE = "BODY-FIXED ROTATING"
  EASTERNMOST_LONGITUDE = 278.839
  FIRST_STANDARD_PARALLEL = "N/A"
  LINE_FIRST_PIXEL = 1
  LINE_LAST_PIXEL = 44728
  LINE_PROJECTION_OFFSET = -224698.0
  MAP_PROJECTION_ROTATION = 0.0
  MAP_PROJECTION_TYPE = SINUSOIDAL
  MAP_RESOLUTION = 4741.71043093333
  MAP_SCALE = 0.0125
  MAXIMUM_LATITUDE = -47.3908
  MINIMUM_LATITUDE = -56.8145
  POSITIVE_LONGITUDE_DIRECTION = EAST
  REFERENCE_LATITUDE = "N/A"
  REFERENCE_LONGITUDE = "N/A"
  SAMPLE_FIRST_PIXEL = 1
  SAMPLE_LAST_PIXEL = 7578
  SAMPLE_PROJECTION_OFFSET = 4770.0
  SECOND_STANDARD_PARALLEL = "N/A"
  WESTERNMOST_LONGITUDE = 276.215
END_OBJECT = IMAGE_MAP_PROJECTION
/* The JPEG2000 image data file associated with this label. */
OBJECT = COMPRESSED_FILE
  FILE_NAME = "HG895_0000_ND3.JP2"
  RECORD_TYPE = UNDEFINED
  FILE_RECORDS = UNK
  ENCODING_TYPE = "JP2"
  INTERCHANGE_FORMAT = BINARY
  UNCOMPRESSED_FILE_NAME = "HG895_0000_ND3.IMG"
  REQUIRED_STORAGE_BYTES = "338979096"
  ^DESCRIPTION = "JP2INFO.TXT"
END_OBJECT = COMPRESSED_FILE
END
