PDS_VERSION_ID = PDS3
/* FILE DATA ELEMENTS */
RECORD_TYPE = STREAM
/* POINTERS TO DATA OBJECTS */
^COMPRESSED_FILE = "HG895_0000_P23.JP2"
/* IDENTIFICATION DATA ELEMENTS */
DATA_SET_ID = "MEX-M-HRSC-5-REFDR-MAPPROJECTED-V3.0"
DATA_SET_NAME = "MARS EXPRESS HRSC MAP PROJECTED REFDR V3.0"
DETECTOR_ID = MEX_HRSC_P2
EVENT_TYPE = "MARS-REGIONAL-MAPPING-Im-Gl-Pf"
INSTRUMENT_HOST_ID = MEX
INSTRUMENT_HOST_NAME = "MARS EXPRESS"
INSTRUMENT_ID = HRSC
INSTRUMENT_NAME = "HIGH RESOLUTION STEREO CAMERA"
MISSION_NAME = "MARS EXPRESS"
MISSION_PHASE_NAME = ME_Phase_36
PROCESSING_LEVEL_ID = 3
PRODUCT_CREATION_TIME = 2018-06-28T11:48:36.000Z
PRODUCT_ID = "HG895_0000_P23.JP2"
RELEASE_ID = 0138
REVISION_ID = 0000
/* QUALITY DATA ELEMENTS */
DATA_QUALITY_ID = 1
DATA_QUALITY_DESC = "Data calculated based on original SPICE kernels"
/* TIME DATA ELEMENTS */
SPACECRAFT_CLOCK_START_COUNT = "1/0442037982.09056"
SPACECRAFT_CLOCK_STOP_COUNT = "1/0442038187.25670"
START_TIME = 2017-05-05T04:20:00.986Z
STOP_TIME = 2017-05-05T04:22:24.206Z
/* ORBITAL DATA ELEMENTS */
ASCENDING_NODE_LONGITUDE = 256.62
MAXIMUM_RESOLUTION = 26.7
FOOTPRINT_POINT_LATITUDE = (-56.8611,-56.8496,-56.8303,-56.8187, -56.8055,-56.6495,-56.3679,-56.1801, -55.9922,-55.8041,-55.6157,-55.4272, -55.2389,-55.0501,-54.8615,-54.673, -54.3897,-54.2007,-53.9173,-53.7285, -53.5404,-53.3504,-53.1615,-52.9668, -52.7753,-52.5856,-52.4009,-52.2169, -52.0345,-51.7594,-51.5759,-51.3002, -51.0264,-50.8462,-50.6632,-50.3892, -50.2045,-50.0212,-49.744,-49.5592, -49.2821,-49.0976,-48.913,-48.7284, -48.54,-48.2538,-48.0629,-47.7769, -47.5874,-47.3963,-47.4074,-47.4149, -47.4308,-47.4391,-47.7263,-47.9178, -48.1091,-48.3005,-48.5875,-48.7764, -48.9614,-49.1467,-49.3314,-49.5176, -49.7031,-49.9808,-50.165,-50.3474, -50.6194,-50.8026,-51.0803,-51.2646, -51.5371,-51.7215,-51.9054,-52.0891, -52.2723,-52.4563,-52.6411,-52.8315, -53.0239,-53.214,-53.4075,-53.6974, -53.8869,-54.1716,-54.361,-54.6448, -54.834,-55.0227,-55.2116,-55.495, -55.684,-55.8727,-56.0616,-56.2505, -56.439,-56.6278,-56.8161,-56.8611)
FOOTPRINT_POINT_LONGITUDE = (278.027,277.649,277.093,276.795, 276.478,276.176,276.219,276.246,276.273 ,276.3,276.326,276.352,276.378,276.403, 276.428,276.452,276.488,276.512,276.546 ,276.569,276.592,276.613,276.635, 276.653,276.673,276.693,276.711,276.73, 276.75,276.778,276.797,276.823,276.851, 276.87,276.888,276.914,276.93,276.946, 276.969,276.984,277.007,277.021,277.036 ,277.05,277.064,277.086,277.1,277.121, 277.135,277.148,277.572,277.834,278.441 ,278.84,278.828,278.82,278.812,278.803, 278.791,278.782,278.774,278.765,278.756 ,278.746,278.737,278.723,278.714, 278.706,278.696,278.688,278.672,278.662 ,278.651,278.64,278.63,278.62,278.61, 278.6,278.588,278.576,278.563,278.551, 278.536,278.514,278.502,278.484,278.471 ,278.452,278.439,278.427,278.414, 278.394,278.38,278.366,278.352,278.337, 278.323,278.308,278.293,278.027)
ORBIT_NUMBER = 16895
ORBITAL_ECCENTRICITY = 0.578
ORBITAL_INCLINATION = 86.95
ORBITAL_SEMIMAJOR_AXIS = 8797.02
PERIAPSIS_ALTITUDE = 327.61
PERIAPSIS_ARGUMENT_ANGLE = 307.08
PERIAPSIS_TIME = 2017-05-05T04:21:22.000Z
SPACECRAFT_ORIENTATION = (0.0,1.0,0.0)
^MEX_ORIENTATION_DESC = "MEX_ORIENTATION_DESC.TXT"
SPACECRAFT_POINTING_MODE = NADIR
^MEX_POINTING_DESC = "MEX_POINTING_DESC.TXT"
RIGHT_ASCENSION = -1e+32
DECLINATION = -1e+32
OFFSET_ANGLE = -1e+32
SPACECRAFT_SOLAR_DISTANCE = 2.32933e+08
TARGET_NAME = MARS
/* CAMERA DATA ELEMENTS */
DETECTOR_TEMPERATURE = 16.7393
FOCAL_PLANE_TEMPERATURE = 7.9716
INST_CMPRS_NAME = "DISCRETE COSINE TRANSFORMATION (DCT)"
INST_CMPRS_RATIO = 7.94371
INST_CMPRS_QUALITY = 0
INST_CMPRS_QUANTZ_TBL_ID = 0
INSTRUMENT_TEMPERATURE = 11.4379
LENS_TEMPERATURE = 8.7872
MACROPIXEL_SIZE = 2
MISSING_FRAMES = 0
PIXEL_SUBSAMPLING_FLAG = N
SIGNAL_CHAIN_ID = 3
/* RADIOMETRIC DATA ELEMENTS */
BANDWIDTH = 177.0
CENTER_FILTER_WAVELENGTH = 676.5
RADIANCE_OFFSET = 2.73044
RADIANCE_SCALING_FACTOR = 0.0100587
REFLECTANCE_SCALING_FACTOR = 0.000289375
MEX:REFLECTANCE_OFFSET = 0.0785512
/* IMAGE OBJECT DEFINITIONS */
OBJECT = IMAGE
  INTERCHANGE_FORMAT = BINARY
  LINES = 22364
  LINE_SAMPLES = 3789
  SAMPLE_TYPE = UNSIGNED_INTEGER
  SAMPLE_BITS = 8
  BANDS = 1
  BAND_STORAGE_TYPE = BAND_SEQUENTIAL
  MAXIMUM = 255
  MEAN = 123.591
  MINIMUM = 1
  STANDARD_DEVIATION = 27.986
END_OBJECT = IMAGE
/* MAP OBJECT DEFINITIONS */
OBJECT = IMAGE_MAP_PROJECTION
  ^DATA_SET_MAP_PROJECTION_CATALOG= "DSMAP.CAT"
  A_AXIS_RADIUS = 3396.0
  B_AXIS_RADIUS = 3396.0
  C_AXIS_RADIUS = 3396.0
  CENTER_LATITUDE = 0.0
  CENTER_LONGITUDE = 278.0
  COORDINATE_SYSTEM_NAME = PLANETOGRAPHIC
  COORDINATE_SYSTEM_TYPE = "BODY-FIXED ROTATING"
  EASTERNMOST_LONGITUDE = 278.84
  FIRST_STANDARD_PARALLEL = "N/A"
  LINE_FIRST_PIXEL = 1
  LINE_LAST_PIXEL = 22364
  LINE_PROJECTION_OFFSET = -112349.25
  MAP_PROJECTION_ROTATION = 0.0
  MAP_PROJECTION_TYPE = SINUSOIDAL
  MAP_RESOLUTION = 2370.85521546667
  MAP_SCALE = 0.025
  MAXIMUM_LATITUDE = -47.3963
  MINIMUM_LATITUDE = -56.8611
  POSITIVE_LONGITUDE_DIRECTION = EAST
  REFERENCE_LATITUDE = "N/A"
  REFERENCE_LONGITUDE = "N/A"
  SAMPLE_FIRST_PIXEL = 1
  SAMPLE_LAST_PIXEL = 3789
  SAMPLE_PROJECTION_OFFSET = 2384.75
  SECOND_STANDARD_PARALLEL = "N/A"
  WESTERNMOST_LONGITUDE = 276.176
END_OBJECT = IMAGE_MAP_PROJECTION
/* The JPEG2000 image data file associated with this label. */
OBJECT = COMPRESSED_FILE
  FILE_NAME = "HG895_0000_P23.JP2"
  RECORD_TYPE = UNDEFINED
  FILE_RECORDS = UNK
  ENCODING_TYPE = "JP2"
  INTERCHANGE_FORMAT = BINARY
  UNCOMPRESSED_FILE_NAME = "HG895_0000_P23.IMG"
  REQUIRED_STORAGE_BYTES = "84759930"
  ^DESCRIPTION = "JP2INFO.TXT"
END_OBJECT = COMPRESSED_FILE
END
