PDS_VERSION_ID = PDS3
/* FILE DATA ELEMENTS */
RECORD_TYPE = STREAM
/* POINTERS TO DATA OBJECTS */
^COMPRESSED_FILE = "HG896_0000_IR3.JP2"
/* IDENTIFICATION DATA ELEMENTS */
DATA_SET_ID = "MEX-M-HRSC-5-REFDR-MAPPROJECTED-V3.0"
DATA_SET_NAME = "MARS EXPRESS HRSC MAP PROJECTED REFDR V3.0"
DETECTOR_ID = MEX_HRSC_IR
EVENT_TYPE = "MARS-REGIONAL-MAPPING-Te-Fl-Lc"
INSTRUMENT_HOST_ID = MEX
INSTRUMENT_HOST_NAME = "MARS EXPRESS"
INSTRUMENT_ID = HRSC
INSTRUMENT_NAME = "HIGH RESOLUTION STEREO CAMERA"
MISSION_NAME = "MARS EXPRESS"
MISSION_PHASE_NAME = ME_Phase_36
PROCESSING_LEVEL_ID = 3
PRODUCT_CREATION_TIME = 2018-06-28T11:48:36.000Z
PRODUCT_ID = "HG896_0000_IR3.JP2"
RELEASE_ID = 0138
REVISION_ID = 0000
/* QUALITY DATA ELEMENTS */
DATA_QUALITY_ID = 1
DATA_QUALITY_DESC = "Data calculated based on original SPICE kernels"
/* TIME DATA ELEMENTS */
SPACECRAFT_CLOCK_START_COUNT = "1/0442063366.09047"
SPACECRAFT_CLOCK_STOP_COUNT = "1/0442063630.23935"
START_TIME = 2017-05-05T11:23:51.266Z
STOP_TIME = 2017-05-05T11:27:09.106Z
/* ORBITAL DATA ELEMENTS */
ASCENDING_NODE_LONGITUDE = 256.59
MAXIMUM_RESOLUTION = 58.2
FOOTPRINT_POINT_LATITUDE = (-43.4733,-43.4735,-43.4722,-43.3966, -43.1796,-42.9621,-42.7451,-42.4197, -42.095,-41.8782,-41.6626,-41.4471, -41.2335,-41.021,-40.8063,-40.5908, -40.375,-40.1665,-39.9132,-39.6584, -39.2761,-39.0215,-38.6433,-38.3907, -38.1364,-37.8858,-37.6344,-37.2579, -36.8822,-36.5069,-36.2576,-36.0084, -35.7595,-35.5108,-35.2625,-35.0149, -34.6435,-34.3909,-34.1372,-33.759, -33.5066,-33.2497,-32.9918,-32.7343, -32.4777,-32.2167,-31.9545,-31.6927, -31.432,-31.4054,-31.3995,-31.3945, -31.3879,-31.5122,-31.7738,-32.0368, -32.43,-32.6868,-33.0733,-33.331, -33.586,-33.8375,-34.0912,-34.3465, -34.5991,-34.8485,-35.2227,-35.5946, -35.845,-36.2202,-36.4709,-36.7211, -37.0981,-37.4753,-37.7268,-37.9801, -38.2326,-38.4859,-38.7395,-38.994, -39.2484,-39.5033,-39.7592,-40.139, -40.3535,-40.5685,-40.7835,-40.999, -41.2146,-41.4304,-41.646,-41.8619, -42.0781,-42.403,-42.6199,-42.8373, -43.0545,-43.2721,-43.4904,-43.4733)
FOOTPRINT_POINT_LONGITUDE = (175.31,174.814,174.309,174.061,174.073 ,174.086,174.098,174.116,174.134, 174.146,174.156,174.167,174.175,174.182 ,174.192,174.202,174.213,174.216, 174.231,174.241,174.256,174.266,174.278 ,174.286,174.296,174.302,174.309,174.32 ,174.329,174.339,174.345,174.351, 174.356,174.362,174.367,174.372,174.38, 174.385,174.39,174.396,174.4,174.403, 174.407,174.41,174.413,174.416,174.419, 174.421,174.422,174.767,175.161,175.483 ,175.87,176.237,176.23,176.222,176.21, 176.202,176.19,176.182,176.173,176.165, 176.157,176.149,176.14,176.132,176.119, 176.106,176.097,176.083,176.074,176.065 ,176.051,176.036,176.026,176.016, 176.006,175.996,175.986,175.975,175.965 ,175.954,175.943,175.926,175.917, 175.907,175.897,175.887,175.877,175.867 ,175.857,175.846,175.836,175.82,175.809 ,175.798,175.787,175.776,175.764, 175.31)
ORBIT_NUMBER = 16896
ORBITAL_ECCENTRICITY = 0.578
ORBITAL_INCLINATION = 86.96
ORBITAL_SEMIMAJOR_AXIS = 8794.95
PERIAPSIS_ALTITUDE = 328.11
PERIAPSIS_ARGUMENT_ANGLE = 306.92
PERIAPSIS_TIME = 2017-05-05T11:21:02.000Z
SPACECRAFT_ORIENTATION = (0.0,1.0,0.0)
^MEX_ORIENTATION_DESC = "MEX_ORIENTATION_DESC.TXT"
SPACECRAFT_POINTING_MODE = ACROSSTRACK
^MEX_POINTING_DESC = "MEX_POINTING_DESC.TXT"
RIGHT_ASCENSION = -1e+32
DECLINATION = -1e+32
OFFSET_ANGLE = 0.686
SPACECRAFT_SOLAR_DISTANCE = 2.32987e+08
TARGET_NAME = MARS
/* CAMERA DATA ELEMENTS */
DETECTOR_TEMPERATURE = 17.351
FOCAL_PLANE_TEMPERATURE = 8.1755
INST_CMPRS_NAME = "DISCRETE COSINE TRANSFORMATION (DCT)"
INST_CMPRS_RATIO = 12.6446
INST_CMPRS_QUALITY = 0
INST_CMPRS_QUANTZ_TBL_ID = 0
INSTRUMENT_TEMPERATURE = 11.0301
LENS_TEMPERATURE = 8.3794
MACROPIXEL_SIZE = 4
MISSING_FRAMES = 0
PIXEL_SUBSAMPLING_FLAG = N
SIGNAL_CHAIN_ID = 2
/* RADIOMETRIC DATA ELEMENTS */
BANDWIDTH = 81.0
CENTER_FILTER_WAVELENGTH = 955.5
RADIANCE_OFFSET = 0.668705
RADIANCE_SCALING_FACTOR = 0.00419579
REFLECTANCE_SCALING_FACTOR = 0.00049137
MEX:REFLECTANCE_OFFSET = 0.0783122
/* IMAGE OBJECT DEFINITIONS */
OBJECT = IMAGE
  INTERCHANGE_FORMAT = BINARY
  LINES = 14429
  LINE_SAMPLES = 2081
  SAMPLE_TYPE = UNSIGNED_INTEGER
  SAMPLE_BITS = 8
  BANDS = 1
  BAND_STORAGE_TYPE = BAND_SEQUENTIAL
  MAXIMUM = 255
  MEAN = 119.729
  MINIMUM = 1
  STANDARD_DEVIATION = 31.2056
END_OBJECT = IMAGE
/* MAP OBJECT DEFINITIONS */
OBJECT = IMAGE_MAP_PROJECTION
  ^DATA_SET_MAP_PROJECTION_CATALOG= "DSMAP.CAT"
  A_AXIS_RADIUS = 3396.0
  B_AXIS_RADIUS = 3396.0
  C_AXIS_RADIUS = 3396.0
  CENTER_LATITUDE = 0.0
  CENTER_LONGITUDE = 175.0
  COORDINATE_SYSTEM_NAME = PLANETOGRAPHIC
  COORDINATE_SYSTEM_TYPE = "BODY-FIXED ROTATING"
  EASTERNMOST_LONGITUDE = 176.237
  FIRST_STANDARD_PARALLEL = "N/A"
  LINE_FIRST_PIXEL = 1
  LINE_LAST_PIXEL = 14429
  LINE_PROJECTION_OFFSET = -37208.875
  MAP_PROJECTION_ROTATION = 0.0
  MAP_PROJECTION_TYPE = SINUSOIDAL
  MAP_RESOLUTION = 1185.42760773333
  MAP_SCALE = 0.05
  MAXIMUM_LATITUDE = -31.3879
  MINIMUM_LATITUDE = -43.4904
  POSITIVE_LONGITUDE_DIRECTION = EAST
  REFERENCE_LATITUDE = "N/A"
  REFERENCE_LONGITUDE = "N/A"
  SAMPLE_FIRST_PIXEL = 1
  SAMPLE_LAST_PIXEL = 2081
  SAMPLE_PROJECTION_OFFSET = 871.375
  SECOND_STANDARD_PARALLEL = "N/A"
  WESTERNMOST_LONGITUDE = 174.061
END_OBJECT = IMAGE_MAP_PROJECTION
/* The JPEG2000 image data file associated with this label. */
OBJECT = COMPRESSED_FILE
  FILE_NAME = "HG896_0000_IR3.JP2"
  RECORD_TYPE = UNDEFINED
  FILE_RECORDS = UNK
  ENCODING_TYPE = "JP2"
  INTERCHANGE_FORMAT = BINARY
  UNCOMPRESSED_FILE_NAME = "HG896_0000_IR3.IMG"
  REQUIRED_STORAGE_BYTES = "30047559"
  ^DESCRIPTION = "JP2INFO.TXT"
END_OBJECT = COMPRESSED_FILE
END
