PDS_VERSION_ID = PDS3
/* FILE DATA ELEMENTS */
RECORD_TYPE = STREAM
/* POINTERS TO DATA OBJECTS */
^COMPRESSED_FILE = "HG900_0000_GR3.JP2"
/* IDENTIFICATION DATA ELEMENTS */
DATA_SET_ID = "MEX-M-HRSC-5-REFDR-MAPPROJECTED-V3.0"
DATA_SET_NAME = "MARS EXPRESS HRSC MAP PROJECTED REFDR V3.0"
DETECTOR_ID = MEX_HRSC_GREEN
EVENT_TYPE = "MARS-REGIONAL-MAPPING-Im-Eo"
INSTRUMENT_HOST_ID = MEX
INSTRUMENT_HOST_NAME = "MARS EXPRESS"
INSTRUMENT_ID = HRSC
INSTRUMENT_NAME = "HIGH RESOLUTION STEREO CAMERA"
MISSION_NAME = "MARS EXPRESS"
MISSION_PHASE_NAME = ME_Phase_36
PROCESSING_LEVEL_ID = 3
PRODUCT_CREATION_TIME = 2018-06-28T11:48:36.000Z
PRODUCT_ID = "HG900_0000_GR3.JP2"
RELEASE_ID = 0138
REVISION_ID = 0000
/* QUALITY DATA ELEMENTS */
DATA_QUALITY_ID = 1
DATA_QUALITY_DESC = "Data calculated based on original SPICE kernels"
/* TIME DATA ELEMENTS */
SPACECRAFT_CLOCK_START_COUNT = "1/0442163874.09029"
SPACECRAFT_CLOCK_STOP_COUNT = "1/0442164073.07071"
START_TIME = 2017-05-06T15:18:38.361Z
STOP_TIME = 2017-05-06T15:20:54.241Z
/* ORBITAL DATA ELEMENTS */
ASCENDING_NODE_LONGITUDE = 256.53
MAXIMUM_RESOLUTION = 52
FOOTPRINT_POINT_LATITUDE = (-58.3848,-58.3719,-58.3581,-58.3434, -58.3277,-58.3078,-58.1401,-57.9684, -57.7901,-57.6183,-57.4468,-57.2751, -57.1032,-56.8453,-56.5874,-56.3211, -56.1491,-55.8911,-55.719,-55.547, -55.3749,-55.1166,-54.9447,-54.7725, -54.6003,-54.4279,-54.2555,-54.0831, -53.8245,-53.6524,-53.3944,-53.1363, -52.9642,-52.7919,-52.6196,-52.3615, -52.1894,-52.0172,-51.845,-51.5867, -51.3283,-51.0701,-50.898,-50.7258, -50.5537,-50.2957,-50.1237,-49.9517, -49.6937,-49.5217,-49.4569,-49.467, -49.482,-49.4948,-49.5065,-49.679, -49.8516,-50.0244,-50.1971,-50.3697, -50.6288,-50.8879,-51.0606,-51.2333, -51.406,-51.5788,-51.7508,-51.9238, -52.1832,-52.3565,-52.6164,-52.7894, -52.9624,-53.1353,-53.3082,-53.5677, -53.7407,-53.9137,-54.1732,-54.3463, -54.5192,-54.7786,-55.0379,-55.2972, -55.4702,-55.643,-55.816,-56.0754, -56.2487,-56.4214,-56.6889,-56.9481, -57.121,-57.2939,-57.4666,-57.6394, -57.8983,-58.1641,-58.3368,-58.3848)
FOOTPRINT_POINT_LONGITUDE = (124.705,124.387,124.067,123.744, 123.418,123.027,122.966,123.002,123.038 ,123.075,123.104,123.137,123.171, 123.221,123.27,123.319,123.35,123.395, 123.425,123.453,123.484,123.527,123.553 ,123.581,123.61,123.64,123.669,123.699, 123.741,123.765,123.799,123.832,123.855 ,123.88,123.904,123.936,123.958,123.98, 124.004,124.037,124.071,124.102,124.122 ,124.144,124.164,124.193,124.212, 124.232,124.26,124.279,124.543,124.816, 125.254,125.686,126.083,126.069,126.056 ,126.042,126.028,126.014,125.993, 125.971,125.957,125.942,125.928,125.913 ,125.898,125.883,125.859,125.843, 125.818,125.802,125.786,125.769,125.752 ,125.727,125.709,125.692,125.665, 125.647,125.629,125.602,125.574,125.545 ,125.526,125.507,125.487,125.457, 125.436,125.415,125.383,125.351,125.33, 125.308,125.286,125.263,125.229,125.194 ,125.17,124.705)
ORBIT_NUMBER = 16900
ORBITAL_ECCENTRICITY = 0.578
ORBITAL_INCLINATION = 86.95
ORBITAL_SEMIMAJOR_AXIS = 8797.67
PERIAPSIS_ALTITUDE = 327.62
PERIAPSIS_ARGUMENT_ANGLE = 306.22
PERIAPSIS_TIME = 2017-05-06T15:19:47.000Z
SPACECRAFT_ORIENTATION = (0.0,1.0,0.0)
^MEX_ORIENTATION_DESC = "MEX_ORIENTATION_DESC.TXT"
SPACECRAFT_POINTING_MODE = ACROSSTRACK
^MEX_POINTING_DESC = "MEX_POINTING_DESC.TXT"
RIGHT_ASCENSION = -1e+32
DECLINATION = -1e+32
OFFSET_ANGLE = 0.75
SPACECRAFT_SOLAR_DISTANCE = 2.33203e+08
TARGET_NAME = MARS
/* CAMERA DATA ELEMENTS */
DETECTOR_TEMPERATURE = 18.5744
FOCAL_PLANE_TEMPERATURE = 7.5638
INST_CMPRS_NAME = "DISCRETE COSINE TRANSFORMATION (DCT)"
INST_CMPRS_RATIO = 16.9317
INST_CMPRS_QUALITY = 0
INST_CMPRS_QUANTZ_TBL_ID = 0
INSTRUMENT_TEMPERATURE = 11.234
LENS_TEMPERATURE = 7.9716
MACROPIXEL_SIZE = 4
MISSING_FRAMES = 28
PIXEL_SUBSAMPLING_FLAG = N
SIGNAL_CHAIN_ID = 2
/* RADIOMETRIC DATA ELEMENTS */
BANDWIDTH = 88.0
CENTER_FILTER_WAVELENGTH = 538.0
RADIANCE_OFFSET = 1.04078
RADIANCE_SCALING_FACTOR = 0.00348998
REFLECTANCE_SCALING_FACTOR = 0.00016341
MEX:REFLECTANCE_OFFSET = 0.0487323
/* IMAGE OBJECT DEFINITIONS */
OBJECT = IMAGE
  INTERCHANGE_FORMAT = BINARY
  LINES = 10645
  LINE_SAMPLES = 2155
  SAMPLE_TYPE = UNSIGNED_INTEGER
  SAMPLE_BITS = 8
  BANDS = 1
  BAND_STORAGE_TYPE = BAND_SEQUENTIAL
  MAXIMUM = 255
  MEAN = 109.924
  MINIMUM = 1
  STANDARD_DEVIATION = 34.0187
END_OBJECT = IMAGE
/* MAP OBJECT DEFINITIONS */
OBJECT = IMAGE_MAP_PROJECTION
  ^DATA_SET_MAP_PROJECTION_CATALOG= "DSMAP.CAT"
  A_AXIS_RADIUS = 3396.0
  B_AXIS_RADIUS = 3396.0
  C_AXIS_RADIUS = 3396.0
  CENTER_LATITUDE = 0.0
  CENTER_LONGITUDE = 125.0
  COORDINATE_SYSTEM_NAME = PLANETOGRAPHIC
  COORDINATE_SYSTEM_TYPE = "BODY-FIXED ROTATING"
  EASTERNMOST_LONGITUDE = 126.083
  FIRST_STANDARD_PARALLEL = "N/A"
  LINE_FIRST_PIXEL = 1
  LINE_LAST_PIXEL = 10645
  LINE_PROJECTION_OFFSET = -58616.125
  MAP_PROJECTION_ROTATION = 0.0
  MAP_PROJECTION_TYPE = SINUSOIDAL
  MAP_RESOLUTION = 1185.42760773333
  MAP_SCALE = 0.05
  MAXIMUM_LATITUDE = -49.4569
  MINIMUM_LATITUDE = -58.3848
  POSITIVE_LONGITUDE_DIRECTION = EAST
  REFERENCE_LATITUDE = "N/A"
  REFERENCE_LONGITUDE = "N/A"
  SAMPLE_FIRST_PIXEL = 1
  SAMPLE_LAST_PIXEL = 2155
  SAMPLE_PROJECTION_OFFSET = 1316.875
  SECOND_STANDARD_PARALLEL = "N/A"
  WESTERNMOST_LONGITUDE = 122.966
END_OBJECT = IMAGE_MAP_PROJECTION
/* The JPEG2000 image data file associated with this label. */
OBJECT = COMPRESSED_FILE
  FILE_NAME = "HG900_0000_GR3.JP2"
  RECORD_TYPE = UNDEFINED
  FILE_RECORDS = UNK
  ENCODING_TYPE = "JP2"
  INTERCHANGE_FORMAT = BINARY
  UNCOMPRESSED_FILE_NAME = "HG900_0000_GR3.IMG"
  REQUIRED_STORAGE_BYTES = "22961525"
  ^DESCRIPTION = "JP2INFO.TXT"
END_OBJECT = COMPRESSED_FILE
END
