PDS_VERSION_ID = PDS3
/* FILE DATA ELEMENTS */
RECORD_TYPE = STREAM
/* POINTERS TO DATA OBJECTS */
^COMPRESSED_FILE = "HG936_0000_IR3.JP2"
/* IDENTIFICATION DATA ELEMENTS */
DATA_SET_ID = "MEX-M-HRSC-5-REFDR-MAPPROJECTED-V3.0"
DATA_SET_NAME = "MARS EXPRESS HRSC MAP PROJECTED REFDR V3.0"
DETECTOR_ID = MEX_HRSC_IR
EVENT_TYPE = "MARS-REGIONAL-MAPPING-Im-Fl-Eo"
INSTRUMENT_HOST_ID = MEX
INSTRUMENT_HOST_NAME = "MARS EXPRESS"
INSTRUMENT_ID = HRSC
INSTRUMENT_NAME = "HIGH RESOLUTION STEREO CAMERA"
MISSION_NAME = "MARS EXPRESS"
MISSION_PHASE_NAME = ME_Phase_36
PROCESSING_LEVEL_ID = 3
PRODUCT_CREATION_TIME = 2018-06-28T11:48:36.000Z
PRODUCT_ID = "HG936_0000_IR3.JP2"
RELEASE_ID = 0138
REVISION_ID = 0000
/* QUALITY DATA ELEMENTS */
DATA_QUALITY_ID = 1
DATA_QUALITY_DESC = "Data calculated based on original SPICE kernels"
/* TIME DATA ELEMENTS */
SPACECRAFT_CLOCK_START_COUNT = "1/0443070697.07361"
SPACECRAFT_CLOCK_STOP_COUNT = "1/0443070963.48867"
START_TIME = 2017-05-17T03:12:43.127Z
STOP_TIME = 2017-05-17T03:16:01.997Z
/* ORBITAL DATA ELEMENTS */
ASCENDING_NODE_LONGITUDE = 255.86
MAXIMUM_RESOLUTION = 59.6
FOOTPRINT_POINT_LATITUDE = (-48.7415,-48.7313,-48.7191,-48.7109, -48.3458,-48.133,-47.8162,-47.6063, -47.3996,-47.1951,-46.9867,-46.6749, -46.4387,-46.1917,-45.9461,-45.6989, -45.4535,-45.2144,-44.9662,-44.7151, -44.4685,-44.2247,-43.9818,-43.7382, -43.4917,-43.2482,-43.0062,-42.767, -42.5261,-42.1652,-41.9243,-41.6841, -41.3233,-41.0834,-40.8365,-40.5917, -40.2268,-39.8531,-39.6025,-39.3537, -38.9864,-38.6064,-38.353,-38.1002, -37.8405,-37.5808,-37.3216,-37.0591, -36.7907,-36.7003,-36.7026,-36.7075, -36.7071,-36.706,-36.7067,-36.9708, -37.2359,-37.495,-37.8839,-38.1436, -38.5236,-38.7781,-39.0345,-39.4151, -39.788,-40.1594,-40.4046,-40.7726, -41.018,-41.2643,-41.5057,-41.7458, -42.1035,-42.3458,-42.5883,-42.9517, -43.195,-43.5596,-43.8033,-44.1691, -44.4134,-44.7851,-45.0324,-45.277, -45.5193,-45.7672,-46.0145,-46.2582, -46.5045,-46.8437,-47.0513,-47.2618, -47.4703,-47.6793,-47.8836,-48.0963, -48.3018,-48.517,-48.7282,-48.7415)
FOOTPRINT_POINT_LONGITUDE = (43.7483,43.2016,42.6527,42.3251, 42.3044,42.3218,42.3457,42.3604,42.3724 ,42.3825,42.3956,42.4145,42.4282, 42.4421,42.4547,42.4685,42.4808,42.4881 ,42.5023,42.5186,42.5315,42.542,42.5519 ,42.5623,42.5746,42.5848,42.5938, 42.6007,42.6089,42.6208,42.6289,42.6365 ,42.6482,42.6537,42.6616,42.6681, 42.6763,42.6869,42.6931,42.6982,42.701, 42.7072,42.7115,42.7155,42.72,42.7245, 42.7288,42.7337,42.74,43.1465,43.4432, 43.8501,44.1277,44.4411,44.7233,44.7148 ,44.7069,44.6984,44.6852,44.6765, 44.6627,44.6535,44.6447,44.6327,44.6179 ,44.6025,44.5931,44.5785,44.5685, 44.5589,44.5494,44.5392,44.5226,44.5124 ,44.502,44.4858,44.4749,44.458,44.4466, 44.429,44.4171,44.4003,44.3886,44.3757, 44.3617,44.3493,44.3363,44.3218,44.308, 44.2907,44.2788,44.2677,44.2557,44.2436 ,44.2297,44.2183,44.2044,44.1934, 44.1808,43.7483)
ORBIT_NUMBER = 16936
ORBITAL_ECCENTRICITY = 0.578
ORBITAL_INCLINATION = 86.95
ORBITAL_SEMIMAJOR_AXIS = 8787.42
PERIAPSIS_ALTITUDE = 327.53
PERIAPSIS_ARGUMENT_ANGLE = 300.12
PERIAPSIS_TIME = 2017-05-17T03:09:30.000Z
SPACECRAFT_ORIENTATION = (0.0,1.0,0.0)
^MEX_ORIENTATION_DESC = "MEX_ORIENTATION_DESC.TXT"
SPACECRAFT_POINTING_MODE = ACROSSTRACK
^MEX_POINTING_DESC = "MEX_POINTING_DESC.TXT"
RIGHT_ASCENSION = -1e+32
DECLINATION = -1e+32
OFFSET_ANGLE = 0.2
SPACECRAFT_SOLAR_DISTANCE = 2.35107e+08
TARGET_NAME = MARS
/* CAMERA DATA ELEMENTS */
DETECTOR_TEMPERATURE = 15.5159
FOCAL_PLANE_TEMPERATURE = 7.3599
INST_CMPRS_NAME = "DISCRETE COSINE TRANSFORMATION (DCT)"
INST_CMPRS_RATIO = 15.9835
INST_CMPRS_QUALITY = 0
INST_CMPRS_QUANTZ_TBL_ID = 0
INSTRUMENT_TEMPERATURE = 10.8262
LENS_TEMPERATURE = 7.9716
MACROPIXEL_SIZE = 4
MISSING_FRAMES = 0
PIXEL_SUBSAMPLING_FLAG = N
SIGNAL_CHAIN_ID = 2
/* RADIOMETRIC DATA ELEMENTS */
BANDWIDTH = 81.0
CENTER_FILTER_WAVELENGTH = 955.5
RADIANCE_OFFSET = 0.624124
RADIANCE_SCALING_FACTOR = 0.00437062
REFLECTANCE_SCALING_FACTOR = 0.000521197
MEX:REFLECTANCE_OFFSET = 0.0744269
/* IMAGE OBJECT DEFINITIONS */
OBJECT = IMAGE
  INTERCHANGE_FORMAT = BINARY
  LINES = 14376
  LINE_SAMPLES = 2002
  SAMPLE_TYPE = UNSIGNED_INTEGER
  SAMPLE_BITS = 8
  BANDS = 1
  BAND_STORAGE_TYPE = BAND_SEQUENTIAL
  MAXIMUM = 255
  MEAN = 136.821
  MINIMUM = 1
  STANDARD_DEVIATION = 34.6451
END_OBJECT = IMAGE
/* MAP OBJECT DEFINITIONS */
OBJECT = IMAGE_MAP_PROJECTION
  ^DATA_SET_MAP_PROJECTION_CATALOG= "DSMAP.CAT"
  A_AXIS_RADIUS = 3396.0
  B_AXIS_RADIUS = 3396.0
  C_AXIS_RADIUS = 3396.0
  CENTER_LATITUDE = 0.0
  CENTER_LONGITUDE = 44.0
  COORDINATE_SYSTEM_NAME = PLANETOGRAPHIC
  COORDINATE_SYSTEM_TYPE = "BODY-FIXED ROTATING"
  EASTERNMOST_LONGITUDE = 44.7233
  FIRST_STANDARD_PARALLEL = "N/A"
  LINE_FIRST_PIXEL = 1
  LINE_LAST_PIXEL = 14376
  LINE_PROJECTION_OFFSET = -43500.875
  MAP_PROJECTION_ROTATION = 0.0
  MAP_PROJECTION_TYPE = SINUSOIDAL
  MAP_RESOLUTION = 1185.42760773333
  MAP_SCALE = 0.05
  MAXIMUM_LATITUDE = -36.7003
  MINIMUM_LATITUDE = -48.7415
  POSITIVE_LONGITUDE_DIRECTION = EAST
  REFERENCE_LATITUDE = "N/A"
  REFERENCE_LONGITUDE = "N/A"
  SAMPLE_FIRST_PIXEL = 1
  SAMPLE_LAST_PIXEL = 2002
  SAMPLE_PROJECTION_OFFSET = 1356.125
  SECOND_STANDARD_PARALLEL = "N/A"
  WESTERNMOST_LONGITUDE = 42.3044
END_OBJECT = IMAGE_MAP_PROJECTION
/* The JPEG2000 image data file associated with this label. */
OBJECT = COMPRESSED_FILE
  FILE_NAME = "HG936_0000_IR3.JP2"
  RECORD_TYPE = UNDEFINED
  FILE_RECORDS = UNK
  ENCODING_TYPE = "JP2"
  INTERCHANGE_FORMAT = BINARY
  UNCOMPRESSED_FILE_NAME = "HG936_0000_IR3.IMG"
  REQUIRED_STORAGE_BYTES = "28800772"
  ^DESCRIPTION = "JP2INFO.TXT"
END_OBJECT = COMPRESSED_FILE
END
