PDS_VERSION_ID = PDS3
/* FILE DATA ELEMENTS */
RECORD_TYPE = STREAM
/* POINTERS TO DATA OBJECTS */
^COMPRESSED_FILE = "HG941_0000_S13.JP2"
/* IDENTIFICATION DATA ELEMENTS */
DATA_SET_ID = "MEX-M-HRSC-5-REFDR-MAPPROJECTED-V3.0"
DATA_SET_NAME = "MARS EXPRESS HRSC MAP PROJECTED REFDR V3.0"
DETECTOR_ID = MEX_HRSC_S1
EVENT_TYPE = "MARS-LOCAL-STEREO-Im-Gl-Pf"
INSTRUMENT_HOST_ID = MEX
INSTRUMENT_HOST_NAME = "MARS EXPRESS"
INSTRUMENT_ID = HRSC
INSTRUMENT_NAME = "HIGH RESOLUTION STEREO CAMERA"
MISSION_NAME = "MARS EXPRESS"
MISSION_PHASE_NAME = ME_Phase_36
PROCESSING_LEVEL_ID = 3
PRODUCT_CREATION_TIME = 2018-06-28T11:48:36.000Z
PRODUCT_ID = "HG941_0000_S13.JP2"
RELEASE_ID = 0138
REVISION_ID = 0000
/* QUALITY DATA ELEMENTS */
DATA_QUALITY_ID = 1
DATA_QUALITY_DESC = "Data calculated based on original SPICE kernels"
/* TIME DATA ELEMENTS */
SPACECRAFT_CLOCK_START_COUNT = "1/0443196572.08306"
SPACECRAFT_CLOCK_STOP_COUNT = "1/0443196703.33026"
START_TIME = 2017-05-18T14:10:41.541Z
STOP_TIME = 2017-05-18T14:11:49.791Z
/* ORBITAL DATA ELEMENTS */
ASCENDING_NODE_LONGITUDE = 255.77
MAXIMUM_RESOLUTION = 14.6
FOOTPRINT_POINT_LATITUDE = (-52.2374,-52.2351,-52.2327,-52.2301, -52.2273,-52.2244,-52.2214,-52.2182, -52.2148,-52.2113,-52.2077,-52.2039, -52.1999,-52.2562,-52.1699,-52.0836, -51.9973,-51.9112,-51.8251,-51.7391, -51.6527,-51.523,-51.4371,-51.3084, -51.2224,-51.1362,-51.0499,-50.9204, -50.7914,-50.7053,-50.6189,-50.5329, -50.4476,-50.3617,-50.2754,-50.1047, -50.0189,-49.9333,-49.8479,-49.7624, -49.6753,-49.5123,-49.3018,-49.089, -48.9575,-48.8688,-48.7393,-48.4864, -48.3176,-48.1494,-47.9743,-47.9791, -47.9837,-47.9872,-47.9903,-47.9933, -47.9961,-47.9986,-48.0007,-48.0025, -48.0041,-48.0063,-48.1754,-48.3024, -48.4711,-48.6405,-48.726,-48.8969, -49.0647,-49.15,-49.2355,-49.4062, -49.4917,-49.577,-49.6624,-49.8327, -49.9604,-50.1312,-50.2593,-50.345, -50.4306,-50.5603,-50.6466,-50.7337, -50.8202,-50.907,-50.9936,-51.1226, -51.2091,-51.2955,-51.4255,-51.512, -51.5983,-51.6846,-51.771,-51.8574, -51.9439,-52.0305,-52.117,-52.2374)
FOOTPRINT_POINT_LONGITUDE = (252.298,252.148,251.998,251.848, 251.697,251.546,251.395,251.244,251.092 ,250.94,250.788,250.636,250.483,250.327 ,250.336,250.345,250.354,250.362, 250.371,250.379,250.388,250.401,250.409 ,250.421,250.429,250.438,250.446, 250.458,250.47,250.479,250.487,250.495, 250.502,250.51,250.518,250.532,250.54, 250.547,250.554,250.561,250.57,250.577, 250.593,250.609,250.622,250.632,250.643 ,250.66,250.672,250.683,250.752,250.982 ,251.191,251.362,251.532,251.702, 251.854,252.005,252.155,252.306,252.456 ,252.616,252.605,252.597,252.586, 252.575,252.57,252.559,252.547,252.541, 252.535,252.524,252.518,252.512,252.506 ,252.494,252.485,252.473,252.464, 252.458,252.451,252.442,252.436,252.43, 252.424,252.418,252.411,252.402,252.395 ,252.389,252.379,252.372,252.366, 252.359,252.352,252.345,252.339,252.332 ,252.325,252.298)
ORBIT_NUMBER = 16941
ORBITAL_ECCENTRICITY = 0.578
ORBITAL_INCLINATION = 86.95
ORBITAL_SEMIMAJOR_AXIS = 8784.18
PERIAPSIS_ALTITUDE = 326.86
PERIAPSIS_ARGUMENT_ANGLE = 299.25
PERIAPSIS_TIME = 2017-05-18T14:08:05.000Z
SPACECRAFT_ORIENTATION = (0.0,1.0,0.0)
^MEX_ORIENTATION_DESC = "MEX_ORIENTATION_DESC.TXT"
SPACECRAFT_POINTING_MODE = ACROSSTRACK
^MEX_POINTING_DESC = "MEX_POINTING_DESC.TXT"
RIGHT_ASCENSION = -1e+32
DECLINATION = -1e+32
OFFSET_ANGLE = 0.269
SPACECRAFT_SOLAR_DISTANCE = 2.35365e+08
TARGET_NAME = MARS
/* CAMERA DATA ELEMENTS */
DETECTOR_TEMPERATURE = 16.7393
FOCAL_PLANE_TEMPERATURE = 8.3794
INST_CMPRS_NAME = "DISCRETE COSINE TRANSFORMATION (DCT)"
INST_CMPRS_RATIO = 8.09358
INST_CMPRS_QUALITY = 0
INST_CMPRS_QUANTZ_TBL_ID = 0
INSTRUMENT_TEMPERATURE = 11.6418
LENS_TEMPERATURE = 8.7872
MACROPIXEL_SIZE = 1
MISSING_FRAMES = 0
PIXEL_SUBSAMPLING_FLAG = N
SIGNAL_CHAIN_ID = 2
/* RADIOMETRIC DATA ELEMENTS */
BANDWIDTH = 180.0
CENTER_FILTER_WAVELENGTH = 677.0
RADIANCE_OFFSET = 2.44061
RADIANCE_SCALING_FACTOR = 0.0127033
REFLECTANCE_SCALING_FACTOR = 0.000367153
MEX:REFLECTANCE_OFFSET = 0.0705386
/* IMAGE OBJECT DEFINITIONS */
OBJECT = IMAGE
  INTERCHANGE_FORMAT = BINARY
  LINES = 20611
  LINE_SAMPLES = 6694
  SAMPLE_TYPE = UNSIGNED_INTEGER
  SAMPLE_BITS = 8
  BANDS = 1
  BAND_STORAGE_TYPE = BAND_SEQUENTIAL
  MAXIMUM = 255
  MEAN = 133.57
  MINIMUM = 1
  STANDARD_DEVIATION = 37.6854
END_OBJECT = IMAGE
/* MAP OBJECT DEFINITIONS */
OBJECT = IMAGE_MAP_PROJECTION
  ^DATA_SET_MAP_PROJECTION_CATALOG= "DSMAP.CAT"
  A_AXIS_RADIUS = 3396.0
  B_AXIS_RADIUS = 3396.0
  C_AXIS_RADIUS = 3396.0
  CENTER_LATITUDE = 0.0
  CENTER_LONGITUDE = 252.0
  COORDINATE_SYSTEM_NAME = PLANETOGRAPHIC
  COORDINATE_SYSTEM_TYPE = "BODY-FIXED ROTATING"
  EASTERNMOST_LONGITUDE = 252.616
  FIRST_STANDARD_PARALLEL = "N/A"
  LINE_FIRST_PIXEL = 1
  LINE_LAST_PIXEL = 20611
  LINE_PROJECTION_OFFSET = -227535.0
  MAP_PROJECTION_ROTATION = 0.0
  MAP_PROJECTION_TYPE = SINUSOIDAL
  MAP_RESOLUTION = 4741.71043093333
  MAP_SCALE = 0.0125
  MAXIMUM_LATITUDE = -47.9743
  MINIMUM_LATITUDE = -52.2562
  POSITIVE_LONGITUDE_DIRECTION = EAST
  REFERENCE_LATITUDE = "N/A"
  REFERENCE_LONGITUDE = "N/A"
  SAMPLE_FIRST_PIXEL = 1
  SAMPLE_LAST_PIXEL = 6694
  SAMPLE_PROJECTION_OFFSET = 4870.0
  SECOND_STANDARD_PARALLEL = "N/A"
  WESTERNMOST_LONGITUDE = 250.327
END_OBJECT = IMAGE_MAP_PROJECTION
/* The JPEG2000 image data file associated with this label. */
OBJECT = COMPRESSED_FILE
  FILE_NAME = "HG941_0000_S13.JP2"
  RECORD_TYPE = UNDEFINED
  FILE_RECORDS = UNK
  ENCODING_TYPE = "JP2"
  INTERCHANGE_FORMAT = BINARY
  UNCOMPRESSED_FILE_NAME = "HG941_0000_S13.IMG"
  REQUIRED_STORAGE_BYTES = "138003504"
  ^DESCRIPTION = "JP2INFO.TXT"
END_OBJECT = COMPRESSED_FILE
END
