PDS_VERSION_ID = PDS3
/* FILE DATA ELEMENTS */
RECORD_TYPE = STREAM
/* POINTERS TO DATA OBJECTS */
^COMPRESSED_FILE = "HG960_0000_ND3.JP2"
/* IDENTIFICATION DATA ELEMENTS */
DATA_SET_ID = "MEX-M-HRSC-5-REFDR-MAPPROJECTED-V3.0"
DATA_SET_NAME = "MARS EXPRESS HRSC MAP PROJECTED REFDR V3.0"
DETECTOR_ID = MEX_HRSC_NADIR
EVENT_TYPE = "MARS-TERMINATOR-CALIBRATION-Tc"
INSTRUMENT_HOST_ID = MEX
INSTRUMENT_HOST_NAME = "MARS EXPRESS"
INSTRUMENT_ID = HRSC
INSTRUMENT_NAME = "HIGH RESOLUTION STEREO CAMERA"
MISSION_NAME = "MARS EXPRESS"
MISSION_PHASE_NAME = ME_Phase_36
PROCESSING_LEVEL_ID = 3
PRODUCT_CREATION_TIME = 2018-06-28T11:48:36.000Z
PRODUCT_ID = "HG960_0000_ND3.JP2"
RELEASE_ID = 0138
REVISION_ID = 0000
/* QUALITY DATA ELEMENTS */
DATA_QUALITY_ID = 1
DATA_QUALITY_DESC = "Data calculated based on original SPICE kernels"
/* TIME DATA ELEMENTS */
SPACECRAFT_CLOCK_START_COUNT = "1/0443680342.09057"
SPACECRAFT_CLOCK_STOP_COUNT = "1/0443680827.01208"
START_TIME = 2017-05-24T04:34:32.450Z
STOP_TIME = 2017-05-24T04:38:34.442Z
/* ORBITAL DATA ELEMENTS */
ASCENDING_NODE_LONGITUDE = 255.42
MAXIMUM_RESOLUTION = 293.3
FOOTPRINT_POINT_LATITUDE = (4.97449,5.68613,6.17839,6.67895, 6.08432,8.54789,12.8526,16.3075,19.5083 ,22.314,24.5825,26.9125,31.7949,34.8314 ,38.2277,43.0722,47.31,50.8336,54.6838, 57.6475,61.3057,63.9415,66.8812,70.4882 ,72.9962,75.3307,77.4216,78.3427, 78.7133,78.5219,76.246,73.9062,69.7192, 66.6849,62.8194,59.4663,56.6342,52.6087 ,50.3237,46.6316,41.8161,38.2442, 33.6642,31.1668,31.6452,31.2867,30.9427 ,31.0675,30.7924,30.6015,30.1923, 30.4696,30.4367,30.6442,29.97,30.9359, 33.2408,36.8602,40.0629,45.2936,49.1565 ,53.628,56.7389,59.428,62.9258,67.214, 69.7878,71.3467,73.2211,74.2597,74.2078 ,73.4425,71.3034,69.0881,67.2938, 64.2019,61.7371,58.6908,55.8923,53.2004 ,50.8354,47.6791,45.1648,41.0362, 37.6571,34.8735,31.3803,28.6117,24.1536 ,21.2609,17.6321,12.4704,9.98537, 6.39996,5.45327,4.99248,6.31691,5.38015 ,4.97449)
FOOTPRINT_POINT_LONGITUDE = (97.8451,93.3474,88.1879,84.8795, 80.1156,80.1918,80.51,80.69,80.8013, 80.8582,80.8605,80.8317,80.6343,80.4195 ,80.0801,79.3741,78.4865,77.4985, 76.0726,74.6471,72.3378,70.1488,66.9484 ,61.2869,55.3801,47.0266,33.9507,22.599 ,10.7922,357.691,334.082,323.849, 313.682,309.18,305.2,302.735,301.125, 299.363,298.572,297.539,296.565,296.039 ,295.577,295.402,291.574,286.744, 283.427,280.75,277.469,273.616,270.979, 267.143,264.024,259.79,255.796,253.109, 252.739,252.037,251.272,249.615,247.959 ,245.501,243.273,240.868,236.786, 229.332,222.425,216.486,205.361,192.322 ,174.784,164.801,151.648,143.788, 139.252,133.551,130.212,127.029,124.752 ,122.986,121.699,120.284,119.355, 118.132,117.355,116.837,116.324,116.002 ,115.633,115.476,115.363,115.346, 115.403,115.542,112.334,108.454,105.488 ,100.251,97.8451)
ORBIT_NUMBER = 16960
ORBITAL_ECCENTRICITY = 0.578
ORBITAL_INCLINATION = 86.95
ORBITAL_SEMIMAJOR_AXIS = 8781.78
PERIAPSIS_ALTITUDE = 326.77
PERIAPSIS_ARGUMENT_ANGLE = 296.03
PERIAPSIS_TIME = 2017-05-24T03:02:31.000Z
SPACECRAFT_ORIENTATION = (-1e+32,-1e+32,-1e+32)
^MEX_ORIENTATION_DESC = "MEX_ORIENTATION_DESC.TXT"
SPACECRAFT_POINTING_MODE = INERT
^MEX_POINTING_DESC = "MEX_POINTING_DESC.TXT"
RIGHT_ASCENSION = 136.696
DECLINATION = -38.111
OFFSET_ANGLE = -1e+32
SPACECRAFT_SOLAR_DISTANCE = 2.36334e+08
TARGET_NAME = MARS
/* CAMERA DATA ELEMENTS */
DETECTOR_TEMPERATURE = 17.9627
FOCAL_PLANE_TEMPERATURE = 7.9716
INST_CMPRS_NAME = "DISCRETE COSINE TRANSFORMATION (DCT)"
INST_CMPRS_RATIO = 9.23144
INST_CMPRS_QUALITY = 0
INST_CMPRS_QUANTZ_TBL_ID = 0
INSTRUMENT_TEMPERATURE = 10.4184
LENS_TEMPERATURE = 7.9716
MACROPIXEL_SIZE = 1
MISSING_FRAMES = 0
PIXEL_SUBSAMPLING_FLAG = N
SIGNAL_CHAIN_ID = 0
/* RADIOMETRIC DATA ELEMENTS */
BANDWIDTH = 177.0
CENTER_FILTER_WAVELENGTH = 677.5
RADIANCE_OFFSET = 0.0
RADIANCE_SCALING_FACTOR = 0.0345755
REFLECTANCE_SCALING_FACTOR = 0.00102599
MEX:REFLECTANCE_OFFSET = 0.0
/* IMAGE OBJECT DEFINITIONS */
OBJECT = IMAGE
  INTERCHANGE_FORMAT = BINARY
  LINES = 19836
  LINE_SAMPLES = 46069
  SAMPLE_TYPE = UNSIGNED_INTEGER
  SAMPLE_BITS = 8
  BANDS = 1
  BAND_STORAGE_TYPE = BAND_SEQUENTIAL
  MAXIMUM = 255
  MEAN = 128.805
  MINIMUM = 1
  STANDARD_DEVIATION = 109.412
END_OBJECT = IMAGE
/* MAP OBJECT DEFINITIONS */
OBJECT = IMAGE_MAP_PROJECTION
  ^DATA_SET_MAP_PROJECTION_CATALOG= "DSMAP.CAT"
  A_AXIS_RADIUS = 3396.0
  B_AXIS_RADIUS = 3396.0
  C_AXIS_RADIUS = 3396.0
  CENTER_LATITUDE = 90.0
  CENTER_LONGITUDE = 0.0
  COORDINATE_SYSTEM_NAME = PLANETOGRAPHIC
  COORDINATE_SYSTEM_TYPE = "BODY-FIXED ROTATING"
  EASTERNMOST_LONGITUDE = 360.0
  FIRST_STANDARD_PARALLEL = "N/A"
  LINE_FIRST_PIXEL = 1
  LINE_LAST_PIXEL = 19836
  LINE_PROJECTION_OFFSET = 12144.0
  MAP_PROJECTION_ROTATION = 0
  MAP_PROJECTION_TYPE = STEREOGRAPHIC
  MAP_RESOLUTION = 296.356901933333
  MAP_SCALE = 0.2
  MAXIMUM_LATITUDE = 90.0
  MINIMUM_LATITUDE = 4.97449
  POSITIVE_LONGITUDE_DIRECTION = EAST
  REFERENCE_LATITUDE = "N/A"
  REFERENCE_LONGITUDE = "N/A"
  SAMPLE_FIRST_PIXEL = 1
  SAMPLE_LAST_PIXEL = 46069
  SAMPLE_PROJECTION_OFFSET = 17669.0
  SECOND_STANDARD_PARALLEL = "N/A"
  WESTERNMOST_LONGITUDE = 0.0
END_OBJECT = IMAGE_MAP_PROJECTION
/* The JPEG2000 image data file associated with this label. */
OBJECT = COMPRESSED_FILE
  FILE_NAME = "HG960_0000_ND3.JP2"
  RECORD_TYPE = UNDEFINED
  FILE_RECORDS = UNK
  ENCODING_TYPE = "JP2"
  INTERCHANGE_FORMAT = BINARY
  UNCOMPRESSED_FILE_NAME = "HG960_0000_ND3.IMG"
  REQUIRED_STORAGE_BYTES = "913962891"
  ^DESCRIPTION = "JP2INFO.TXT"
END_OBJECT = COMPRESSED_FILE
END
