PDS_VERSION_ID = PDS3
/* FILE DATA ELEMENTS */
RECORD_TYPE = STREAM
/* POINTERS TO DATA OBJECTS */
^COMPRESSED_FILE = "HG960_0000_S13.JP2"
/* IDENTIFICATION DATA ELEMENTS */
DATA_SET_ID = "MEX-M-HRSC-5-REFDR-MAPPROJECTED-V3.0"
DATA_SET_NAME = "MARS EXPRESS HRSC MAP PROJECTED REFDR V3.0"
DETECTOR_ID = MEX_HRSC_S1
EVENT_TYPE = "MARS-TERMINATOR-CALIBRATION-Tc"
INSTRUMENT_HOST_ID = MEX
INSTRUMENT_HOST_NAME = "MARS EXPRESS"
INSTRUMENT_ID = HRSC
INSTRUMENT_NAME = "HIGH RESOLUTION STEREO CAMERA"
MISSION_NAME = "MARS EXPRESS"
MISSION_PHASE_NAME = ME_Phase_36
PROCESSING_LEVEL_ID = 3
PRODUCT_CREATION_TIME = 2018-06-28T11:48:36.000Z
PRODUCT_ID = "HG960_0000_S13.JP2"
RELEASE_ID = 0138
REVISION_ID = 0000
/* QUALITY DATA ELEMENTS */
DATA_QUALITY_ID = 1
DATA_QUALITY_DESC = "Data calculated based on original SPICE kernels"
/* TIME DATA ELEMENTS */
SPACECRAFT_CLOCK_START_COUNT = "1/0443680342.09057"
SPACECRAFT_CLOCK_STOP_COUNT = "1/0443680827.01208"
START_TIME = 2017-05-24T04:36:33.467Z
STOP_TIME = 2017-05-24T04:40:33.497Z
/* ORBITAL DATA ELEMENTS */
ASCENDING_NODE_LONGITUDE = 255.42
MAXIMUM_RESOLUTION = 1193.4
FOOTPRINT_POINT_LATITUDE = (5.77945,6.61031,6.95311,8.48876, 9.33992,12.0183,15.9713,18.615,22.6517, 25.4013,28.0361,30.3367,33.6357,36.9631 ,39.9322,42.8068,45.4491,47.9145, 50.2346,54.5334,58.4829,62.1669,65.0, 67.7035,71.6108,74.127,76.6804,78.8194, 79.7377,79.7463,79.0536,76.9809,74.6278 ,70.8447,68.64,66.2104,63.5254,60.5215, 57.0952,52.8363,49.1528,46.6298,43.0713 ,37.9159,34.6717,31.8606,29.5096,29.452 ,30.3136,29.4391,30.3251,29.6625, 30.2792,30.06,30.9759,28.8715,32.5989, 36.0622,41.3279,44.8103,47.4683,50.4357 ,54.4148,57.551,61.7501,64.2724,66.3708 ,68.2252,69.8487,72.4103,74.423,74.5135 ,73.7238,71.9936,69.8514,67.8994, 66.1065,63.7192,59.8079,54.3084,50.2838 ,46.2435,43.809,41.173,38.2966,35.0942, 31.4266,27.0329,24.3934,21.2571,17.1955 ,12.6345,9.76843,7.35259,8.24301,6.9878 ,7.60758,6.16652,5.77945)
FOOTPRINT_POINT_LONGITUDE = (96.2719,93.8724,90.4388,85.3178, 81.2753,81.1951,81.4115,81.5113,81.6015 ,81.6095,81.57,81.4966,81.329,81.0744, 80.7638,80.3742,79.9245,79.414,78.838, 77.4631,75.726,73.5113,71.2397,68.3919, 62.3757,56.3848,46.7503,31.3132,14.2213 ,1.10354,346.493,329.78,320.1,311.151, 307.743,304.865,302.413,300.304,298.469 ,296.766,295.679,295.081,294.414, 293.733,293.444,292.941,292.49,289.036, 285.29,281.227,278.515,270.098,267.017, 262.624,257.382,253.844,252.954,252.314 ,251.036,249.919,248.859,247.48,245.161 ,242.811,238.58,235.144,231.505,227.419 ,222.836,212.047,192.724,177.422, 165.347,153.557,145.041,139.693,135.928 ,132.014,127.353,122.974,120.752, 119.066,118.247,117.501,116.82,116.202, 115.647,115.161,114.949,114.765,114.629 ,114.598,114.65,113.241,109.702,107.109 ,103.075,99.6212,96.2719)
ORBIT_NUMBER = 16960
ORBITAL_ECCENTRICITY = 0.578
ORBITAL_INCLINATION = 86.95
ORBITAL_SEMIMAJOR_AXIS = 8781.78
PERIAPSIS_ALTITUDE = 326.77
PERIAPSIS_ARGUMENT_ANGLE = 296.03
PERIAPSIS_TIME = 2017-05-24T03:02:31.000Z
SPACECRAFT_ORIENTATION = (-1e+32,-1e+32,-1e+32)
^MEX_ORIENTATION_DESC = "MEX_ORIENTATION_DESC.TXT"
SPACECRAFT_POINTING_MODE = INERT
^MEX_POINTING_DESC = "MEX_POINTING_DESC.TXT"
RIGHT_ASCENSION = 136.696
DECLINATION = -38.111
OFFSET_ANGLE = -1e+32
SPACECRAFT_SOLAR_DISTANCE = 2.36334e+08
TARGET_NAME = MARS
/* CAMERA DATA ELEMENTS */
DETECTOR_TEMPERATURE = 17.351
FOCAL_PLANE_TEMPERATURE = 7.9716
INST_CMPRS_NAME = "DISCRETE COSINE TRANSFORMATION (DCT)"
INST_CMPRS_RATIO = 22.6919
INST_CMPRS_QUALITY = 0
INST_CMPRS_QUANTZ_TBL_ID = 0
INSTRUMENT_TEMPERATURE = 10.4184
LENS_TEMPERATURE = 7.9716
MACROPIXEL_SIZE = 4
MISSING_FRAMES = 0
PIXEL_SUBSAMPLING_FLAG = N
SIGNAL_CHAIN_ID = 3
/* RADIOMETRIC DATA ELEMENTS */
BANDWIDTH = 180.0
CENTER_FILTER_WAVELENGTH = 677.0
RADIANCE_OFFSET = 0.0
RADIANCE_SCALING_FACTOR = 0.0309733
REFLECTANCE_SCALING_FACTOR = 0.000902651
MEX:REFLECTANCE_OFFSET = 0.0
/* IMAGE OBJECT DEFINITIONS */
OBJECT = IMAGE
  INTERCHANGE_FORMAT = BINARY
  LINES = 4959
  LINE_SAMPLES = 11518
  SAMPLE_TYPE = UNSIGNED_INTEGER
  SAMPLE_BITS = 8
  BANDS = 1
  BAND_STORAGE_TYPE = BAND_SEQUENTIAL
  MAXIMUM = 255
  MEAN = 136.617
  MINIMUM = 1
  STANDARD_DEVIATION = 112.185
END_OBJECT = IMAGE
/* MAP OBJECT DEFINITIONS */
OBJECT = IMAGE_MAP_PROJECTION
  ^DATA_SET_MAP_PROJECTION_CATALOG= "DSMAP.CAT"
  A_AXIS_RADIUS = 3396.0
  B_AXIS_RADIUS = 3396.0
  C_AXIS_RADIUS = 3396.0
  CENTER_LATITUDE = 90.0
  CENTER_LONGITUDE = 0.0
  COORDINATE_SYSTEM_NAME = PLANETOGRAPHIC
  COORDINATE_SYSTEM_TYPE = "BODY-FIXED ROTATING"
  EASTERNMOST_LONGITUDE = 360.0
  FIRST_STANDARD_PARALLEL = "N/A"
  LINE_FIRST_PIXEL = 1
  LINE_LAST_PIXEL = 4959
  LINE_PROJECTION_OFFSET = 3035.625
  MAP_PROJECTION_ROTATION = 0.0
  MAP_PROJECTION_TYPE = STEREOGRAPHIC
  MAP_RESOLUTION = 74.08922548333329
  MAP_SCALE = 0.8
  MAXIMUM_LATITUDE = 90.0
  MINIMUM_LATITUDE = 5.77945
  POSITIVE_LONGITUDE_DIRECTION = EAST
  REFERENCE_LATITUDE = "N/A"
  REFERENCE_LONGITUDE = "N/A"
  SAMPLE_FIRST_PIXEL = 1
  SAMPLE_LAST_PIXEL = 11518
  SAMPLE_PROJECTION_OFFSET = 4416.875
  SECOND_STANDARD_PARALLEL = "N/A"
  WESTERNMOST_LONGITUDE = 0.0
END_OBJECT = IMAGE_MAP_PROJECTION
/* The JPEG2000 image data file associated with this label. */
OBJECT = COMPRESSED_FILE
  FILE_NAME = "HG960_0000_S13.JP2"
  RECORD_TYPE = UNDEFINED
  FILE_RECORDS = UNK
  ENCODING_TYPE = "JP2"
  INTERCHANGE_FORMAT = BINARY
  UNCOMPRESSED_FILE_NAME = "HG960_0000_S13.IMG"
  REQUIRED_STORAGE_BYTES = "57152316"
  ^DESCRIPTION = "JP2INFO.TXT"
END_OBJECT = COMPRESSED_FILE
END
