PDS_VERSION_ID = PDS3
/* FILE DATA ELEMENTS */
RECORD_TYPE = STREAM
/* POINTERS TO DATA OBJECTS */
^COMPRESSED_FILE = "HG961_0000_GR3.JP2"
/* IDENTIFICATION DATA ELEMENTS */
DATA_SET_ID = "MEX-M-HRSC-5-REFDR-MAPPROJECTED-V3.0"
DATA_SET_NAME = "MARS EXPRESS HRSC MAP PROJECTED REFDR V3.0"
DETECTOR_ID = MEX_HRSC_GREEN
EVENT_TYPE = "MARS-TERMINATOR-CALIBRATION-Tc"
INSTRUMENT_HOST_ID = MEX
INSTRUMENT_HOST_NAME = "MARS EXPRESS"
INSTRUMENT_ID = HRSC
INSTRUMENT_NAME = "HIGH RESOLUTION STEREO CAMERA"
MISSION_NAME = "MARS EXPRESS"
MISSION_PHASE_NAME = ME_Phase_36
PROCESSING_LEVEL_ID = 3
PRODUCT_CREATION_TIME = 2018-06-28T11:48:36.000Z
PRODUCT_ID = "HG961_0000_GR3.JP2"
RELEASE_ID = 0138
REVISION_ID = 0000
/* QUALITY DATA ELEMENTS */
DATA_QUALITY_ID = 1
DATA_QUALITY_DESC = "Data calculated based on original SPICE kernels"
/* TIME DATA ELEMENTS */
SPACECRAFT_CLOCK_START_COUNT = "1/0443705402.09061"
SPACECRAFT_CLOCK_STOP_COUNT = "1/0443705888.08127"
START_TIME = 2017-05-24T11:32:32.523Z
STOP_TIME = 2017-05-24T11:36:37.448Z
/* ORBITAL DATA ELEMENTS */
ASCENDING_NODE_LONGITUDE = 255.41
MAXIMUM_RESOLUTION = 575
FOOTPRINT_POINT_LATITUDE = (4.13627,4.90397,4.72096,5.11716, 6.49178,6.35937,8.59336,12.0028,16.8603 ,21.7937,25.7535,30.1973,33.577,38.8827 ,42.3647,45.3027,49.597,53.4434,57.9245 ,62.076,64.5586,67.8097,70.7296,73.1425 ,75.6006,77.6309,78.8264,78.2459, 77.0777,75.5817,73.5492,70.0062,66.832, 64.3651,60.9,57.6337,54.1828,49.4284, 46.1833,41.869,38.7657,34.6232,32.225, 32.6283,31.8079,31.8401,31.8967,31.7409 ,31.6976,32.5492,30.8331,30.7158, 33.2869,38.3207,42.2781,46.0095,48.9398 ,51.4053,53.5663,56.2803,59.6123, 62.2966,64.7173,66.5239,68.6925,70.2511 ,71.7731,73.2344,74.0958,74.6651, 74.5461,74.0044,72.2111,70.7051,68.7426 ,66.8508,64.0476,60.6167,56.5693, 52.5454,48.5705,44.6643,42.2822,38.9588 ,36.6157,32.9589,28.8876,25.7155, 21.3232,19.0188,15.6552,10.387,5.96053, 5.0469,4.9479,5.6866,4.93276,5.29699, 4.13627)
FOOTPRINT_POINT_LONGITUDE = (355.934,352.577,350.057,347.112, 344.215,341.95,339.112,339.355,339.598, 339.71,339.69,339.552,339.351,338.828, 338.321,337.768,336.704,335.414,333.346 ,330.628,328.456,324.665,319.828, 314.082,305.094,291.856,270.377,248.669 ,237.02,228.289,220.583,212.242,207.473 ,204.758,201.88,199.851,198.21,196.538, 195.685,194.822,194.354,193.901,192.62, 189.893,184.07,179.602,176.752,171.445, 168.602,162.992,158.669,154.159,151.193 ,150.19,149.137,147.881,146.667,145.451 ,144.206,142.345,139.465,136.478,133.05 ,129.842,124.907,120.246,114.19,105.67, 97.5573,84.845,75.0961,66.2114,52.8636, 46.2737,40.1667,35.7924,30.9541,26.688, 23.0964,20.5119,18.6075,17.1838,16.4797 ,15.6695,15.211,14.6189,14.1389,13.8725 ,13.6347,13.5651,13.5242,13.6041, 13.8089,10.3411,6.89145,4.79201,2.4342, 359.187,355.934)
ORBIT_NUMBER = 16961
ORBITAL_ECCENTRICITY = 0.578
ORBITAL_INCLINATION = 86.95
ORBITAL_SEMIMAJOR_AXIS = 8779.5
PERIAPSIS_ALTITUDE = 327.58
PERIAPSIS_ARGUMENT_ANGLE = 295.86
PERIAPSIS_TIME = 2017-05-24T10:02:11.000Z
SPACECRAFT_ORIENTATION = (-1e+32,-1e+32,-1e+32)
^MEX_ORIENTATION_DESC = "MEX_ORIENTATION_DESC.TXT"
SPACECRAFT_POINTING_MODE = INERT
^MEX_POINTING_DESC = "MEX_POINTING_DESC.TXT"
RIGHT_ASCENSION = 136.344
DECLINATION = -36.948
OFFSET_ANGLE = -1e+32
SPACECRAFT_SOLAR_DISTANCE = 2.36384e+08
TARGET_NAME = MARS
/* CAMERA DATA ELEMENTS */
DETECTOR_TEMPERATURE = 18.1666
FOCAL_PLANE_TEMPERATURE = 7.9716
INST_CMPRS_NAME = "DISCRETE COSINE TRANSFORMATION (DCT)"
INST_CMPRS_RATIO = 11.3913
INST_CMPRS_QUALITY = 0
INST_CMPRS_QUANTZ_TBL_ID = 0
INSTRUMENT_TEMPERATURE = 10.6223
LENS_TEMPERATURE = 8.1755
MACROPIXEL_SIZE = 2
MISSING_FRAMES = 0
PIXEL_SUBSAMPLING_FLAG = N
SIGNAL_CHAIN_ID = 2
/* RADIOMETRIC DATA ELEMENTS */
BANDWIDTH = 88.0
CENTER_FILTER_WAVELENGTH = 538.0
RADIANCE_OFFSET = 0.0
RADIANCE_SCALING_FACTOR = 0.00985415
REFLECTANCE_SCALING_FACTOR = 0.000474116
MEX:REFLECTANCE_OFFSET = 0.0
/* IMAGE OBJECT DEFINITIONS */
OBJECT = IMAGE
  INTERCHANGE_FORMAT = BINARY
  LINES = 23576
  LINE_SAMPLES = 9460
  SAMPLE_TYPE = UNSIGNED_INTEGER
  SAMPLE_BITS = 8
  BANDS = 1
  BAND_STORAGE_TYPE = BAND_SEQUENTIAL
  MAXIMUM = 255
  MEAN = 147.836
  MINIMUM = 1
  STANDARD_DEVIATION = 113.333
END_OBJECT = IMAGE
/* MAP OBJECT DEFINITIONS */
OBJECT = IMAGE_MAP_PROJECTION
  ^DATA_SET_MAP_PROJECTION_CATALOG= "DSMAP.CAT"
  A_AXIS_RADIUS = 3396.0
  B_AXIS_RADIUS = 3396.0
  C_AXIS_RADIUS = 3396.0
  CENTER_LATITUDE = 90.0
  CENTER_LONGITUDE = 0.0
  COORDINATE_SYSTEM_NAME = PLANETOGRAPHIC
  COORDINATE_SYSTEM_TYPE = "BODY-FIXED ROTATING"
  EASTERNMOST_LONGITUDE = 360.0
  FIRST_STANDARD_PARALLEL = "N/A"
  LINE_FIRST_PIXEL = 1
  LINE_LAST_PIXEL = 23576
  LINE_PROJECTION_OFFSET = 8671.25
  MAP_PROJECTION_ROTATION = 0.0
  MAP_PROJECTION_TYPE = STEREOGRAPHIC
  MAP_RESOLUTION = 148.178450966667
  MAP_SCALE = 0.4
  MAXIMUM_LATITUDE = 90.0
  MINIMUM_LATITUDE = 4.13627
  POSITIVE_LONGITUDE_DIRECTION = EAST
  REFERENCE_LATITUDE = "N/A"
  REFERENCE_LONGITUDE = "N/A"
  SAMPLE_FIRST_PIXEL = 1
  SAMPLE_LAST_PIXEL = 9460
  SAMPLE_PROJECTION_OFFSET = 5158.75
  SECOND_STANDARD_PARALLEL = "N/A"
  WESTERNMOST_LONGITUDE = 0.0
END_OBJECT = IMAGE_MAP_PROJECTION
/* The JPEG2000 image data file associated with this label. */
OBJECT = COMPRESSED_FILE
  FILE_NAME = "HG961_0000_GR3.JP2"
  RECORD_TYPE = UNDEFINED
  FILE_RECORDS = UNK
  ENCODING_TYPE = "JP2"
  INTERCHANGE_FORMAT = BINARY
  UNCOMPRESSED_FILE_NAME = "HG961_0000_GR3.IMG"
  REQUIRED_STORAGE_BYTES = "223057340"
  ^DESCRIPTION = "JP2INFO.TXT"
END_OBJECT = COMPRESSED_FILE
END
