PDS_VERSION_ID = PDS3
/* FILE DATA ELEMENTS */
RECORD_TYPE = STREAM
/* POINTERS TO DATA OBJECTS */
^COMPRESSED_FILE = "HG969_0000_GR3.JP2"
/* IDENTIFICATION DATA ELEMENTS */
DATA_SET_ID = "MEX-M-HRSC-5-REFDR-MAPPROJECTED-V3.0"
DATA_SET_NAME = "MARS EXPRESS HRSC MAP PROJECTED REFDR V3.0"
DETECTOR_ID = MEX_HRSC_GREEN
EVENT_TYPE = "MARS-TERMINATOR-CALIBRATION-Tc"
INSTRUMENT_HOST_ID = MEX
INSTRUMENT_HOST_NAME = "MARS EXPRESS"
INSTRUMENT_ID = HRSC
INSTRUMENT_NAME = "HIGH RESOLUTION STEREO CAMERA"
MISSION_NAME = "MARS EXPRESS"
MISSION_PHASE_NAME = ME_Phase_36
PROCESSING_LEVEL_ID = 3
PRODUCT_CREATION_TIME = 2018-06-28T11:48:36.000Z
PRODUCT_ID = "HG969_0000_GR3.JP2"
RELEASE_ID = 0138
REVISION_ID = 0000
/* QUALITY DATA ELEMENTS */
DATA_QUALITY_ID = 1
DATA_QUALITY_DESC = "Data calculated based on original SPICE kernels"
/* TIME DATA ELEMENTS */
SPACECRAFT_CLOCK_START_COUNT = "1/0443907518.09034"
SPACECRAFT_CLOCK_STOP_COUNT = "1/0443907993.07433"
START_TIME = 2017-05-26T19:41:09.581Z
STOP_TIME = 2017-05-26T19:45:00.540Z
/* ORBITAL DATA ELEMENTS */
ASCENDING_NODE_LONGITUDE = 255.26
MAXIMUM_RESOLUTION = 1255.2
FOOTPRINT_POINT_LATITUDE = (6.80973,7.41202,7.35919,9.22806, 8.58452,8.83674,10.9545,14.6817,18.5427 ,22.0247,24.7827,27.1392,31.2743, 34.5273,37.2063,41.0032,46.2881,50.1128 ,53.3965,57.4265,62.1232,66.66,70.7729, 73.1725,76.4654,77.8357,78.44,77.23, 75.5634,72.4271,69.5163,66.9059,63.0851 ,58.5846,55.988,53.0682,49.4613,45.3148 ,42.7837,37.8111,34.0226,30.4912, 27.6347,29.6841,28.2592,27.4294,27.9379 ,27.7681,27.5815,28.5487,27.7406, 27.2358,28.748,26.7557,29.1297,32.4451, 35.2302,38.8974,43.8254,46.9723,50.5131 ,53.3417,55.6862,58.3293,62.1351, 65.3074,67.9336,70.0442,71.4624,72.623, 73.1357,72.6964,71.746,70.4299,69.0152, 67.1498,65.0614,62.3242,60.1386,57.8938 ,55.0462,51.1602,46.4199,42.3114, 38.4806,35.9353,31.1392,26.0103,21.994, 18.9491,14.5877,10.6115,9.9657,9.49506, 7.17018,8.56972,8.69284,8.6476,6.80973)
FOOTPRINT_POINT_LONGITUDE = (254.234,251.814,248.33,245.893,242.983 ,239.443,236.662,236.28,236.456,236.535 ,236.547,236.521,236.373,236.159, 235.907,235.418,234.405,233.374,232.219 ,230.338,227.202,222.575,215.837,209.74 ,195.038,182.188,163.157,139.806,128.5, 116.924,110.537,106.547,102.411,99.1014 ,97.6876,96.405,95.1642,94.0913,93.5817 ,92.8344,92.4497,92.2218,92.1052, 89.1901,86.1735,82.1273,79.2073,74.1378 ,68.7015,65.7422,63.2578,58.5713,55.845 ,51.2456,49.0414,48.4938,47.9381, 47.0238,45.4408,44.1202,42.318,40.5379, 38.7677,36.3553,31.7743,26.3952,20.0618 ,12.6534,5.27206,355.339,345.399, 328.039,319.102,311.549,305.858,300.314 ,295.656,291.076,288.241,285.863, 283.422,280.84,278.476,276.98,275.903, 275.321,274.463,273.827,273.505,273.331 ,273.206,273.208,271.251,267.697, 267.073,264.186,261.333,258.489, 254.234)
ORBIT_NUMBER = 16969
ORBITAL_ECCENTRICITY = 0.578
ORBITAL_INCLINATION = 86.95
ORBITAL_SEMIMAJOR_AXIS = 8777.23
PERIAPSIS_ALTITUDE = 327.02
PERIAPSIS_ARGUMENT_ANGLE = 294.51
PERIAPSIS_TIME = 2017-05-26T17:59:47.000Z
SPACECRAFT_ORIENTATION = (-1e+32,-1e+32,-1e+32)
^MEX_ORIENTATION_DESC = "MEX_ORIENTATION_DESC.TXT"
SPACECRAFT_POINTING_MODE = INERT
^MEX_POINTING_DESC = "MEX_POINTING_DESC.TXT"
RIGHT_ASCENSION = 137.465
DECLINATION = -40.432
OFFSET_ANGLE = -1e+32
SPACECRAFT_SOLAR_DISTANCE = 2.36784e+08
TARGET_NAME = MARS
/* CAMERA DATA ELEMENTS */
DETECTOR_TEMPERATURE = 18.3705
FOCAL_PLANE_TEMPERATURE = 7.9716
INST_CMPRS_NAME = "DISCRETE COSINE TRANSFORMATION (DCT)"
INST_CMPRS_RATIO = 17.2864
INST_CMPRS_QUALITY = 0
INST_CMPRS_QUANTZ_TBL_ID = 0
INSTRUMENT_TEMPERATURE = 11.0301
LENS_TEMPERATURE = 8.3794
MACROPIXEL_SIZE = 4
MISSING_FRAMES = 0
PIXEL_SUBSAMPLING_FLAG = N
SIGNAL_CHAIN_ID = 2
/* RADIOMETRIC DATA ELEMENTS */
BANDWIDTH = 88.0
CENTER_FILTER_WAVELENGTH = 538.0
RADIANCE_OFFSET = 0.0
RADIANCE_SCALING_FACTOR = 0.0182078
REFLECTANCE_SCALING_FACTOR = 0.000879013
MEX:REFLECTANCE_OFFSET = 0.0
/* IMAGE OBJECT DEFINITIONS */
OBJECT = IMAGE
  INTERCHANGE_FORMAT = BINARY
  LINES = 3487
  LINE_SAMPLES = 5798
  SAMPLE_TYPE = UNSIGNED_INTEGER
  SAMPLE_BITS = 8
  BANDS = 1
  BAND_STORAGE_TYPE = BAND_SEQUENTIAL
  MAXIMUM = 255
  MEAN = 97.5049
  MINIMUM = 1
  STANDARD_DEVIATION = 90.6767
END_OBJECT = IMAGE
/* MAP OBJECT DEFINITIONS */
OBJECT = IMAGE_MAP_PROJECTION
  ^DATA_SET_MAP_PROJECTION_CATALOG= "DSMAP.CAT"
  A_AXIS_RADIUS = 3396.0
  B_AXIS_RADIUS = 3396.0
  C_AXIS_RADIUS = 3396.0
  CENTER_LATITUDE = 90.0
  CENTER_LONGITUDE = 0.0
  COORDINATE_SYSTEM_NAME = PLANETOGRAPHIC
  COORDINATE_SYSTEM_TYPE = "BODY-FIXED ROTATING"
  EASTERNMOST_LONGITUDE = 360.0
  FIRST_STANDARD_PARALLEL = "N/A"
  LINE_FIRST_PIXEL = 1
  LINE_LAST_PIXEL = 3487
  LINE_PROJECTION_OFFSET = 1886.25
  MAP_PROJECTION_ROTATION = 0.0
  MAP_PROJECTION_TYPE = STEREOGRAPHIC
  MAP_RESOLUTION = 37.0446127416667
  MAP_SCALE = 1.6
  MAXIMUM_LATITUDE = 90.0
  MINIMUM_LATITUDE = 6.80973
  POSITIVE_LONGITUDE_DIRECTION = EAST
  REFERENCE_LATITUDE = "N/A"
  REFERENCE_LONGITUDE = "N/A"
  SAMPLE_FIRST_PIXEL = 1
  SAMPLE_LAST_PIXEL = 5798
  SAMPLE_PROJECTION_OFFSET = 3457.75
  SECOND_STANDARD_PARALLEL = "N/A"
  WESTERNMOST_LONGITUDE = 0.0
END_OBJECT = IMAGE_MAP_PROJECTION
/* The JPEG2000 image data file associated with this label. */
OBJECT = COMPRESSED_FILE
  FILE_NAME = "HG969_0000_GR3.JP2"
  RECORD_TYPE = UNDEFINED
  FILE_RECORDS = UNK
  ENCODING_TYPE = "JP2"
  INTERCHANGE_FORMAT = BINARY
  UNCOMPRESSED_FILE_NAME = "HG969_0000_GR3.IMG"
  REQUIRED_STORAGE_BYTES = "20246616"
  ^DESCRIPTION = "JP2INFO.TXT"
END_OBJECT = COMPRESSED_FILE
END
