PDS_VERSION_ID = PDS3
/* FILE DATA ELEMENTS */
RECORD_TYPE = STREAM
/* POINTERS TO DATA OBJECTS */
^COMPRESSED_FILE = "HG972_0000_P13.JP2"
/* IDENTIFICATION DATA ELEMENTS */
DATA_SET_ID = "MEX-M-HRSC-5-REFDR-MAPPROJECTED-V3.0"
DATA_SET_NAME = "MARS EXPRESS HRSC MAP PROJECTED REFDR V3.0"
DETECTOR_ID = MEX_HRSC_P1
EVENT_TYPE = "MARS-REGIONAL-MAPPING-Fl-Gl-Pf"
INSTRUMENT_HOST_ID = MEX
INSTRUMENT_HOST_NAME = "MARS EXPRESS"
INSTRUMENT_ID = HRSC
INSTRUMENT_NAME = "HIGH RESOLUTION STEREO CAMERA"
MISSION_NAME = "MARS EXPRESS"
MISSION_PHASE_NAME = ME_Phase_36
PROCESSING_LEVEL_ID = 3
PRODUCT_CREATION_TIME = 2018-06-28T11:48:36.000Z
PRODUCT_ID = "HG972_0000_P13.JP2"
RELEASE_ID = 0138
REVISION_ID = 0000
/* QUALITY DATA ELEMENTS */
DATA_QUALITY_ID = 1
DATA_QUALITY_DESC = "Data calculated based on original SPICE kernels"
/* TIME DATA ELEMENTS */
SPACECRAFT_CLOCK_START_COUNT = "1/0443977168.08265"
SPACECRAFT_CLOCK_STOP_COUNT = "1/0443977361.21585"
START_TIME = 2017-05-27T15:00:25.358Z
STOP_TIME = 2017-05-27T15:02:35.990Z
/* ORBITAL DATA ELEMENTS */
ASCENDING_NODE_LONGITUDE = 255.2
MAXIMUM_RESOLUTION = 54.7
FOOTPRINT_POINT_LATITUDE = (-60.6797,-60.6664,-60.6473,-60.6245, -60.6096,-60.6475,-60.482,-60.3208, -60.1576,-59.9939,-59.8311,-59.6676, -59.4227,-59.1776,-59.0135,-58.8446, -58.6784,-58.5102,-58.3369,-58.1674, -57.9155,-57.7477,-57.583,-57.3357, -57.0755,-56.902,-56.7358,-56.5789, -56.4183,-56.1783,-55.93,-55.7634, -55.5968,-55.4308,-55.2645,-55.0982, -54.8488,-54.6836,-54.518,-54.3527, -54.1873,-53.9393,-53.6917,-53.4444, -53.2793,-53.1147,-52.8681,-52.7037, -52.5394,-52.3454,-52.3555,-52.3628, -52.371,-52.3791,-52.387,-52.3935, -52.4833,-52.648,-52.8948,-53.1412, -53.3074,-53.5558,-53.7213,-53.8865, -54.0521,-54.218,-54.3842,-54.5504, -54.7165,-54.8829,-55.1327,-55.2993, -55.466,-55.7145,-55.9658,-56.1319, -56.2993,-56.4611,-56.6255,-56.7962, -56.9665,-57.2179,-57.3854,-57.5506, -57.7173,-57.9724,-58.2253,-58.4744, -58.6393,-58.8059,-58.9748,-59.2236, -59.3877,-59.5507,-59.7152,-59.9605, -60.125,-60.2906,-60.4556,-60.6797)
FOOTPRINT_POINT_LONGITUDE = (320.65,320.227,319.678,319.088,318.73, 318.368,318.401,318.428,318.457,318.487 ,318.515,318.544,318.585,318.627, 318.655,318.685,318.709,318.735,318.767 ,318.794,318.831,318.856,318.876, 318.907,318.951,318.98,319.001,319.012, 319.027,319.049,319.078,319.098,319.118 ,319.137,319.156,319.175,319.204, 319.221,319.239,319.256,319.273,319.299 ,319.323,319.347,319.363,319.379, 319.401,319.416,319.431,319.585,319.883 ,320.121,320.398,320.675,320.973, 321.251,321.569,321.557,321.538,321.518 ,321.506,321.487,321.474,321.46,321.447 ,321.433,321.42,321.406,321.392,321.377 ,321.356,321.341,321.326,321.302, 321.279,321.263,321.247,321.227,321.208 ,321.194,321.179,321.154,321.136, 321.116,321.098,321.073,321.045,321.014 ,320.992,320.971,320.952,320.925, 320.906,320.885,320.866,320.835,320.815 ,320.795,320.775,320.65)
ORBIT_NUMBER = 16972
ORBITAL_ECCENTRICITY = 0.578
ORBITAL_INCLINATION = 86.96
ORBITAL_SEMIMAJOR_AXIS = 8774.92
PERIAPSIS_ALTITUDE = 327.26
PERIAPSIS_ARGUMENT_ANGLE = 294.02
PERIAPSIS_TIME = 2017-05-27T14:58:49.000Z
SPACECRAFT_ORIENTATION = (0.0,1.0,0.0)
^MEX_ORIENTATION_DESC = "MEX_ORIENTATION_DESC.TXT"
SPACECRAFT_POINTING_MODE = NADIR
^MEX_POINTING_DESC = "MEX_POINTING_DESC.TXT"
RIGHT_ASCENSION = -1e+32
DECLINATION = -1e+32
OFFSET_ANGLE = -1e+32
SPACECRAFT_SOLAR_DISTANCE = 2.36933e+08
TARGET_NAME = MARS
/* CAMERA DATA ELEMENTS */
DETECTOR_TEMPERATURE = 17.5549
FOCAL_PLANE_TEMPERATURE = 8.1755
INST_CMPRS_NAME = "DISCRETE COSINE TRANSFORMATION (DCT)"
INST_CMPRS_RATIO = 29.2476
INST_CMPRS_QUALITY = 0
INST_CMPRS_QUANTZ_TBL_ID = 0
INSTRUMENT_TEMPERATURE = 11.234
LENS_TEMPERATURE = 8.3794
MACROPIXEL_SIZE = 4
MISSING_FRAMES = 0
PIXEL_SUBSAMPLING_FLAG = N
SIGNAL_CHAIN_ID = 3
/* RADIOMETRIC DATA ELEMENTS */
BANDWIDTH = 174.0
CENTER_FILTER_WAVELENGTH = 675.0
RADIANCE_OFFSET = 1.60587
RADIANCE_SCALING_FACTOR = 0.0177623
REFLECTANCE_SCALING_FACTOR = 0.000536334
MEX:REFLECTANCE_OFFSET = 0.0484895
/* IMAGE OBJECT DEFINITIONS */
OBJECT = IMAGE
  INTERCHANGE_FORMAT = BINARY
  LINES = 9956
  LINE_SAMPLES = 2077
  SAMPLE_TYPE = UNSIGNED_INTEGER
  SAMPLE_BITS = 8
  BANDS = 1
  BAND_STORAGE_TYPE = BAND_SEQUENTIAL
  MAXIMUM = 255
  MEAN = 128.709
  MINIMUM = 1
  STANDARD_DEVIATION = 35.9324
END_OBJECT = IMAGE
/* MAP OBJECT DEFINITIONS */
OBJECT = IMAGE_MAP_PROJECTION
  ^DATA_SET_MAP_PROJECTION_CATALOG= "DSMAP.CAT"
  A_AXIS_RADIUS = 3396.0
  B_AXIS_RADIUS = 3396.0
  C_AXIS_RADIUS = 3396.0
  CENTER_LATITUDE = 0.0
  CENTER_LONGITUDE = 320.0
  COORDINATE_SYSTEM_NAME = PLANETOGRAPHIC
  COORDINATE_SYSTEM_TYPE = "BODY-FIXED ROTATING"
  EASTERNMOST_LONGITUDE = 321.569
  FIRST_STANDARD_PARALLEL = "N/A"
  LINE_FIRST_PIXEL = 1
  LINE_LAST_PIXEL = 9956
  LINE_PROJECTION_OFFSET = -62049.125
  MAP_PROJECTION_ROTATION = 0.0
  MAP_PROJECTION_TYPE = SINUSOIDAL
  MAP_RESOLUTION = 1185.42760773333
  MAP_SCALE = 0.05
  MAXIMUM_LATITUDE = -52.3454
  MINIMUM_LATITUDE = -60.6797
  POSITIVE_LONGITUDE_DIRECTION = EAST
  REFERENCE_LATITUDE = "N/A"
  REFERENCE_LONGITUDE = "N/A"
  SAMPLE_FIRST_PIXEL = 1
  SAMPLE_LAST_PIXEL = 2077
  SAMPLE_PROJECTION_OFFSET = 952.875
  SECOND_STANDARD_PARALLEL = "N/A"
  WESTERNMOST_LONGITUDE = 318.368
END_OBJECT = IMAGE_MAP_PROJECTION
/* The JPEG2000 image data file associated with this label. */
OBJECT = COMPRESSED_FILE
  FILE_NAME = "HG972_0000_P13.JP2"
  RECORD_TYPE = UNDEFINED
  FILE_RECORDS = UNK
  ENCODING_TYPE = "JP2"
  INTERCHANGE_FORMAT = BINARY
  UNCOMPRESSED_FILE_NAME = "HG972_0000_P13.IMG"
  REQUIRED_STORAGE_BYTES = "20699382"
  ^DESCRIPTION = "JP2INFO.TXT"
END_OBJECT = COMPRESSED_FILE
END
