PDS_VERSION_ID = PDS3
/* FILE DATA ELEMENTS */
RECORD_TYPE = STREAM
/* POINTERS TO DATA OBJECTS */
^COMPRESSED_FILE = "HH444_0000_GR3.JP2"
/* IDENTIFICATION DATA ELEMENTS */
DATA_SET_ID = "MEX-M-HRSC-5-REFDR-MAPPROJECTED-V3.0"
DATA_SET_NAME = "MARS EXPRESS HRSC MAP PROJECTED REFDR V3.0"
DETECTOR_ID = MEX_HRSC_GREEN
EVENT_TYPE = "MARS-TERMINATOR-CALIBRATION-Tc"
INSTRUMENT_HOST_ID = MEX
INSTRUMENT_HOST_NAME = "MARS EXPRESS"
INSTRUMENT_ID = HRSC
INSTRUMENT_NAME = "HIGH RESOLUTION STEREO CAMERA"
MISSION_NAME = "MARS EXPRESS"
MISSION_PHASE_NAME = ME_Phase_37
PROCESSING_LEVEL_ID = 3
PRODUCT_CREATION_TIME = 2018-06-28T23:44:04.000Z
PRODUCT_ID = "HH444_0000_GR3.JP2"
RELEASE_ID = 0139
REVISION_ID = 0000
/* QUALITY DATA ELEMENTS */
DATA_QUALITY_ID = 1
DATA_QUALITY_DESC = "Data calculated based on original SPICE kernels"
/* TIME DATA ELEMENTS */
SPACECRAFT_CLOCK_START_COUNT = "1/0455873673.07345"
SPACECRAFT_CLOCK_STOP_COUNT = "1/0455874114.05393"
START_TIME = 2017-10-12T07:36:22.717Z
STOP_TIME = 2017-10-12T07:39:36.701Z
/* ORBITAL DATA ELEMENTS */
ASCENDING_NODE_LONGITUDE = 246.57
MAXIMUM_RESOLUTION = 816.6
FOOTPRINT_POINT_LATITUDE = (-39.3518,-35.2617,-32.6868,-29.8827, -27.6421,-25.1922,-22.2765,-21.7815, -18.9658,-16.9333,-15.1699,-12.0976, -9.74876,-6.90096,-5.00357,-2.62351, 0.683033,3.50796,8.15157,11.2264, 13.6875,17.4672,20.9503,25.4533,29.1573 ,33.3746,36.2917,39.431,43.8713,46.7697 ,49.6693,53.5503,58.6593,62.3697, 65.2733,69.9127,73.3091,77.069,81.5578, 84.6178,86.1962,85.8141,82.771,80.0416, 81.1792,78.1987,77.6149,75.0575,70.1844 ,66.6954,64.1057,60.3419,57.0821, 53.9917,51.2042,48.5246,45.8313,42.5607 ,39.4506,39.6216,40.501,40.9974,41.2508 ,41.301,40.8288,40.2353,39.2585,37.5428 ,34.9386,33.1105,30.8652,27.4844, 25.5195,22.7585,20.9054,17.7762,14.6042 ,11.7918,8.25778,3.90783,0.934634, -1.86602,-4.62818,-9.07687,-13.6248, -16.6005,-20.2564,-22.8021,-25.9812, -30.0237,-34.2535,-37.8347,-42.9918, -46.3357,-49.4282,-46.6164,-46.3087, -43.497,-41.8022,-39.3518)
FOOTPRINT_POINT_LONGITUDE = (288.714,293.156,296.09,296.127,299.87, 301.892,301.633,304.894,303.579,305.656 ,302.948,298.537,295.631,292.597, 290.536,288.271,285.353,283.074,279.627 ,277.494,275.874,273.513,271.446,268.91 ,266.925,264.744,263.274,261.706, 259.528,258.103,256.675,254.713,251.985 ,249.818,247.948,244.436,241.158, 236.141,225.276,206.552,171.727,130.98, 97.9749,92.1789,110.625,105.155,123.503 ,121.707,133.27,138.687,139.74,141.107, 142.693,144.866,147.424,149.435,149.473 ,153.525,151.983,155.431,160.306, 164.363,167.794,175.722,181.747,185.908 ,190.732,196.822,203.544,207.301, 211.239,216.222,218.728,221.881,223.897 ,226.955,229.515,231.697,234.241, 237.113,238.923,240.55,242.089,244.407, 246.664,248.088,249.8,250.975,252.433, 254.286,256.251,257.939,260.475,262.256 ,264.664,269.391,274.036,278.394, 284.957,288.714)
ORBIT_NUMBER = 17444
ORBITAL_ECCENTRICITY = 0.579
ORBITAL_INCLINATION = 86.95
ORBITAL_SEMIMAJOR_AXIS = 8832.54
PERIAPSIS_ALTITUDE = 332.59
PERIAPSIS_ARGUMENT_ANGLE = 213.96
PERIAPSIS_TIME = 2017-10-12T04:45:44.000Z
SPACECRAFT_ORIENTATION = (0.0,-1.0,0.0)
^MEX_ORIENTATION_DESC = "MEX_ORIENTATION_DESC.TXT"
SPACECRAFT_POINTING_MODE = FIXED
^MEX_POINTING_DESC = "MEX_POINTING_DESC.TXT"
RIGHT_ASCENSION = -1e+32
DECLINATION = -1e+32
OFFSET_ANGLE = -1e+32
SPACECRAFT_SOLAR_DISTANCE = 2.4923e+08
TARGET_NAME = MARS
/* CAMERA DATA ELEMENTS */
DETECTOR_TEMPERATURE = 18.1666
FOCAL_PLANE_TEMPERATURE = 8.3794
INST_CMPRS_NAME = "DISCRETE COSINE TRANSFORMATION (DCT)"
INST_CMPRS_RATIO = 12.0968
INST_CMPRS_QUALITY = 0
INST_CMPRS_QUANTZ_TBL_ID = 0
INSTRUMENT_TEMPERATURE = 11.6418
LENS_TEMPERATURE = 8.3794
MACROPIXEL_SIZE = 2
MISSING_FRAMES = 0
PIXEL_SUBSAMPLING_FLAG = N
SIGNAL_CHAIN_ID = 2
/* RADIOMETRIC DATA ELEMENTS */
BANDWIDTH = 88.0
CENTER_FILTER_WAVELENGTH = 538.0
RADIANCE_OFFSET = 0.0
RADIANCE_SCALING_FACTOR = 0.0157167
REFLECTANCE_SCALING_FACTOR = 0.00084052
MEX:REFLECTANCE_OFFSET = 0.0
/* IMAGE OBJECT DEFINITIONS */
OBJECT = IMAGE
  INTERCHANGE_FORMAT = BINARY
  LINES = 10109
  LINE_SAMPLES = 9782
  SAMPLE_TYPE = UNSIGNED_INTEGER
  SAMPLE_BITS = 8
  BANDS = 1
  BAND_STORAGE_TYPE = BAND_SEQUENTIAL
  MAXIMUM = 255
  MEAN = 137.499
  MINIMUM = 1
  STANDARD_DEVIATION = 42.5288
END_OBJECT = IMAGE
/* MAP OBJECT DEFINITIONS */
OBJECT = IMAGE_MAP_PROJECTION
  ^DATA_SET_MAP_PROJECTION_CATALOG= "DSMAP.CAT"
  A_AXIS_RADIUS = 3396.0
  B_AXIS_RADIUS = 3396.0
  C_AXIS_RADIUS = 3396.0
  CENTER_LATITUDE = 0.0
  CENTER_LONGITUDE = 245.0
  COORDINATE_SYSTEM_NAME = PLANETOGRAPHIC
  COORDINATE_SYSTEM_TYPE = "BODY-FIXED ROTATING"
  EASTERNMOST_LONGITUDE = 305.656
  FIRST_STANDARD_PARALLEL = "N/A"
  LINE_FIRST_PIXEL = 1
  LINE_LAST_PIXEL = 10109
  LINE_PROJECTION_OFFSET = 6405.0
  MAP_PROJECTION_ROTATION = 0.0
  MAP_PROJECTION_TYPE = SINUSOIDAL
  MAP_RESOLUTION = 74.08922548333329
  MAP_SCALE = 0.8
  MAXIMUM_LATITUDE = 86.1962
  MINIMUM_LATITUDE = -49.4282
  POSITIVE_LONGITUDE_DIRECTION = EAST
  REFERENCE_LATITUDE = "N/A"
  REFERENCE_LONGITUDE = "N/A"
  SAMPLE_FIRST_PIXEL = 1
  SAMPLE_LAST_PIXEL = 9782
  SAMPLE_PROJECTION_OFFSET = 5353.0
  SECOND_STANDARD_PARALLEL = "N/A"
  WESTERNMOST_LONGITUDE = 92.1789
END_OBJECT = IMAGE_MAP_PROJECTION
/* The JPEG2000 image data file associated with this label. */
OBJECT = COMPRESSED_FILE
  FILE_NAME = "HH444_0000_GR3.JP2"
  RECORD_TYPE = UNDEFINED
  FILE_RECORDS = UNK
  ENCODING_TYPE = "JP2"
  INTERCHANGE_FORMAT = BINARY
  UNCOMPRESSED_FILE_NAME = "HH444_0000_GR3.IMG"
  REQUIRED_STORAGE_BYTES = "98915584"
  ^DESCRIPTION = "JP2INFO.TXT"
END_OBJECT = COMPRESSED_FILE
END
