PDS_VERSION_ID = PDS3
/* FILE DATA ELEMENTS */
RECORD_TYPE = STREAM
/* POINTERS TO DATA OBJECTS */
^COMPRESSED_FILE = "HH444_0000_P23.JP2"
/* IDENTIFICATION DATA ELEMENTS */
DATA_SET_ID = "MEX-M-HRSC-5-REFDR-MAPPROJECTED-V3.0"
DATA_SET_NAME = "MARS EXPRESS HRSC MAP PROJECTED REFDR V3.0"
DETECTOR_ID = MEX_HRSC_P2
EVENT_TYPE = "MARS-TERMINATOR-CALIBRATION-Tc"
INSTRUMENT_HOST_ID = MEX
INSTRUMENT_HOST_NAME = "MARS EXPRESS"
INSTRUMENT_ID = HRSC
INSTRUMENT_NAME = "HIGH RESOLUTION STEREO CAMERA"
MISSION_NAME = "MARS EXPRESS"
MISSION_PHASE_NAME = ME_Phase_37
PROCESSING_LEVEL_ID = 3
PRODUCT_CREATION_TIME = 2018-06-28T23:44:04.000Z
PRODUCT_ID = "HH444_0000_P23.JP2"
RELEASE_ID = 0139
REVISION_ID = 0000
/* QUALITY DATA ELEMENTS */
DATA_QUALITY_ID = 1
DATA_QUALITY_DESC = "Data calculated based on original SPICE kernels"
/* TIME DATA ELEMENTS */
SPACECRAFT_CLOCK_START_COUNT = "1/0455873673.07345"
SPACECRAFT_CLOCK_STOP_COUNT = "1/0455874114.05393"
START_TIME = 2017-10-12T07:38:07.738Z
STOP_TIME = 2017-10-12T07:41:20.715Z
/* ORBITAL DATA ELEMENTS */
ASCENDING_NODE_LONGITUDE = 246.57
MAXIMUM_RESOLUTION = 1641.7
FOOTPRINT_POINT_LATITUDE = (-36.6385,-33.7132,-30.9086,-28.0536, -24.2175,-23.9173,-20.859,-20.2215, -18.5898,-19.9119,-17.1829,-16.3359, -14.4065,-12.4308,-9.52517,-5.35012, -2.81025,-0.693166,2.39197,4.67036, 8.89616,12.2041,15.901,18.4303,22.6612, 28.4786,32.9538,37.2894,39.9892,44.7292 ,51.6683,56.8742,62.0155,65.4752, 68.4434,72.3862,77.2512,81.0522,85.8555 ,86.9966,83.7409,83.3572,80.6229, 82.8676,80.3959,82.2233,79.8083,81.5073 ,78.7205,80.6579,77.4266,75.6179, 76.9325,74.1388,71.4106,68.5393,66.1147 ,62.1357,56.1061,51.3487,49.2969,45.754 ,42.4586,41.7107,42.9595,43.2566, 43.0975,42.6717,41.4228,39.15,37.3719, 33.9941,31.6904,29.0851,27.0848,23.846, 20.6516,15.7953,11.6536,9.12985,4.74131 ,1.90048,-3.11443,-6.03027,-10.3877, -15.0211,-17.9531,-21.3034,-25.3758, -29.2136,-34.2377,-38.2995,-41.2892, -46.6058,-45.8181,-42.9866,-42.7258, -40.2173,-36.6385)
FOOTPRINT_POINT_LONGITUDE = (289.473,292.508,296.348,295.891, 298.229,301.45,300.589,305.055,302.444, 305.372,302.607,306.186,302.987,300.151 ,296.434,291.84,289.359,287.422,284.8, 283.009,279.913,277.646,275.274,273.734 ,271.281,268.12,265.836,263.701,262.395 ,260.151,256.88,254.359,251.694,249.714 ,247.818,244.846,239.704,232.837, 206.094,140.633,94.1432,100.619,89.2214 ,106.415,94.3995,110.687,98.1423, 114.016,99.6884,115.967,125.85,115.197, 125.725,129.002,131.687,138.196,133.954 ,137.602,142.648,145.439,149.097, 147.876,151.332,155.398,164.243,169.883 ,177.21,181.847,189.329,197.594,202.306 ,209.25,213.071,216.823,219.361,223.014 ,226.301,230.458,233.601,235.381, 238.247,239.971,242.839,244.407,246.649 ,248.939,250.366,251.959,253.89,255.733 ,258.185,260.243,261.843,266.761, 273.122,275.739,280.534,285.02,289.473)
ORBIT_NUMBER = 17444
ORBITAL_ECCENTRICITY = 0.579
ORBITAL_INCLINATION = 86.95
ORBITAL_SEMIMAJOR_AXIS = 8832.54
PERIAPSIS_ALTITUDE = 332.59
PERIAPSIS_ARGUMENT_ANGLE = 213.96
PERIAPSIS_TIME = 2017-10-12T04:45:44.000Z
SPACECRAFT_ORIENTATION = (0.0,-1.0,0.0)
^MEX_ORIENTATION_DESC = "MEX_ORIENTATION_DESC.TXT"
SPACECRAFT_POINTING_MODE = FIXED
^MEX_POINTING_DESC = "MEX_POINTING_DESC.TXT"
RIGHT_ASCENSION = -1e+32
DECLINATION = -1e+32
OFFSET_ANGLE = -1e+32
SPACECRAFT_SOLAR_DISTANCE = 2.4923e+08
TARGET_NAME = MARS
/* CAMERA DATA ELEMENTS */
DETECTOR_TEMPERATURE = 18.3705
FOCAL_PLANE_TEMPERATURE = 8.3794
INST_CMPRS_NAME = "DISCRETE COSINE TRANSFORMATION (DCT)"
INST_CMPRS_RATIO = 11.7349
INST_CMPRS_QUALITY = 0
INST_CMPRS_QUANTZ_TBL_ID = 0
INSTRUMENT_TEMPERATURE = 11.6418
LENS_TEMPERATURE = 8.3794
MACROPIXEL_SIZE = 4
MISSING_FRAMES = 0
PIXEL_SUBSAMPLING_FLAG = N
SIGNAL_CHAIN_ID = 3
/* RADIOMETRIC DATA ELEMENTS */
BANDWIDTH = 177.0
CENTER_FILTER_WAVELENGTH = 676.5
RADIANCE_OFFSET = 0.0
RADIANCE_SCALING_FACTOR = 0.0473887
REFLECTANCE_SCALING_FACTOR = 0.00156074
MEX:REFLECTANCE_OFFSET = 0.0
/* IMAGE OBJECT DEFINITIONS */
OBJECT = IMAGE
  INTERCHANGE_FORMAT = BINARY
  LINES = 5055
  LINE_SAMPLES = 4891
  SAMPLE_TYPE = UNSIGNED_INTEGER
  SAMPLE_BITS = 8
  BANDS = 1
  BAND_STORAGE_TYPE = BAND_SEQUENTIAL
  MAXIMUM = 255
  MEAN = 137.541
  MINIMUM = 1
  STANDARD_DEVIATION = 53.2357
END_OBJECT = IMAGE
/* MAP OBJECT DEFINITIONS */
OBJECT = IMAGE_MAP_PROJECTION
  ^DATA_SET_MAP_PROJECTION_CATALOG= "DSMAP.CAT"
  A_AXIS_RADIUS = 3396.0
  B_AXIS_RADIUS = 3396.0
  C_AXIS_RADIUS = 3396.0
  CENTER_LATITUDE = 0.0
  CENTER_LONGITUDE = 245.0
  COORDINATE_SYSTEM_NAME = PLANETOGRAPHIC
  COORDINATE_SYSTEM_TYPE = "BODY-FIXED ROTATING"
  EASTERNMOST_LONGITUDE = 360.0
  FIRST_STANDARD_PARALLEL = "N/A"
  LINE_FIRST_PIXEL = 1
  LINE_LAST_PIXEL = 5055
  LINE_PROJECTION_OFFSET = 3202.25
  MAP_PROJECTION_ROTATION = 0.0
  MAP_PROJECTION_TYPE = SINUSOIDAL
  MAP_RESOLUTION = 37.0446127416667
  MAP_SCALE = 1.6
  MAXIMUM_LATITUDE = 90.0
  MINIMUM_LATITUDE = -46.6058
  POSITIVE_LONGITUDE_DIRECTION = EAST
  REFERENCE_LATITUDE = "N/A"
  REFERENCE_LONGITUDE = "N/A"
  SAMPLE_FIRST_PIXEL = 1
  SAMPLE_LAST_PIXEL = 4891
  SAMPLE_PROJECTION_OFFSET = 2676.25
  SECOND_STANDARD_PARALLEL = "N/A"
  WESTERNMOST_LONGITUDE = 0.0
END_OBJECT = IMAGE_MAP_PROJECTION
/* The JPEG2000 image data file associated with this label. */
OBJECT = COMPRESSED_FILE
  FILE_NAME = "HH444_0000_P23.JP2"
  RECORD_TYPE = UNDEFINED
  FILE_RECORDS = UNK
  ENCODING_TYPE = "JP2"
  INTERCHANGE_FORMAT = BINARY
  UNCOMPRESSED_FILE_NAME = "HH444_0000_P23.IMG"
  REQUIRED_STORAGE_BYTES = "24748460"
  ^DESCRIPTION = "JP2INFO.TXT"
END_OBJECT = COMPRESSED_FILE
END
