PDS_VERSION_ID = PDS3
/* FILE DATA ELEMENTS */
RECORD_TYPE = STREAM
/* POINTERS TO DATA OBJECTS */
^COMPRESSED_FILE = "HH680_0000_RE3.JP2"
/* IDENTIFICATION DATA ELEMENTS */
DATA_SET_ID = "MEX-M-HRSC-5-REFDR-MAPPROJECTED-V3.0"
DATA_SET_NAME = "MARS EXPRESS HRSC MAP PROJECTED REFDR V3.0"
DETECTOR_ID = MEX_HRSC_RED
EVENT_TYPE = "MARS-REGIONAL-MAPPING-Lc-Pf"
INSTRUMENT_HOST_ID = MEX
INSTRUMENT_HOST_NAME = "MARS EXPRESS"
INSTRUMENT_ID = HRSC
INSTRUMENT_NAME = "HIGH RESOLUTION STEREO CAMERA"
MISSION_NAME = "MARS EXPRESS"
MISSION_PHASE_NAME = ME_Phase_37
PROCESSING_LEVEL_ID = 3
PRODUCT_CREATION_TIME = 2018-06-28T23:44:04.000Z
PRODUCT_ID = "HH680_0000_RE3.JP2"
RELEASE_ID = 0139
REVISION_ID = 0000
/* QUALITY DATA ELEMENTS */
DATA_QUALITY_ID = 1
DATA_QUALITY_DESC = "Data calculated based on original SPICE kernels"
/* TIME DATA ELEMENTS */
SPACECRAFT_CLOCK_START_COUNT = "1/0461805816.08297"
SPACECRAFT_CLOCK_STOP_COUNT = "1/0461806221.65467"
START_TIME = 2017-12-19T23:27:04.105Z
STOP_TIME = 2017-12-19T23:30:19.392Z
/* ORBITAL DATA ELEMENTS */
ASCENDING_NODE_LONGITUDE = 242.18
MAXIMUM_RESOLUTION = 99.5
FOOTPRINT_POINT_LATITUDE = (54.0312,54.0247,54.0152,54.0027, 53.9872,53.9685,54.0366,53.7748,53.5153 ,53.1282,52.8712,52.6171,52.3633, 52.1116,51.8592,51.6064,51.353,50.9723, 50.718,50.463,50.2078,49.9524,49.6148, 49.3895,49.0504,48.7108,48.3705,48.1435 ,47.9159,47.688,47.4597,47.2322,47.0067 ,46.6689,46.446,46.2237,46.0028,45.783, 45.5628,45.3455,45.1283,44.9112,44.6971 ,44.4826,44.269,44.0577,43.6355,43.2187 ,42.8053,42.4577,42.4572,42.4554, 42.4523,42.4486,42.4438,42.4384,42.6444 ,43.2684,43.6882,43.9016,44.1147, 44.3275,44.5431,44.8665,45.0846,45.3033 ,45.5222,45.744,46.0763,46.2999,46.5248 ,46.8629,47.0903,47.3176,47.5481, 47.7778,48.0077,48.3524,48.5817,48.8106 ,49.039,49.3813,49.609,49.9502,50.2027, 50.4606,50.7185,50.9754,51.3607,51.6171 ,51.8728,52.128,52.3832,52.6402,52.8976 ,53.1576,53.5498,53.8129,54.078, 54.0312)
FOOTPRINT_POINT_LONGITUDE = (80.2561,79.5714,78.8809,78.1852,77.484 ,76.7758,76.0544,76.1181,76.1803, 76.2708,76.3296,76.3863,76.4419,76.4962 ,76.5498,76.6027,76.6548,76.7312, 76.7809,76.8303,76.8786,76.926,76.9876, 77.0277,77.0874,77.1457,77.2027,77.2398 ,77.2765,77.3129,77.3487,77.3838, 77.4182,77.4688,77.5019,77.5333,77.5649 ,77.5956,77.6261,77.6558,77.6849, 77.7138,77.7416,77.7694,77.7967,77.8231 ,77.8749,77.9241,77.9722,78.1217, 78.5668,79.0061,79.4405,79.8704,80.3219 ,80.7166,80.9085,80.909,80.9092,80.9092 ,80.9092,80.9091,80.9091,80.9089, 80.9087,80.9085,80.9082,80.9078,80.9073 ,80.9068,80.9062,80.9054,80.9048,80.904 ,80.9032,80.9024,80.9015,80.9,80.8989, 80.8977,80.8965,80.8946,80.8932,80.891, 80.8892,80.8873,80.8853,80.8832,80.8799 ,80.8775,80.875,80.8725,80.8698,80.8669 ,80.8639,80.8607,80.8557,80.8522, 80.8485,80.2561)
ORBIT_NUMBER = 17680
ORBITAL_ECCENTRICITY = 0.578
ORBITAL_INCLINATION = 86.96
ORBITAL_SEMIMAJOR_AXIS = 8863.0
PERIAPSIS_ALTITUDE = 348.56
PERIAPSIS_ARGUMENT_ANGLE = 173.25
PERIAPSIS_TIME = 2017-12-19T23:39:06.000Z
SPACECRAFT_ORIENTATION = (0.0,-1.0,0.0)
^MEX_ORIENTATION_DESC = "MEX_ORIENTATION_DESC.TXT"
SPACECRAFT_POINTING_MODE = ACROSSTRACK
^MEX_POINTING_DESC = "MEX_POINTING_DESC.TXT"
RIGHT_ASCENSION = -1e+32
DECLINATION = -1e+32
OFFSET_ANGLE = -1.3
SPACECRAFT_SOLAR_DISTANCE = 2.45347e+08
TARGET_NAME = MARS
/* CAMERA DATA ELEMENTS */
DETECTOR_TEMPERATURE = 18.9822
FOCAL_PLANE_TEMPERATURE = 7.9716
INST_CMPRS_NAME = "DISCRETE COSINE TRANSFORMATION (DCT)"
INST_CMPRS_RATIO = 11.5347
INST_CMPRS_QUALITY = 0
INST_CMPRS_QUANTZ_TBL_ID = 0
INSTRUMENT_TEMPERATURE = 11.8457
LENS_TEMPERATURE = 8.5833
MACROPIXEL_SIZE = 4
MISSING_FRAMES = 0
PIXEL_SUBSAMPLING_FLAG = N
SIGNAL_CHAIN_ID = 2
/* RADIOMETRIC DATA ELEMENTS */
BANDWIDTH = 48.0
CENTER_FILTER_WAVELENGTH = 748.0
RADIANCE_OFFSET = 0.367348
RADIANCE_SCALING_FACTOR = 0.00332643
REFLECTANCE_SCALING_FACTOR = 0.00045695
MEX:REFLECTANCE_OFFSET = 0.0504624
/* IMAGE OBJECT DEFINITIONS */
OBJECT = IMAGE
  INTERCHANGE_FORMAT = BINARY
  LINES = 6986
  LINE_SAMPLES = 1968
  SAMPLE_TYPE = UNSIGNED_INTEGER
  SAMPLE_BITS = 8
  BANDS = 1
  BAND_STORAGE_TYPE = BAND_SEQUENTIAL
  MAXIMUM = 255
  MEAN = 94.6536
  MINIMUM = 1
  STANDARD_DEVIATION = 37.9184
END_OBJECT = IMAGE
/* MAP OBJECT DEFINITIONS */
OBJECT = IMAGE_MAP_PROJECTION
  ^DATA_SET_MAP_PROJECTION_CATALOG= "DSMAP.CAT"
  A_AXIS_RADIUS = 3396.0
  B_AXIS_RADIUS = 3396.0
  C_AXIS_RADIUS = 3396.0
  CENTER_LATITUDE = 0.0
  CENTER_LONGITUDE = 79.0
  COORDINATE_SYSTEM_NAME = PLANETOGRAPHIC
  COORDINATE_SYSTEM_TYPE = "BODY-FIXED ROTATING"
  EASTERNMOST_LONGITUDE = 80.9092
  FIRST_STANDARD_PARALLEL = "N/A"
  LINE_FIRST_PIXEL = 1
  LINE_LAST_PIXEL = 6986
  LINE_PROJECTION_OFFSET = 32118.625
  MAP_PROJECTION_ROTATION = 0.0
  MAP_PROJECTION_TYPE = SINUSOIDAL
  MAP_RESOLUTION = 592.713803866667
  MAP_SCALE = 0.1
  MAXIMUM_LATITUDE = 54.078
  MINIMUM_LATITUDE = 42.4384
  POSITIVE_LONGITUDE_DIRECTION = EAST
  REFERENCE_LATITUDE = "N/A"
  REFERENCE_LONGITUDE = "N/A"
  SAMPLE_FIRST_PIXEL = 1
  SAMPLE_LAST_PIXEL = 1968
  SAMPLE_PROJECTION_OFFSET = 1085.125
  SECOND_STANDARD_PARALLEL = "N/A"
  WESTERNMOST_LONGITUDE = 76.0544
END_OBJECT = IMAGE_MAP_PROJECTION
/* The JPEG2000 image data file associated with this label. */
OBJECT = COMPRESSED_FILE
  FILE_NAME = "HH680_0000_RE3.JP2"
  RECORD_TYPE = UNDEFINED
  FILE_RECORDS = UNK
  ENCODING_TYPE = "JP2"
  INTERCHANGE_FORMAT = BINARY
  UNCOMPRESSED_FILE_NAME = "HH680_0000_RE3.IMG"
  REQUIRED_STORAGE_BYTES = "13768128"
  ^DESCRIPTION = "JP2INFO.TXT"
END_OBJECT = COMPRESSED_FILE
END
