PDS_VERSION_ID = PDS3
/* FILE DATA ELEMENTS */
RECORD_TYPE = STREAM
/* POINTERS TO DATA OBJECTS */
^COMPRESSED_FILE = "HH683_0009_GR3.JP2"
/* IDENTIFICATION DATA ELEMENTS */
DATA_SET_ID = "MEX-M-HRSC-5-REFDR-MAPPROJECTED-V3.0"
DATA_SET_NAME = "MARS EXPRESS HRSC MAP PROJECTED REFDR V3.0"
DETECTOR_ID = MEX_HRSC_GREEN
EVENT_TYPE = "MARS-REGIONAL-MAPPING-Fl-Pf-Mw"
INSTRUMENT_HOST_ID = MEX
INSTRUMENT_HOST_NAME = "MARS EXPRESS"
INSTRUMENT_ID = HRSC
INSTRUMENT_NAME = "HIGH RESOLUTION STEREO CAMERA"
MISSION_NAME = "MARS EXPRESS"
MISSION_PHASE_NAME = ME_Phase_37
PROCESSING_LEVEL_ID = 3
PRODUCT_CREATION_TIME = 2018-06-28T23:44:04.000Z
PRODUCT_ID = "HH683_0009_GR3.JP2"
RELEASE_ID = 0139
REVISION_ID = 0000
/* QUALITY DATA ELEMENTS */
DATA_QUALITY_ID = 1
DATA_QUALITY_DESC = "Data calculated based on original SPICE kernels"
/* TIME DATA ELEMENTS */
SPACECRAFT_CLOCK_START_COUNT = "1/0461881773.07318"
SPACECRAFT_CLOCK_STOP_COUNT = "1/0461881962.39339"
START_TIME = 2017-12-20T20:30:31.280Z
STOP_TIME = 2017-12-20T20:31:58.504Z
/* ORBITAL DATA ELEMENTS */
ASCENDING_NODE_LONGITUDE = 242.11
MAXIMUM_RESOLUTION = 77
FOOTPRINT_POINT_LATITUDE = (35.9791,35.977,35.9748,35.9722,35.9694 ,35.9651,35.9617,35.958,35.954,35.9497, 35.9452,35.9403,35.9351,35.9171,35.8111 ,35.705,35.5459,35.4417,35.3374,35.233, 35.1286,35.024,34.9194,34.8147,34.712, 34.6093,34.5064,34.4035,34.3006,34.1975 ,34.0434,33.9423,33.841,33.7397,33.6384 ,33.537,33.4355,33.2333,33.0341,32.8346 ,32.6349,32.3869,32.1908,31.9945,31.798 ,31.5057,31.361,31.2163,31.0231,30.8296 ,30.7729,30.7764,30.7796,30.7827, 30.7856,30.7882,30.7922,30.7944,30.7964 ,30.7982,30.7999,30.8013,30.9007, 31.0947,31.24,31.4336,31.5786,31.7739, 31.9711,32.1681,32.3648,32.5123,32.6625 ,32.8629,33.1131,33.3129,33.4656, 33.5674,33.6692,33.7709,33.8725,33.9741 ,34.0756,34.2301,34.3335,34.4369, 34.5402,34.6434,34.7466,34.8496,34.9545 ,35.0595,35.1644,35.2693,35.3741, 35.4789,35.5835,35.6898,35.7964, 35.9791)
FOOTPRINT_POINT_LONGITUDE = (134.591,134.422,134.253,134.083, 133.912,133.677,133.505,133.333,133.16, 132.987,132.812,132.637,132.462,132.275 ,132.283,132.29,132.301,132.308,132.315 ,132.322,132.329,132.336,132.343, 132.349,132.356,132.363,132.369,132.376 ,132.382,132.389,132.398,132.404,132.41 ,132.416,132.422,132.428,132.434, 132.446,132.457,132.469,132.48,132.494, 132.504,132.515,132.525,132.54,132.547, 132.555,132.564,132.574,132.707,132.858 ,133.008,133.157,133.305,133.453, 133.692,133.838,133.984,134.13,134.275, 134.419,134.553,134.556,134.558,134.561 ,134.563,134.567,134.57,134.573,134.576 ,134.579,134.581,134.584,134.589, 134.592,134.594,134.596,134.598,134.599 ,134.601,134.603,134.605,134.607, 134.609,134.611,134.613,134.614,134.616 ,134.618,134.62,134.621,134.623,134.625 ,134.627,134.629,134.63,134.632,134.634 ,134.591)
ORBIT_NUMBER = 17683
ORBITAL_ECCENTRICITY = 0.577
ORBITAL_INCLINATION = 86.94
ORBITAL_SEMIMAJOR_AXIS = 8859.16
PERIAPSIS_ALTITUDE = 349.56
PERIAPSIS_ARGUMENT_ANGLE = 172.75
PERIAPSIS_TIME = 2017-12-20T20:38:17.000Z
SPACECRAFT_ORIENTATION = (0.0,-1.0,0.0)
^MEX_ORIENTATION_DESC = "MEX_ORIENTATION_DESC.TXT"
SPACECRAFT_POINTING_MODE = ACROSSTRACK
^MEX_POINTING_DESC = "MEX_POINTING_DESC.TXT"
RIGHT_ASCENSION = -1e+32
DECLINATION = -1e+32
OFFSET_ANGLE = -0.8
SPACECRAFT_SOLAR_DISTANCE = 2.45255e+08
TARGET_NAME = MARS
/* CAMERA DATA ELEMENTS */
DETECTOR_TEMPERATURE = 18.5744
FOCAL_PLANE_TEMPERATURE = 8.7872
INST_CMPRS_NAME = "DISCRETE COSINE TRANSFORMATION (DCT)"
INST_CMPRS_RATIO = 12.6325
INST_CMPRS_QUALITY = 0
INST_CMPRS_QUANTZ_TBL_ID = 0
INSTRUMENT_TEMPERATURE = 11.6418
LENS_TEMPERATURE = 8.7872
MACROPIXEL_SIZE = 4
MISSING_FRAMES = 0
PIXEL_SUBSAMPLING_FLAG = N
SIGNAL_CHAIN_ID = 2
/* RADIOMETRIC DATA ELEMENTS */
BANDWIDTH = 88.0
CENTER_FILTER_WAVELENGTH = 538.0
RADIANCE_OFFSET = 0.594073
RADIANCE_SCALING_FACTOR = 0.00222134
REFLECTANCE_SCALING_FACTOR = 0.000115038
MEX:REFLECTANCE_OFFSET = 0.0307656
/* IMAGE OBJECT DEFINITIONS */
OBJECT = IMAGE
  INTERCHANGE_FORMAT = BINARY
  LINES = 3077
  LINE_SAMPLES = 1141
  SAMPLE_TYPE = UNSIGNED_INTEGER
  SAMPLE_BITS = 8
  BANDS = 1
  BAND_STORAGE_TYPE = BAND_SEQUENTIAL
  MAXIMUM = 255
  MEAN = 82.3579
  MINIMUM = 1
  STANDARD_DEVIATION = 22.2578
END_OBJECT = IMAGE
/* MAP OBJECT DEFINITIONS */
OBJECT = IMAGE_MAP_PROJECTION
  ^DATA_SET_MAP_PROJECTION_CATALOG= "DSMAP.CAT"
  A_AXIS_RADIUS = 3396.0
  B_AXIS_RADIUS = 3396.0
  C_AXIS_RADIUS = 3396.0
  CENTER_LATITUDE = 0.0
  CENTER_LONGITUDE = 134.0
  COORDINATE_SYSTEM_NAME = PLANETOGRAPHIC
  COORDINATE_SYSTEM_TYPE = "BODY-FIXED ROTATING"
  EASTERNMOST_LONGITUDE = 134.634
  FIRST_STANDARD_PARALLEL = "N/A"
  LINE_FIRST_PIXEL = 1
  LINE_LAST_PIXEL = 3077
  LINE_PROJECTION_OFFSET = 21315.125
  MAP_PROJECTION_ROTATION = 0.0
  MAP_PROJECTION_TYPE = SINUSOIDAL
  MAP_RESOLUTION = 592.713803866667
  MAP_SCALE = 0.1
  MAXIMUM_LATITUDE = 35.9791
  MINIMUM_LATITUDE = 30.7729
  POSITIVE_LONGITUDE_DIRECTION = EAST
  REFERENCE_LATITUDE = "N/A"
  REFERENCE_LONGITUDE = "N/A"
  SAMPLE_FIRST_PIXEL = 1
  SAMPLE_LAST_PIXEL = 1141
  SAMPLE_PROJECTION_OFFSET = 841.875
  SECOND_STANDARD_PARALLEL = "N/A"
  WESTERNMOST_LONGITUDE = 132.275
END_OBJECT = IMAGE_MAP_PROJECTION
/* The JPEG2000 image data file associated with this label. */
OBJECT = COMPRESSED_FILE
  FILE_NAME = "HH683_0009_GR3.JP2"
  RECORD_TYPE = UNDEFINED
  FILE_RECORDS = UNK
  ENCODING_TYPE = "JP2"
  INTERCHANGE_FORMAT = BINARY
  UNCOMPRESSED_FILE_NAME = "HH683_0009_GR3.IMG"
  REQUIRED_STORAGE_BYTES = "3530254"
  ^DESCRIPTION = "JP2INFO.TXT"
END_OBJECT = COMPRESSED_FILE
END
