PDS_VERSION_ID = PDS3
/* FILE DATA ELEMENTS */
RECORD_TYPE = STREAM
/* POINTERS TO DATA OBJECTS */
^COMPRESSED_FILE = "HH690_0000_IR3.JP2"
/* IDENTIFICATION DATA ELEMENTS */
DATA_SET_ID = "MEX-M-HRSC-5-REFDR-MAPPROJECTED-V3.0"
DATA_SET_NAME = "MARS EXPRESS HRSC MAP PROJECTED REFDR V3.0"
DETECTOR_ID = MEX_HRSC_IR
EVENT_TYPE = "MARS-REGIONAL-MAPPING-Im-Fl-Pf"
INSTRUMENT_HOST_ID = MEX
INSTRUMENT_HOST_NAME = "MARS EXPRESS"
INSTRUMENT_ID = HRSC
INSTRUMENT_NAME = "HIGH RESOLUTION STEREO CAMERA"
MISSION_NAME = "MARS EXPRESS"
MISSION_PHASE_NAME = ME_Phase_37
PROCESSING_LEVEL_ID = 3
PRODUCT_CREATION_TIME = 2018-06-28T23:44:04.000Z
PRODUCT_ID = "HH690_0000_IR3.JP2"
RELEASE_ID = 0139
REVISION_ID = 0000
/* QUALITY DATA ELEMENTS */
DATA_QUALITY_ID = 1
DATA_QUALITY_DESC = "Data calculated based on original SPICE kernels"
/* TIME DATA ELEMENTS */
SPACECRAFT_CLOCK_START_COUNT = "1/0462057709.07320"
SPACECRAFT_CLOCK_STOP_COUNT = "1/0462058179.45809"
START_TIME = 2017-12-22T21:22:21.050Z
STOP_TIME = 2017-12-22T21:28:11.775Z
/* ORBITAL DATA ELEMENTS */
ASCENDING_NODE_LONGITUDE = 241.98
MAXIMUM_RESOLUTION = 94.7
FOOTPRINT_POINT_LATITUDE = (53.8104,53.8031,53.7822,53.7589, 53.7309,53.6945,53.5453,53.143,52.744, 52.348,51.9542,51.5639,51.1767,50.7926, 50.4105,50.0316,49.6558,49.2822,48.9115 ,48.5434,48.1782,47.8154,47.4552, 47.0977,46.7424,46.3891,46.0341,45.6774 ,45.3183,44.7776,44.2976,43.9766, 43.6544,43.3306,42.8419,42.5153,42.1915 ,41.87,41.5496,41.2321,40.7594,40.2913, 39.8271,39.5196,39.2156,38.9125,38.612, 38.1634,37.571,36.9856,36.5509,36.5518, 36.5629,36.5676,36.7128,37.2961,37.8873 ,38.1864,38.6367,38.9386,39.2433, 39.5491,39.8563,40.3242,40.7941,41.11, 41.4291,41.749,42.0714,42.3966,42.8879, 43.2161,43.5428,43.8683,44.1929,44.5156 ,44.8365,45.1984,45.5608,45.9221, 46.2814,46.6389,46.9978,47.5286,47.8897 ,48.2557,48.6315,49.194,49.5688,49.9465 ,50.3282,50.7127,51.1007,51.4909, 51.8853,52.2823,52.6823,53.085,53.4919, 53.8104)
FOOTPRINT_POINT_LONGITUDE = (140.133,139.327,138.22,137.417,136.665 ,135.863,134.954,135.041,135.124, 135.205,135.283,135.358,135.43,135.5, 135.567,135.631,135.694,135.754,135.813 ,135.869,135.923,135.976,136.027, 136.076,136.124,136.17,136.215,136.26, 136.303,136.366,136.42,136.455,136.49, 136.524,136.573,136.606,136.637,136.667 ,136.697,136.725,136.766,136.806, 136.844,136.868,136.892,136.915,136.938 ,136.97,137.011,137.05,137.078,137.654, 138.321,139.082,139.555,139.576,139.598 ,139.609,139.626,139.637,139.649, 139.661,139.674,139.692,139.712,139.725 ,139.738,139.752,139.766,139.78,139.802 ,139.817,139.832,139.848,139.863, 139.878,139.894,139.912,139.931,139.949 ,139.968,139.987,140.005,140.04,140.062 ,140.084,140.102,140.133,140.157, 140.181,140.206,140.231,140.257,140.284 ,140.312,140.34,140.37,140.4,140.432, 140.133)
ORBIT_NUMBER = 17690
ORBITAL_ECCENTRICITY = 0.577
ORBITAL_INCLINATION = 86.94
ORBITAL_SEMIMAJOR_AXIS = 8858.25
PERIAPSIS_ALTITUDE = 350.35
PERIAPSIS_ARGUMENT_ANGLE = 171.54
PERIAPSIS_TIME = 2017-12-22T21:36:25.000Z
SPACECRAFT_ORIENTATION = (0.0,-1.0,0.0)
^MEX_ORIENTATION_DESC = "MEX_ORIENTATION_DESC.TXT"
SPACECRAFT_POINTING_MODE = NADIR
^MEX_POINTING_DESC = "MEX_POINTING_DESC.TXT"
RIGHT_ASCENSION = -1e+32
DECLINATION = -1e+32
OFFSET_ANGLE = -1e+32
SPACECRAFT_SOLAR_DISTANCE = 2.45037e+08
TARGET_NAME = MARS
/* CAMERA DATA ELEMENTS */
DETECTOR_TEMPERATURE = 17.7588
FOCAL_PLANE_TEMPERATURE = 7.9716
INST_CMPRS_NAME = "DISCRETE COSINE TRANSFORMATION (DCT)"
INST_CMPRS_RATIO = 9.9895
INST_CMPRS_QUALITY = 0
INST_CMPRS_QUANTZ_TBL_ID = 0
INSTRUMENT_TEMPERATURE = 11.4379
LENS_TEMPERATURE = 8.3794
MACROPIXEL_SIZE = 4
MISSING_FRAMES = 0
PIXEL_SUBSAMPLING_FLAG = N
SIGNAL_CHAIN_ID = 2
/* RADIOMETRIC DATA ELEMENTS */
BANDWIDTH = 81.0
CENTER_FILTER_WAVELENGTH = 955.5
RADIANCE_OFFSET = 0.293883
RADIANCE_SCALING_FACTOR = 0.00431252
REFLECTANCE_SCALING_FACTOR = 0.000558633
MEX:REFLECTANCE_OFFSET = 0.0380689
/* IMAGE OBJECT DEFINITIONS */
OBJECT = IMAGE
  INTERCHANGE_FORMAT = BINARY
  LINES = 10176
  LINE_SAMPLES = 1720
  SAMPLE_TYPE = UNSIGNED_INTEGER
  SAMPLE_BITS = 8
  BANDS = 1
  BAND_STORAGE_TYPE = BAND_SEQUENTIAL
  MAXIMUM = 255
  MEAN = 99.4865
  MINIMUM = 1
  STANDARD_DEVIATION = 20.6735
END_OBJECT = IMAGE
/* MAP OBJECT DEFINITIONS */
OBJECT = IMAGE_MAP_PROJECTION
  ^DATA_SET_MAP_PROJECTION_CATALOG= "DSMAP.CAT"
  A_AXIS_RADIUS = 3396.0
  B_AXIS_RADIUS = 3396.0
  C_AXIS_RADIUS = 3396.0
  CENTER_LATITUDE = 0.0
  CENTER_LONGITUDE = 138.0
  COORDINATE_SYSTEM_NAME = PLANETOGRAPHIC
  COORDINATE_SYSTEM_TYPE = "BODY-FIXED ROTATING"
  EASTERNMOST_LONGITUDE = 140.432
  FIRST_STANDARD_PARALLEL = "N/A"
  LINE_FIRST_PIXEL = 1
  LINE_LAST_PIXEL = 10176
  LINE_PROJECTION_OFFSET = 31838.875
  MAP_PROJECTION_ROTATION = 0.0
  MAP_PROJECTION_TYPE = SINUSOIDAL
  MAP_RESOLUTION = 592.713803866667
  MAP_SCALE = 0.1
  MAXIMUM_LATITUDE = 53.8104
  MINIMUM_LATITUDE = 36.5509
  POSITIVE_LONGITUDE_DIRECTION = EAST
  REFERENCE_LATITUDE = "N/A"
  REFERENCE_LONGITUDE = "N/A"
  SAMPLE_FIRST_PIXEL = 1
  SAMPLE_LAST_PIXEL = 1720
  SAMPLE_PROJECTION_OFFSET = 977.625
  SECOND_STANDARD_PARALLEL = "N/A"
  WESTERNMOST_LONGITUDE = 134.954
END_OBJECT = IMAGE_MAP_PROJECTION
/* The JPEG2000 image data file associated with this label. */
OBJECT = COMPRESSED_FILE
  FILE_NAME = "HH690_0000_IR3.JP2"
  RECORD_TYPE = UNDEFINED
  FILE_RECORDS = UNK
  ENCODING_TYPE = "JP2"
  INTERCHANGE_FORMAT = BINARY
  UNCOMPRESSED_FILE_NAME = "HH690_0000_IR3.IMG"
  REQUIRED_STORAGE_BYTES = "17523360"
  ^DESCRIPTION = "JP2INFO.TXT"
END_OBJECT = COMPRESSED_FILE
END
