PDS_VERSION_ID = PDS3
/* FILE DATA ELEMENTS */
RECORD_TYPE = STREAM
/* POINTERS TO DATA OBJECTS */
^COMPRESSED_FILE = "HH703_0000_P13.JP2"
/* IDENTIFICATION DATA ELEMENTS */
DATA_SET_ID = "MEX-M-HRSC-5-REFDR-MAPPROJECTED-V3.0"
DATA_SET_NAME = "MARS EXPRESS HRSC MAP PROJECTED REFDR V3.0"
DETECTOR_ID = MEX_HRSC_P1
EVENT_TYPE = "MARS-REGIONAL-STEREO-Vo-Te"
INSTRUMENT_HOST_ID = MEX
INSTRUMENT_HOST_NAME = "MARS EXPRESS"
INSTRUMENT_ID = HRSC
INSTRUMENT_NAME = "HIGH RESOLUTION STEREO CAMERA"
MISSION_NAME = "MARS EXPRESS"
MISSION_PHASE_NAME = ME_Phase_37
PROCESSING_LEVEL_ID = 3
PRODUCT_CREATION_TIME = 2018-06-28T23:44:04.000Z
PRODUCT_ID = "HH703_0000_P13.JP2"
RELEASE_ID = 0139
REVISION_ID = 0000
/* QUALITY DATA ELEMENTS */
DATA_QUALITY_ID = 1
DATA_QUALITY_DESC = "Data calculated based on original SPICE kernels"
/* TIME DATA ELEMENTS */
SPACECRAFT_CLOCK_START_COUNT = "1/0462385558.09046"
SPACECRAFT_CLOCK_STOP_COUNT = "1/0462385823.50923"
START_TIME = 2017-12-26T16:26:24.960Z
STOP_TIME = 2017-12-26T16:29:32.580Z
/* ORBITAL DATA ELEMENTS */
ASCENDING_NODE_LONGITUDE = 241.75
MAXIMUM_RESOLUTION = 32.1
FOOTPRINT_POINT_LATITUDE = (34.3274,34.3241,34.3188,34.314,34.1793 ,33.9332,33.5684,33.3262,33.0842, 32.7252,32.4869,32.2486,32.0111,31.7773 ,31.5432,31.3091,31.0757,30.8461, 30.6161,30.2704,30.0378,29.8126,29.4735 ,29.2472,29.0223,28.6891,28.467,28.2444 ,28.021,27.8018,27.5836,27.2558,27.0371 ,26.8183,26.4976,26.2836,26.0693, 25.8547,25.6395,25.4274,25.0075,24.797, 24.5868,24.3759,24.1647,23.9534,23.7419 ,23.5302,23.3184,23.0631,23.0654, 23.0656,23.065,23.0641,23.3827,23.5949, 23.8068,24.0185,24.2299,24.4411,24.6521 ,24.8628,25.0734,25.4939,25.8155, 26.0306,26.3526,26.5673,26.7812,27.0, 27.2193,27.4389,27.6571,27.8763,28.2092 ,28.4314,28.6538,28.8772,29.0988, 29.3254,29.5528,29.7789,30.1175,30.4669 ,30.8124,31.0423,31.2749,31.5098, 31.7443,31.9784,32.2154,32.454,32.6928, 32.931,33.1732,33.4154,33.6578,33.9012, 34.1477,34.3274)
FOOTPRINT_POINT_LONGITUDE = (248.884,248.323,247.862,247.561, 247.257,247.269,247.286,247.296,247.307 ,247.323,247.333,247.343,247.353, 247.362,247.371,247.381,247.389,247.398 ,247.407,247.419,247.427,247.435, 247.447,247.454,247.462,247.472,247.479 ,247.485,247.492,247.498,247.504, 247.512,247.518,247.524,247.532,247.537 ,247.542,247.548,247.552,247.557, 247.566,247.57,247.575,247.579,247.583, 247.587,247.591,247.595,247.598,247.717 ,248.19,248.491,248.806,249.084,249.09, 249.093,249.097,249.101,249.105,249.109 ,249.113,249.117,249.121,249.129, 249.135,249.139,249.146,249.15,249.154, 249.158,249.163,249.167,249.172,249.176 ,249.182,249.188,249.193,249.197, 249.202,249.207,249.212,249.218,249.226 ,249.234,249.242,249.248,249.253, 249.259,249.265,249.27,249.276,249.282, 249.288,249.293,249.299,249.306,249.312 ,249.318,249.324,248.884)
ORBIT_NUMBER = 17703
ORBITAL_ECCENTRICITY = 0.578
ORBITAL_INCLINATION = 86.94
ORBITAL_SEMIMAJOR_AXIS = 8870.7
PERIAPSIS_ALTITUDE = 351.12
PERIAPSIS_ARGUMENT_ANGLE = 169.28
PERIAPSIS_TIME = 2017-12-26T16:33:07.000Z
SPACECRAFT_ORIENTATION = (0.0,-1.0,0.0)
^MEX_ORIENTATION_DESC = "MEX_ORIENTATION_DESC.TXT"
SPACECRAFT_POINTING_MODE = NADIR
^MEX_POINTING_DESC = "MEX_POINTING_DESC.TXT"
RIGHT_ASCENSION = -1e+32
DECLINATION = -1e+32
OFFSET_ANGLE = -1e+32
SPACECRAFT_SOLAR_DISTANCE = 2.44618e+08
TARGET_NAME = MARS
/* CAMERA DATA ELEMENTS */
DETECTOR_TEMPERATURE = 18.1666
FOCAL_PLANE_TEMPERATURE = 8.7872
INST_CMPRS_NAME = "DISCRETE COSINE TRANSFORMATION (DCT)"
INST_CMPRS_RATIO = 6.62943
INST_CMPRS_QUALITY = 0
INST_CMPRS_QUANTZ_TBL_ID = 0
INSTRUMENT_TEMPERATURE = 12.4574
LENS_TEMPERATURE = 9.6028
MACROPIXEL_SIZE = 2
MISSING_FRAMES = 1
PIXEL_SUBSAMPLING_FLAG = N
SIGNAL_CHAIN_ID = 3
/* RADIOMETRIC DATA ELEMENTS */
BANDWIDTH = 174.0
CENTER_FILTER_WAVELENGTH = 675.0
RADIANCE_OFFSET = 0.911796
RADIANCE_SCALING_FACTOR = 0.021454
REFLECTANCE_SCALING_FACTOR = 0.000690516
MEX:REFLECTANCE_OFFSET = 0.0293469
/* IMAGE OBJECT DEFINITIONS */
OBJECT = IMAGE
  INTERCHANGE_FORMAT = BINARY
  LINES = 26682
  LINE_SAMPLES = 4064
  SAMPLE_TYPE = UNSIGNED_INTEGER
  SAMPLE_BITS = 8
  BANDS = 1
  BAND_STORAGE_TYPE = BAND_SEQUENTIAL
  MAXIMUM = 255
  MEAN = 67.2124
  MINIMUM = 1
  STANDARD_DEVIATION = 23.4915
END_OBJECT = IMAGE
/* MAP OBJECT DEFINITIONS */
OBJECT = IMAGE_MAP_PROJECTION
  ^DATA_SET_MAP_PROJECTION_CATALOG= "DSMAP.CAT"
  A_AXIS_RADIUS = 3396.0
  B_AXIS_RADIUS = 3396.0
  C_AXIS_RADIUS = 3396.0
  CENTER_LATITUDE = 0.0
  CENTER_LONGITUDE = 248.0
  COORDINATE_SYSTEM_NAME = PLANETOGRAPHIC
  COORDINATE_SYSTEM_TYPE = "BODY-FIXED ROTATING"
  EASTERNMOST_LONGITUDE = 249.324
  FIRST_STANDARD_PARALLEL = "N/A"
  LINE_FIRST_PIXEL = 1
  LINE_LAST_PIXEL = 26682
  LINE_PROJECTION_OFFSET = 81308.25
  MAP_PROJECTION_ROTATION = 0.0
  MAP_PROJECTION_TYPE = SINUSOIDAL
  MAP_RESOLUTION = 2370.85521546667
  MAP_SCALE = 0.025
  MAXIMUM_LATITUDE = 34.3274
  MINIMUM_LATITUDE = 23.0631
  POSITIVE_LONGITUDE_DIRECTION = EAST
  REFERENCE_LATITUDE = "N/A"
  REFERENCE_LONGITUDE = "N/A"
  SAMPLE_FIRST_PIXEL = 1
  SAMPLE_LAST_PIXEL = 4064
  SAMPLE_PROJECTION_OFFSET = 1462.75
  SECOND_STANDARD_PARALLEL = "N/A"
  WESTERNMOST_LONGITUDE = 247.257
END_OBJECT = IMAGE_MAP_PROJECTION
/* The JPEG2000 image data file associated with this label. */
OBJECT = COMPRESSED_FILE
  FILE_NAME = "HH703_0000_P13.JP2"
  RECORD_TYPE = UNDEFINED
  FILE_RECORDS = UNK
  ENCODING_TYPE = "JP2"
  INTERCHANGE_FORMAT = BINARY
  UNCOMPRESSED_FILE_NAME = "HH703_0000_P13.IMG"
  REQUIRED_STORAGE_BYTES = "108460032"
  ^DESCRIPTION = "JP2INFO.TXT"
END_OBJECT = COMPRESSED_FILE
END
