PDS_VERSION_ID = PDS3
/* FILE DATA ELEMENTS */
RECORD_TYPE = STREAM
/* POINTERS TO DATA OBJECTS */
^COMPRESSED_FILE = "HH704_0000_ND3.JP2"
/* IDENTIFICATION DATA ELEMENTS */
DATA_SET_ID = "MEX-M-HRSC-5-REFDR-MAPPROJECTED-V3.0"
DATA_SET_NAME = "MARS EXPRESS HRSC MAP PROJECTED REFDR V3.0"
DETECTOR_ID = MEX_HRSC_NADIR
EVENT_TYPE = "MARS-REGIONAL-COLOR-Vo-At-Sh"
INSTRUMENT_HOST_ID = MEX
INSTRUMENT_HOST_NAME = "MARS EXPRESS"
INSTRUMENT_ID = HRSC
INSTRUMENT_NAME = "HIGH RESOLUTION STEREO CAMERA"
MISSION_NAME = "MARS EXPRESS"
MISSION_PHASE_NAME = ME_Phase_37
PROCESSING_LEVEL_ID = 3
PRODUCT_CREATION_TIME = 2018-06-28T23:44:04.000Z
PRODUCT_ID = "HH704_0000_ND3.JP2"
RELEASE_ID = 0139
REVISION_ID = 0000
/* QUALITY DATA ELEMENTS */
DATA_QUALITY_ID = 1
DATA_QUALITY_DESC = "Data calculated based on original SPICE kernels"
/* TIME DATA ELEMENTS */
SPACECRAFT_CLOCK_START_COUNT = "1/0462410838.09051"
SPACECRAFT_CLOCK_STOP_COUNT = "1/0462411047.47928"
START_TIME = 2017-12-26T23:28:09.360Z
STOP_TIME = 2017-12-26T23:30:21.360Z
/* ORBITAL DATA ELEMENTS */
ASCENDING_NODE_LONGITUDE = 241.72
MAXIMUM_RESOLUTION = 14.9
FOOTPRINT_POINT_LATITUDE = (29.2321,29.2319,29.2311,29.229,29.2271 ,29.0552,28.8832,28.7111,28.453,28.285, 28.1169,27.9487,27.7804,27.6119,27.4434 ,27.2747,27.1062,26.7773,26.4479, 26.1182,25.7881,25.4576,25.2922,25.1267 ,24.9612,24.7956,24.6298,24.4641, 24.2982,24.1322,23.9662,23.8001,23.634, 23.4678,23.3014,23.135,22.9685,22.802, 22.6353,22.4685,22.3017,22.1349,21.9679 ,21.8009,21.6338,21.4666,21.2994, 21.1321,20.8705,20.8704,20.8698,20.8689 ,20.868,20.8667,21.0342,21.2017,21.369, 21.5364,21.7036,21.8708,22.0379,22.205, 22.3719,22.5388,22.7056,22.8724,23.039, 23.2056,23.372,23.5384,23.7047,23.8709, 24.037,24.203,24.452,24.6179,24.7838, 24.9497,25.1155,25.2812,25.4469,25.6124 ,25.7778,26.1084,26.4385,26.7682, 27.0976,27.266,27.4349,27.6036,27.7723, 27.9408,28.1092,28.2776,28.4458,28.7039 ,28.8763,29.0485,29.2206,29.2321)
FOOTPRINT_POINT_LONGITUDE = (146.687,146.302,146.035,145.636, 145.374,145.378,145.383,145.388,145.395 ,145.399,145.404,145.408,145.412, 145.416,145.42,145.424,145.428,145.436, 145.443,145.45,145.458,145.464,145.468, 145.471,145.475,145.477,145.48,145.483, 145.485,145.488,145.49,145.492,145.493, 145.495,145.497,145.498,145.5,145.502, 145.504,145.506,145.508,145.51,145.512, 145.514,145.516,145.518,145.519,145.521 ,145.646,145.907,146.237,146.485, 146.665,146.921,146.924,146.926,146.929 ,146.932,146.934,146.937,146.94,146.942 ,146.945,146.947,146.949,146.95,146.952 ,146.953,146.953,146.953,146.953, 146.952,146.952,146.952,146.953,146.955 ,146.96,146.965,146.972,146.978,146.985 ,146.991,146.997,147.007,147.016, 147.025,147.033,147.037,147.04,147.044, 147.048,147.052,147.056,147.06,147.064, 147.07,147.074,147.078,147.083,146.687)
ORBIT_NUMBER = 17704
ORBITAL_ECCENTRICITY = 0.577
ORBITAL_INCLINATION = 86.94
ORBITAL_SEMIMAJOR_AXIS = 8855.72
PERIAPSIS_ALTITUDE = 351.9
PERIAPSIS_ARGUMENT_ANGLE = 169.14
PERIAPSIS_TIME = 2017-12-26T23:32:56.000Z
SPACECRAFT_ORIENTATION = (0.0,-1.0,0.0)
^MEX_ORIENTATION_DESC = "MEX_ORIENTATION_DESC.TXT"
SPACECRAFT_POINTING_MODE = ACROSSTRACK
^MEX_POINTING_DESC = "MEX_POINTING_DESC.TXT"
RIGHT_ASCENSION = -1e+32
DECLINATION = -1e+32
OFFSET_ANGLE = 0.2
SPACECRAFT_SOLAR_DISTANCE = 2.44585e+08
TARGET_NAME = MARS
/* CAMERA DATA ELEMENTS */
DETECTOR_TEMPERATURE = 18.3705
FOCAL_PLANE_TEMPERATURE = 8.3794
INST_CMPRS_NAME = "DISCRETE COSINE TRANSFORMATION (DCT)"
INST_CMPRS_RATIO = 6.60216
INST_CMPRS_QUALITY = 0
INST_CMPRS_QUANTZ_TBL_ID = 0
INSTRUMENT_TEMPERATURE = 11.6418
LENS_TEMPERATURE = 8.5833
MACROPIXEL_SIZE = 1
MISSING_FRAMES = 0
PIXEL_SUBSAMPLING_FLAG = N
SIGNAL_CHAIN_ID = 0
/* RADIOMETRIC DATA ELEMENTS */
BANDWIDTH = 177.0
CENTER_FILTER_WAVELENGTH = 677.5
RADIANCE_OFFSET = 0.923552
RADIANCE_SCALING_FACTOR = 0.00983052
REFLECTANCE_SCALING_FACTOR = 0.000312408
MEX:REFLECTANCE_OFFSET = 0.02935
/* IMAGE OBJECT DEFINITIONS */
OBJECT = IMAGE
  INTERCHANGE_FORMAT = BINARY
  LINES = 39668
  LINE_SAMPLES = 7376
  SAMPLE_TYPE = UNSIGNED_INTEGER
  SAMPLE_BITS = 8
  BANDS = 1
  BAND_STORAGE_TYPE = BAND_SEQUENTIAL
  MAXIMUM = 255
  MEAN = 110.525
  MINIMUM = 1
  STANDARD_DEVIATION = 28.0555
END_OBJECT = IMAGE
/* MAP OBJECT DEFINITIONS */
OBJECT = IMAGE_MAP_PROJECTION
  ^DATA_SET_MAP_PROJECTION_CATALOG= "DSMAP.CAT"
  A_AXIS_RADIUS = 3396.0
  B_AXIS_RADIUS = 3396.0
  C_AXIS_RADIUS = 3396.0
  CENTER_LATITUDE = 0.0
  CENTER_LONGITUDE = 146.0
  COORDINATE_SYSTEM_NAME = PLANETOGRAPHIC
  COORDINATE_SYSTEM_TYPE = "BODY-FIXED ROTATING"
  EASTERNMOST_LONGITUDE = 147.083
  FIRST_STANDARD_PARALLEL = "N/A"
  LINE_FIRST_PIXEL = 1
  LINE_LAST_PIXEL = 39668
  LINE_PROJECTION_OFFSET = 138610.0
  MAP_PROJECTION_ROTATION = 0.0
  MAP_PROJECTION_TYPE = SINUSOIDAL
  MAP_RESOLUTION = 4741.71043093333
  MAP_SCALE = 0.0125
  MAXIMUM_LATITUDE = 29.2321
  MINIMUM_LATITUDE = 20.8667
  POSITIVE_LONGITUDE_DIRECTION = EAST
  REFERENCE_LATITUDE = "N/A"
  REFERENCE_LONGITUDE = "N/A"
  SAMPLE_FIRST_PIXEL = 1
  SAMPLE_LAST_PIXEL = 7376
  SAMPLE_PROJECTION_OFFSET = 2697.0
  SECOND_STANDARD_PARALLEL = "N/A"
  WESTERNMOST_LONGITUDE = 145.374
END_OBJECT = IMAGE_MAP_PROJECTION
/* The JPEG2000 image data file associated with this label. */
OBJECT = COMPRESSED_FILE
  FILE_NAME = "HH704_0000_ND3.JP2"
  RECORD_TYPE = UNDEFINED
  FILE_RECORDS = UNK
  ENCODING_TYPE = "JP2"
  INTERCHANGE_FORMAT = BINARY
  UNCOMPRESSED_FILE_NAME = "HH704_0000_ND3.IMG"
  REQUIRED_STORAGE_BYTES = "292620672"
  ^DESCRIPTION = "JP2INFO.TXT"
END_OBJECT = COMPRESSED_FILE
END
