PDS_VERSION_ID = PDS3
/* FILE DATA ELEMENTS */
RECORD_TYPE = STREAM
/* POINTERS TO DATA OBJECTS */
^COMPRESSED_FILE = "HH707_0000_S13.JP2"
/* IDENTIFICATION DATA ELEMENTS */
DATA_SET_ID = "MEX-M-HRSC-5-REFDR-MAPPROJECTED-V3.0"
DATA_SET_NAME = "MARS EXPRESS HRSC MAP PROJECTED REFDR V3.0"
DETECTOR_ID = MEX_HRSC_S1
EVENT_TYPE = "MARS-REGIONAL-VARIABLE-Pf-Eo-At"
INSTRUMENT_HOST_ID = MEX
INSTRUMENT_HOST_NAME = "MARS EXPRESS"
INSTRUMENT_ID = HRSC
INSTRUMENT_NAME = "HIGH RESOLUTION STEREO CAMERA"
MISSION_NAME = "MARS EXPRESS"
MISSION_PHASE_NAME = ME_Phase_37
PROCESSING_LEVEL_ID = 3
PRODUCT_CREATION_TIME = 2018-06-28T23:44:04.000Z
PRODUCT_ID = "HH707_0000_S13.JP2"
RELEASE_ID = 0139
REVISION_ID = 0000
/* QUALITY DATA ELEMENTS */
DATA_QUALITY_ID = 1
DATA_QUALITY_DESC = "Data calculated based on original SPICE kernels"
/* TIME DATA ELEMENTS */
SPACECRAFT_CLOCK_START_COUNT = "1/0462486208.08242"
SPACECRAFT_CLOCK_STOP_COUNT = "1/0462486470.08485"
START_TIME = 2017-12-27T20:23:37.106Z
STOP_TIME = 2017-12-27T20:26:36.382Z
/* ORBITAL DATA ELEMENTS */
ASCENDING_NODE_LONGITUDE = 241.67
MAXIMUM_RESOLUTION = 38.7
FOOTPRINT_POINT_LATITUDE = (39.8901,39.8883,39.8846,39.8808, 39.8736,39.8649,39.7678,39.5493,39.3332 ,39.1168,38.9015,38.6882,38.4742, 38.1566,37.9453,37.7338,37.5256,37.3169 ,37.0047,36.7989,36.5929,36.3865, 36.1838,35.9804,35.6753,35.475,35.2745, 35.0735,34.8737,34.6761,34.478,34.1809, 33.9862,33.791,33.5957,33.4001,33.2081, 33.0159,32.8234,32.5348,32.3456,32.1563 ,31.9665,31.6817,31.309,31.1222,30.935, 30.7486,30.3817,30.0135,29.8121,29.8175 ,29.8196,29.8198,30.0037,30.3727, 30.7405,31.1144,31.3017,31.4887,31.6752 ,31.865,32.0555,32.2456,32.4353,32.6255 ,32.819,33.012,33.2048,33.3973,33.5929, 33.7887,33.9844,34.1797,34.3778,34.5766 ,34.775,35.0739,35.2756,35.4768,35.6778 ,35.9835,36.1877,36.3912,36.7014, 36.9081,37.1144,37.3242,37.5338,37.7427 ,37.9547,38.1667,38.3785,38.5931, 38.8079,39.022,39.2395,39.5653,39.7842, 39.8901)
FOOTPRINT_POINT_LONGITUDE = (200.068,199.663,199.259,198.981, 198.578,198.199,197.632,197.649,197.665 ,197.681,197.697,197.712,197.727, 197.749,197.763,197.777,197.791,197.804 ,197.824,197.837,197.849,197.862, 197.874,197.886,197.903,197.914,197.925 ,197.936,197.947,197.957,197.968, 197.983,197.992,198.002,198.011,198.021 ,198.03,198.038,198.047,198.06,198.068, 198.076,198.084,198.096,198.111,198.119 ,198.126,198.133,198.147,198.16,198.452 ,198.951,199.344,199.611,200.015, 200.024,200.033,200.042,200.047,200.052 ,200.057,200.061,200.066,200.071, 200.076,200.081,200.087,200.092,200.097 ,200.102,200.108,200.113,200.119, 200.124,200.13,200.136,200.141,200.15, 200.156,200.162,200.168,200.177,200.183 ,200.19,200.199,200.206,200.212,200.219 ,200.225,200.232,200.239,200.246, 200.253,200.26,200.268,200.275,200.282, 200.294,200.301,200.068)
ORBIT_NUMBER = 17707
ORBITAL_ECCENTRICITY = 0.577
ORBITAL_INCLINATION = 86.95
ORBITAL_SEMIMAJOR_AXIS = 8852.77
PERIAPSIS_ALTITUDE = 351.99
PERIAPSIS_ARGUMENT_ANGLE = 168.58
PERIAPSIS_TIME = 2017-12-27T20:32:07.000Z
SPACECRAFT_ORIENTATION = (0.0,-1.0,0.0)
^MEX_ORIENTATION_DESC = "MEX_ORIENTATION_DESC.TXT"
SPACECRAFT_POINTING_MODE = NADIR
^MEX_POINTING_DESC = "MEX_POINTING_DESC.TXT"
RIGHT_ASCENSION = -1e+32
DECLINATION = -1e+32
OFFSET_ANGLE = -1e+32
SPACECRAFT_SOLAR_DISTANCE = 2.44486e+08
TARGET_NAME = MARS
/* CAMERA DATA ELEMENTS */
DETECTOR_TEMPERATURE = 18.5744
FOCAL_PLANE_TEMPERATURE = 9.6028
INST_CMPRS_NAME = "DISCRETE COSINE TRANSFORMATION (DCT)"
INST_CMPRS_RATIO = 7.63803
INST_CMPRS_QUALITY = 0
INST_CMPRS_QUANTZ_TBL_ID = 0
INSTRUMENT_TEMPERATURE = 12.6613
LENS_TEMPERATURE = 9.195
MACROPIXEL_SIZE = 2
MISSING_FRAMES = 0
PIXEL_SUBSAMPLING_FLAG = N
SIGNAL_CHAIN_ID = 1
/* RADIOMETRIC DATA ELEMENTS */
BANDWIDTH = 180.0
CENTER_FILTER_WAVELENGTH = 677.0
RADIANCE_OFFSET = 1.94379
RADIANCE_SCALING_FACTOR = 0.00779793
REFLECTANCE_SCALING_FACTOR = 0.000243182
MEX:REFLECTANCE_OFFSET = 0.0606179
/* IMAGE OBJECT DEFINITIONS */
OBJECT = IMAGE
  INTERCHANGE_FORMAT = BINARY
  LINES = 23711
  LINE_SAMPLES = 4518
  SAMPLE_TYPE = UNSIGNED_INTEGER
  SAMPLE_BITS = 8
  BANDS = 1
  BAND_STORAGE_TYPE = BAND_SEQUENTIAL
  MAXIMUM = 255
  MEAN = 107.651
  MINIMUM = 1
  STANDARD_DEVIATION = 32.8586
END_OBJECT = IMAGE
/* MAP OBJECT DEFINITIONS */
OBJECT = IMAGE_MAP_PROJECTION
  ^DATA_SET_MAP_PROJECTION_CATALOG= "DSMAP.CAT"
  A_AXIS_RADIUS = 3396.0
  B_AXIS_RADIUS = 3396.0
  C_AXIS_RADIUS = 3396.0
  CENTER_LATITUDE = 0.0
  CENTER_LONGITUDE = 199.0
  COORDINATE_SYSTEM_NAME = PLANETOGRAPHIC
  COORDINATE_SYSTEM_TYPE = "BODY-FIXED ROTATING"
  EASTERNMOST_LONGITUDE = 200.301
  FIRST_STANDARD_PARALLEL = "N/A"
  LINE_FIRST_PIXEL = 1
  LINE_LAST_PIXEL = 23711
  LINE_PROJECTION_OFFSET = 94450.75
  MAP_PROJECTION_ROTATION = 0.0
  MAP_PROJECTION_TYPE = SINUSOIDAL
  MAP_RESOLUTION = 2370.85521546667
  MAP_SCALE = 0.025
  MAXIMUM_LATITUDE = 39.8901
  MINIMUM_LATITUDE = 29.8121
  POSITIVE_LONGITUDE_DIRECTION = EAST
  REFERENCE_LATITUDE = "N/A"
  REFERENCE_LONGITUDE = "N/A"
  SAMPLE_FIRST_PIXEL = 1
  SAMPLE_LAST_PIXEL = 4518
  SAMPLE_PROJECTION_OFFSET = 2326.75
  SECOND_STANDARD_PARALLEL = "N/A"
  WESTERNMOST_LONGITUDE = 197.632
END_OBJECT = IMAGE_MAP_PROJECTION
/* The JPEG2000 image data file associated with this label. */
OBJECT = COMPRESSED_FILE
  FILE_NAME = "HH707_0000_S13.JP2"
  RECORD_TYPE = UNDEFINED
  FILE_RECORDS = UNK
  ENCODING_TYPE = "JP2"
  INTERCHANGE_FORMAT = BINARY
  UNCOMPRESSED_FILE_NAME = "HH707_0000_S13.IMG"
  REQUIRED_STORAGE_BYTES = "107153406"
  ^DESCRIPTION = "JP2INFO.TXT"
END_OBJECT = COMPRESSED_FILE
END
