PDS_VERSION_ID = PDS3
/* FILE DATA ELEMENTS */
RECORD_TYPE = STREAM
/* POINTERS TO DATA OBJECTS */
^COMPRESSED_FILE = "HH721_0009_BL3.JP2"
/* IDENTIFICATION DATA ELEMENTS */
DATA_SET_ID = "MEX-M-HRSC-5-REFDR-MAPPROJECTED-V3.0"
DATA_SET_NAME = "MARS EXPRESS HRSC MAP PROJECTED REFDR V3.0"
DETECTOR_ID = MEX_HRSC_BLUE
EVENT_TYPE = "MARS-REGIONAL-VARIABLE-Pf-Eo-At"
INSTRUMENT_HOST_ID = MEX
INSTRUMENT_HOST_NAME = "MARS EXPRESS"
INSTRUMENT_ID = HRSC
INSTRUMENT_NAME = "HIGH RESOLUTION STEREO CAMERA"
MISSION_NAME = "MARS EXPRESS"
MISSION_PHASE_NAME = ME_Phase_37
PROCESSING_LEVEL_ID = 3
PRODUCT_CREATION_TIME = 2018-06-28T23:44:04.000Z
PRODUCT_ID = "HH721_0009_BL3.JP2"
RELEASE_ID = 0139
REVISION_ID = 0000
/* QUALITY DATA ELEMENTS */
DATA_QUALITY_ID = 1
DATA_QUALITY_DESC = "Data calculated based on original SPICE kernels"
/* TIME DATA ELEMENTS */
SPACECRAFT_CLOCK_START_COUNT = "1/0462838817.07352"
SPACECRAFT_CLOCK_STOP_COUNT = "1/0462839085.62167"
START_TIME = 2017-12-31T22:21:29.596Z
STOP_TIME = 2017-12-31T22:24:22.584Z
/* ORBITAL DATA ELEMENTS */
ASCENDING_NODE_LONGITUDE = 241.41
MAXIMUM_RESOLUTION = 66.1
FOOTPRINT_POINT_LATITUDE = (40.6246,40.6217,40.6167,40.6118, 40.6056,40.4907,40.2549,40.0189,39.7834 ,39.5518,39.3199,39.0877,38.8575, 38.6299,38.4019,38.1737,37.836,37.6122, 37.3882,37.0532,36.8337,36.6139,36.394, 36.0649,35.8495,35.6339,35.4181,35.2021 ,34.9883,34.777,34.5656,34.354,34.1421, 33.9311,33.7241,33.5169,33.3096,33.1021 ,32.7909,32.5882,32.3853,32.1822, 31.9791,31.7757,31.4725,31.0755,30.6778 ,30.4788,30.1803,29.8732,29.8756, 29.8774,29.8779,29.8781,30.1705,30.469, 30.6683,30.8675,31.0666,31.2655,31.4643 ,31.7676,31.9713,32.1749,32.3783, 32.5816,32.7847,33.096,33.304,33.5117, 33.7193,33.9267,34.2439,34.4561,34.6681 ,34.8799,35.0914,35.3077,35.6323, 35.8485,36.0644,36.3938,36.6143,36.8346 ,37.0546,37.3901,37.6147,37.8391, 38.0632,38.2918,38.5206,38.7491,38.9773 ,39.2102,39.5592,39.7916,40.1459, 40.3826,40.6189,40.6246)
FOOTPRINT_POINT_LONGITUDE = (207.459,207.096,206.648,206.307, 205.945,205.447,205.463,205.478,205.494 ,205.508,205.523,205.537,205.551, 205.565,205.578,205.591,205.61,205.622, 205.634,205.652,205.664,205.675,205.686 ,205.702,205.712,205.722,205.732, 205.742,205.752,205.761,205.77,205.779, 205.788,205.797,205.805,205.813,205.821 ,205.829,205.841,205.848,205.855, 205.863,205.87,205.877,205.887,205.899, 205.912,205.918,205.927,206.166,206.506 ,206.907,207.154,207.432,207.597, 207.602,207.605,207.608,207.611,207.615 ,207.618,207.623,207.627,207.63,207.634 ,207.637,207.641,207.646,207.65,207.653 ,207.657,207.661,207.666,207.67,207.674 ,207.678,207.681,207.685,207.691, 207.696,207.699,207.706,207.71,207.714, 207.718,207.724,207.729,207.733,207.737 ,207.742,207.746,207.751,207.755,207.76 ,207.767,207.771,207.779,207.783, 207.788,207.459)
ORBIT_NUMBER = 17721
ORBITAL_ECCENTRICITY = 0.577
ORBITAL_INCLINATION = 86.96
ORBITAL_SEMIMAJOR_AXIS = 8852.99
PERIAPSIS_ALTITUDE = 353.29
PERIAPSIS_ARGUMENT_ANGLE = 166.17
PERIAPSIS_TIME = 2017-12-31T22:28:27.000Z
SPACECRAFT_ORIENTATION = (0.0,-1.0,0.0)
^MEX_ORIENTATION_DESC = "MEX_ORIENTATION_DESC.TXT"
SPACECRAFT_POINTING_MODE = NADIR
^MEX_POINTING_DESC = "MEX_POINTING_DESC.TXT"
RIGHT_ASCENSION = -1e+32
DECLINATION = -1e+32
OFFSET_ANGLE = -1e+32
SPACECRAFT_SOLAR_DISTANCE = 2.44008e+08
TARGET_NAME = MARS
/* CAMERA DATA ELEMENTS */
DETECTOR_TEMPERATURE = 18.5744
FOCAL_PLANE_TEMPERATURE = 7.7677
INST_CMPRS_NAME = "DISCRETE COSINE TRANSFORMATION (DCT)"
INST_CMPRS_RATIO = 4.22091
INST_CMPRS_QUALITY = 0
INST_CMPRS_QUANTZ_TBL_ID = 0
INSTRUMENT_TEMPERATURE = 11.4379
LENS_TEMPERATURE = 8.5833
MACROPIXEL_SIZE = 4
MISSING_FRAMES = 0
PIXEL_SUBSAMPLING_FLAG = N
SIGNAL_CHAIN_ID = 2
/* RADIOMETRIC DATA ELEMENTS */
BANDWIDTH = 76.0
CENTER_FILTER_WAVELENGTH = 444.0
RADIANCE_OFFSET = 0.317054
RADIANCE_SCALING_FACTOR = 0.0016578
REFLECTANCE_SCALING_FACTOR = 0.000101415
MEX:REFLECTANCE_OFFSET = 0.0193956
/* IMAGE OBJECT DEFINITIONS */
OBJECT = IMAGE
  INTERCHANGE_FORMAT = BINARY
  LINES = 12770
  LINE_SAMPLES = 2194
  SAMPLE_TYPE = UNSIGNED_INTEGER
  SAMPLE_BITS = 8
  BANDS = 1
  BAND_STORAGE_TYPE = BAND_SEQUENTIAL
  MAXIMUM = 255
  MEAN = 98.3155
  MINIMUM = 1
  STANDARD_DEVIATION = 54.976
END_OBJECT = IMAGE
/* MAP OBJECT DEFINITIONS */
OBJECT = IMAGE_MAP_PROJECTION
  ^DATA_SET_MAP_PROJECTION_CATALOG= "DSMAP.CAT"
  A_AXIS_RADIUS = 3396.0
  B_AXIS_RADIUS = 3396.0
  C_AXIS_RADIUS = 3396.0
  CENTER_LATITUDE = 0.0
  CENTER_LONGITUDE = 207.0
  COORDINATE_SYSTEM_NAME = PLANETOGRAPHIC
  COORDINATE_SYSTEM_TYPE = "BODY-FIXED ROTATING"
  EASTERNMOST_LONGITUDE = 207.788
  FIRST_STANDARD_PARALLEL = "N/A"
  LINE_FIRST_PIXEL = 1
  LINE_LAST_PIXEL = 12770
  LINE_PROJECTION_OFFSET = 48169.625
  MAP_PROJECTION_ROTATION = 0.0
  MAP_PROJECTION_TYPE = SINUSOIDAL
  MAP_RESOLUTION = 1185.42760773333
  MAP_SCALE = 0.05
  MAXIMUM_LATITUDE = 40.6246
  MINIMUM_LATITUDE = 29.8732
  POSITIVE_LONGITUDE_DIRECTION = EAST
  REFERENCE_LATITUDE = "N/A"
  REFERENCE_LONGITUDE = "N/A"
  SAMPLE_FIRST_PIXEL = 1
  SAMPLE_LAST_PIXEL = 2194
  SAMPLE_PROJECTION_OFFSET = 1449.875
  SECOND_STANDARD_PARALLEL = "N/A"
  WESTERNMOST_LONGITUDE = 205.447
END_OBJECT = IMAGE_MAP_PROJECTION
/* The JPEG2000 image data file associated with this label. */
OBJECT = COMPRESSED_FILE
  FILE_NAME = "HH721_0009_BL3.JP2"
  RECORD_TYPE = UNDEFINED
  FILE_RECORDS = UNK
  ENCODING_TYPE = "JP2"
  INTERCHANGE_FORMAT = BINARY
  UNCOMPRESSED_FILE_NAME = "HH721_0009_BL3.IMG"
  REQUIRED_STORAGE_BYTES = "28039320"
  ^DESCRIPTION = "JP2INFO.TXT"
END_OBJECT = COMPRESSED_FILE
END
