PDS_VERSION_ID = PDS3
/* FILE DATA ELEMENTS */
RECORD_TYPE = STREAM
/* POINTERS TO DATA OBJECTS */
^COMPRESSED_FILE = "HH721_0009_IR3.JP2"
/* IDENTIFICATION DATA ELEMENTS */
DATA_SET_ID = "MEX-M-HRSC-5-REFDR-MAPPROJECTED-V3.0"
DATA_SET_NAME = "MARS EXPRESS HRSC MAP PROJECTED REFDR V3.0"
DETECTOR_ID = MEX_HRSC_IR
EVENT_TYPE = "MARS-REGIONAL-VARIABLE-Pf-Eo-At"
INSTRUMENT_HOST_ID = MEX
INSTRUMENT_HOST_NAME = "MARS EXPRESS"
INSTRUMENT_ID = HRSC
INSTRUMENT_NAME = "HIGH RESOLUTION STEREO CAMERA"
MISSION_NAME = "MARS EXPRESS"
MISSION_PHASE_NAME = ME_Phase_37
PROCESSING_LEVEL_ID = 3
PRODUCT_CREATION_TIME = 2018-06-28T23:44:04.000Z
PRODUCT_ID = "HH721_0009_IR3.JP2"
RELEASE_ID = 0139
REVISION_ID = 0000
/* QUALITY DATA ELEMENTS */
DATA_QUALITY_ID = 1
DATA_QUALITY_DESC = "Data calculated based on original SPICE kernels"
/* TIME DATA ELEMENTS */
SPACECRAFT_CLOCK_START_COUNT = "1/0462838817.07352"
SPACECRAFT_CLOCK_STOP_COUNT = "1/0462839085.62167"
START_TIME = 2017-12-31T22:20:36.405Z
STOP_TIME = 2017-12-31T22:23:43.219Z
/* ORBITAL DATA ELEMENTS */
ASCENDING_NODE_LONGITUDE = 241.41
MAXIMUM_RESOLUTION = 72
FOOTPRINT_POINT_LATITUDE = (40.6886,40.6871,40.6821,40.6752, 40.6677,40.6562,40.4624,40.2282,39.9936 ,39.7596,39.5283,39.2965,39.0655, 38.8373,38.6085,38.3799,38.155,37.9294, 37.5921,37.3702,37.148,36.8153,36.5965, 36.3775,36.049,35.8335,35.6179,35.4018, 35.1865,34.9744,34.7619,34.5491,34.3363 ,34.1276,33.9185,33.6043,33.3948, 33.1895,32.9838,32.7779,32.5715,32.3668 ,32.0635,31.8611,31.6583,31.3543, 30.9567,30.5582,30.2591,29.8477,29.8512 ,29.8539,29.8562,29.8578,29.8576, 30.0541,30.4488,30.6487,30.8484,31.0478 ,31.3465,31.6507,31.854,32.0569,32.2596 ,32.5655,32.7723,32.9787,33.1847, 33.3904,33.7053,33.9153,34.1249,34.3339 ,34.547,34.7603,34.9736,35.1867,35.5102 ,35.7268,35.9429,36.2699,36.49,36.7096, 37.0409,37.2643,37.4872,37.7098,37.9365 ,38.1629,38.3886,38.6175,38.8471, 39.0761,39.4241,39.6565,40.0068,40.2426 ,40.4778,40.6886)
FOOTPRINT_POINT_LONGITUDE = (207.858,207.463,206.93,206.467,206.097 ,205.633,205.353,205.37,205.388,205.404 ,205.421,205.437,205.453,205.468, 205.483,205.498,205.512,205.526,205.547 ,205.56,205.573,205.592,205.605,205.617 ,205.635,205.646,205.657,205.668, 205.679,205.69,205.7,205.71,205.72, 205.73,205.74,205.754,205.763,205.771, 205.78,205.789,205.797,205.805,205.817, 205.825,205.832,205.844,205.858,205.871 ,205.881,205.958,206.218,206.461, 206.753,207.223,207.547,207.637,207.645 ,207.649,207.653,207.657,207.663,207.67 ,207.674,207.678,207.683,207.689, 207.694,207.698,207.703,207.708,207.715 ,207.719,207.724,207.729,207.734, 207.739,207.744,207.749,207.756,207.762 ,207.767,207.775,207.78,207.786,207.794 ,207.8,207.805,207.811,207.817,207.823, 207.829,207.835,207.841,207.847,207.856 ,207.863,207.873,207.879,207.886, 207.858)
ORBIT_NUMBER = 17721
ORBITAL_ECCENTRICITY = 0.577
ORBITAL_INCLINATION = 86.96
ORBITAL_SEMIMAJOR_AXIS = 8852.99
PERIAPSIS_ALTITUDE = 353.29
PERIAPSIS_ARGUMENT_ANGLE = 166.17
PERIAPSIS_TIME = 2017-12-31T22:28:27.000Z
SPACECRAFT_ORIENTATION = (0.0,-1.0,0.0)
^MEX_ORIENTATION_DESC = "MEX_ORIENTATION_DESC.TXT"
SPACECRAFT_POINTING_MODE = NADIR
^MEX_POINTING_DESC = "MEX_POINTING_DESC.TXT"
RIGHT_ASCENSION = -1e+32
DECLINATION = -1e+32
OFFSET_ANGLE = -1e+32
SPACECRAFT_SOLAR_DISTANCE = 2.44008e+08
TARGET_NAME = MARS
/* CAMERA DATA ELEMENTS */
DETECTOR_TEMPERATURE = 17.7588
FOCAL_PLANE_TEMPERATURE = 7.7677
INST_CMPRS_NAME = "DISCRETE COSINE TRANSFORMATION (DCT)"
INST_CMPRS_RATIO = 6.49551
INST_CMPRS_QUALITY = 0
INST_CMPRS_QUANTZ_TBL_ID = 0
INSTRUMENT_TEMPERATURE = 11.4379
LENS_TEMPERATURE = 8.5833
MACROPIXEL_SIZE = 4
MISSING_FRAMES = 0
PIXEL_SUBSAMPLING_FLAG = N
SIGNAL_CHAIN_ID = 2
/* RADIOMETRIC DATA ELEMENTS */
BANDWIDTH = 81.0
CENTER_FILTER_WAVELENGTH = 955.5
RADIANCE_OFFSET = 0.557353
RADIANCE_SCALING_FACTOR = 0.00271998
REFLECTANCE_SCALING_FACTOR = 0.000349385
MEX:REFLECTANCE_OFFSET = 0.0715928
/* IMAGE OBJECT DEFINITIONS */
OBJECT = IMAGE
  INTERCHANGE_FORMAT = BINARY
  LINES = 12770
  LINE_SAMPLES = 2194
  SAMPLE_TYPE = UNSIGNED_INTEGER
  SAMPLE_BITS = 8
  BANDS = 1
  BAND_STORAGE_TYPE = BAND_SEQUENTIAL
  MAXIMUM = 255
  MEAN = 102.504
  MINIMUM = 1
  STANDARD_DEVIATION = 24.1383
END_OBJECT = IMAGE
/* MAP OBJECT DEFINITIONS */
OBJECT = IMAGE_MAP_PROJECTION
  ^DATA_SET_MAP_PROJECTION_CATALOG= "DSMAP.CAT"
  A_AXIS_RADIUS = 3396.0
  B_AXIS_RADIUS = 3396.0
  C_AXIS_RADIUS = 3396.0
  CENTER_LATITUDE = 0.0
  CENTER_LONGITUDE = 207.0
  COORDINATE_SYSTEM_NAME = PLANETOGRAPHIC
  COORDINATE_SYSTEM_TYPE = "BODY-FIXED ROTATING"
  EASTERNMOST_LONGITUDE = 207.886
  FIRST_STANDARD_PARALLEL = "N/A"
  LINE_FIRST_PIXEL = 1
  LINE_LAST_PIXEL = 12770
  LINE_PROJECTION_OFFSET = 48169.625
  MAP_PROJECTION_ROTATION = 0.0
  MAP_PROJECTION_TYPE = SINUSOIDAL
  MAP_RESOLUTION = 1185.42760773333
  MAP_SCALE = 0.05
  MAXIMUM_LATITUDE = 40.6886
  MINIMUM_LATITUDE = 29.8477
  POSITIVE_LONGITUDE_DIRECTION = EAST
  REFERENCE_LATITUDE = "N/A"
  REFERENCE_LONGITUDE = "N/A"
  SAMPLE_FIRST_PIXEL = 1
  SAMPLE_LAST_PIXEL = 2194
  SAMPLE_PROJECTION_OFFSET = 1449.875
  SECOND_STANDARD_PARALLEL = "N/A"
  WESTERNMOST_LONGITUDE = 205.353
END_OBJECT = IMAGE_MAP_PROJECTION
/* The JPEG2000 image data file associated with this label. */
OBJECT = COMPRESSED_FILE
  FILE_NAME = "HH721_0009_IR3.JP2"
  RECORD_TYPE = UNDEFINED
  FILE_RECORDS = UNK
  ENCODING_TYPE = "JP2"
  INTERCHANGE_FORMAT = BINARY
  UNCOMPRESSED_FILE_NAME = "HH721_0009_IR3.IMG"
  REQUIRED_STORAGE_BYTES = "28039320"
  ^DESCRIPTION = "JP2INFO.TXT"
END_OBJECT = COMPRESSED_FILE
END
