PDS_VERSION_ID = PDS3
/* FILE DATA ELEMENTS */
RECORD_TYPE = STREAM
/* POINTERS TO DATA OBJECTS */
^COMPRESSED_FILE = "HH734_0000_S23.JP2"
/* IDENTIFICATION DATA ELEMENTS */
DATA_SET_ID = "MEX-M-HRSC-5-REFDR-MAPPROJECTED-V3.0"
DATA_SET_NAME = "MARS EXPRESS HRSC MAP PROJECTED REFDR V3.0"
DETECTOR_ID = MEX_HRSC_S2
EVENT_TYPE = "MARS-REGIONAL-MAPPING-Vo-Te-Fl"
INSTRUMENT_HOST_ID = MEX
INSTRUMENT_HOST_NAME = "MARS EXPRESS"
INSTRUMENT_ID = HRSC
INSTRUMENT_NAME = "HIGH RESOLUTION STEREO CAMERA"
MISSION_NAME = "MARS EXPRESS"
MISSION_PHASE_NAME = ME_Phase_38
PROCESSING_LEVEL_ID = 3
PRODUCT_CREATION_TIME = 2018-09-04T13:05:27.000Z
PRODUCT_ID = "HH734_0000_S23.JP2"
RELEASE_ID = 0140
REVISION_ID = 0000
/* QUALITY DATA ELEMENTS */
DATA_QUALITY_ID = 1
DATA_QUALITY_DESC = "Data calculated based on original SPICE kernels"
/* TIME DATA ELEMENTS */
SPACECRAFT_CLOCK_START_COUNT = "1/0463166533.07331"
SPACECRAFT_CLOCK_STOP_COUNT = "1/0463166695.06896"
START_TIME = 2018-01-04T17:23:28.868Z
STOP_TIME = 2018-01-04T17:25:02.141Z
/* ORBITAL DATA ELEMENTS */
ASCENDING_NODE_LONGITUDE = 241.17
MAXIMUM_RESOLUTION = 30.6
FOOTPRINT_POINT_LATITUDE = (22.7905,22.7909,22.7912,22.7916, 22.7919,22.7924,22.7929,22.7787,22.6568 ,22.5348,22.4129,22.2301,22.1082, 21.9254,21.8036,21.6818,21.5601,21.4382 ,21.3166,21.1341,21.0124,20.8909, 20.7085,20.5869,20.4655,20.2833,20.1617 ,20.0403,19.8583,19.7369,19.6156, 19.4943,19.3731,19.1913,19.0096,18.8883 ,18.7672,18.6459,18.408,18.2286,18.0442 ,17.9213,17.7387,17.6179,17.4369,17.256 ,17.0147,16.7733,16.7717,16.7706, 16.7687,16.768,16.7681,16.7672,16.9479, 17.1873,17.3091,17.4301,17.6116,17.7327 ,17.8536,17.9744,18.0954,18.2163, 18.3373,18.4583,18.5794,18.7004,18.8215 ,18.9426,19.0637,19.1852,19.3064,19.428 ,19.5494,19.6708,19.7921,19.9135, 20.0348,20.1562,20.2778,20.3993,20.521, 20.6426,20.7642,20.886,21.0076,21.1295, 21.3122,21.4339,21.5558,21.6776,21.7996 ,21.9824,22.1043,22.2263,22.3483, 22.5312,22.6534,22.7905)
FOOTPRINT_POINT_LONGITUDE = (317.529,317.357,317.225,317.014, 316.855,316.644,316.432,316.148,316.15, 316.151,316.151,316.153,316.154,316.155 ,316.156,316.157,316.158,316.158, 316.159,316.16,316.161,316.161,316.162, 316.163,316.163,316.164,316.164,316.165 ,316.165,316.166,316.166,316.167, 316.167,316.167,316.168,316.168,316.168 ,316.168,316.167,316.167,316.168, 316.168,316.169,316.169,316.168,316.168 ,316.168,316.168,316.346,316.551,316.82 ,317.037,317.191,317.434,317.492, 317.493,317.494,317.495,317.497,317.498 ,317.499,317.5,317.501,317.502,317.503, 317.504,317.505,317.506,317.507,317.508 ,317.509,317.51,317.511,317.512,317.513 ,317.515,317.516,317.517,317.518, 317.519,317.52,317.521,317.522,317.523, 317.524,317.526,317.527,317.528,317.53, 317.531,317.532,317.533,317.534,317.536 ,317.537,317.538,317.54,317.541,317.543 ,317.529)
ORBIT_NUMBER = 17734
ORBITAL_ECCENTRICITY = 0.576
ORBITAL_INCLINATION = 86.97
ORBITAL_SEMIMAJOR_AXIS = 8847.81
PERIAPSIS_ALTITUDE = 354.66
PERIAPSIS_ARGUMENT_ANGLE = 163.93
PERIAPSIS_TIME = 2018-01-04T17:24:41.000Z
SPACECRAFT_ORIENTATION = (0.0,-1.0,0.0)
^MEX_ORIENTATION_DESC = "MEX_ORIENTATION_DESC.TXT"
SPACECRAFT_POINTING_MODE = NADIR
^MEX_POINTING_DESC = "MEX_POINTING_DESC.TXT"
RIGHT_ASCENSION = -1e+32
DECLINATION = -1e+32
OFFSET_ANGLE = -1e+32
SPACECRAFT_SOLAR_DISTANCE = 2.43547e+08
TARGET_NAME = MARS
/* CAMERA DATA ELEMENTS */
DETECTOR_TEMPERATURE = 19.1861
FOCAL_PLANE_TEMPERATURE = 8.7872
INST_CMPRS_NAME = "DISCRETE COSINE TRANSFORMATION (DCT)"
INST_CMPRS_RATIO = 12.4039
INST_CMPRS_QUALITY = 0
INST_CMPRS_QUANTZ_TBL_ID = 0
INSTRUMENT_TEMPERATURE = 12.0496
LENS_TEMPERATURE = 9.195
MACROPIXEL_SIZE = 2
MISSING_FRAMES = 0
PIXEL_SUBSAMPLING_FLAG = N
SIGNAL_CHAIN_ID = 1
/* RADIOMETRIC DATA ELEMENTS */
BANDWIDTH = 178.0
CENTER_FILTER_WAVELENGTH = 679.0
RADIANCE_OFFSET = 1.2297
RADIANCE_SCALING_FACTOR = 0.00696563
REFLECTANCE_SCALING_FACTOR = 0.000218804
MEX:REFLECTANCE_OFFSET = 0.0386273
/* IMAGE OBJECT DEFINITIONS */
OBJECT = IMAGE
  INTERCHANGE_FORMAT = BINARY
  LINES = 14414
  LINE_SAMPLES = 3216
  SAMPLE_TYPE = UNSIGNED_INTEGER
  SAMPLE_BITS = 8
  BANDS = 1
  BAND_STORAGE_TYPE = BAND_SEQUENTIAL
  MAXIMUM = 255
  MEAN = 86.192
  MINIMUM = 1
  STANDARD_DEVIATION = 18.94
END_OBJECT = IMAGE
/* MAP OBJECT DEFINITIONS */
OBJECT = IMAGE_MAP_PROJECTION
  ^DATA_SET_MAP_PROJECTION_CATALOG= "DSMAP.CAT"
  A_AXIS_RADIUS = 3396.0
  B_AXIS_RADIUS = 3396.0
  C_AXIS_RADIUS = 3396.0
  CENTER_LATITUDE = 0.0
  CENTER_LONGITUDE = 317.0
  COORDINATE_SYSTEM_NAME = PLANETOGRAPHIC
  COORDINATE_SYSTEM_TYPE = "BODY-FIXED ROTATING"
  EASTERNMOST_LONGITUDE = 317.543
  FIRST_STANDARD_PARALLEL = "N/A"
  LINE_FIRST_PIXEL = 1
  LINE_LAST_PIXEL = 14414
  LINE_PROJECTION_OFFSET = 54113.75
  MAP_PROJECTION_ROTATION = 0.0
  MAP_PROJECTION_TYPE = SINUSOIDAL
  MAP_RESOLUTION = 2370.85521546667
  MAP_SCALE = 0.025
  MAXIMUM_LATITUDE = 22.7929
  MINIMUM_LATITUDE = 16.7672
  POSITIVE_LONGITUDE_DIRECTION = EAST
  REFERENCE_LATITUDE = "N/A"
  REFERENCE_LONGITUDE = "N/A"
  SAMPLE_FIRST_PIXEL = 1
  SAMPLE_LAST_PIXEL = 3216
  SAMPLE_PROJECTION_OFFSET = 1953.25
  SECOND_STANDARD_PARALLEL = "N/A"
  WESTERNMOST_LONGITUDE = 316.148
END_OBJECT = IMAGE_MAP_PROJECTION
/* The JPEG2000 image data file associated with this label. */
OBJECT = COMPRESSED_FILE
  FILE_NAME = "HH734_0000_S23.JP2"
  RECORD_TYPE = UNDEFINED
  FILE_RECORDS = UNK
  ENCODING_TYPE = "JP2"
  INTERCHANGE_FORMAT = BINARY
  UNCOMPRESSED_FILE_NAME = "HH734_0000_S23.IMG"
  REQUIRED_STORAGE_BYTES = "46377936"
  ^DESCRIPTION = "JP2INFO.TXT"
END_OBJECT = COMPRESSED_FILE
END
