PDS_VERSION_ID = PDS3
/* FILE DATA ELEMENTS */
RECORD_TYPE = STREAM
/* POINTERS TO DATA OBJECTS */
^COMPRESSED_FILE = "HH737_0000_S23.JP2"
/* IDENTIFICATION DATA ELEMENTS */
DATA_SET_ID = "MEX-M-HRSC-5-REFDR-MAPPROJECTED-V3.0"
DATA_SET_NAME = "MARS EXPRESS HRSC MAP PROJECTED REFDR V3.0"
DETECTOR_ID = MEX_HRSC_S2
EVENT_TYPE = "MARS-REGIONAL-MAPPING-Te-Im-Gl"
INSTRUMENT_HOST_ID = MEX
INSTRUMENT_HOST_NAME = "MARS EXPRESS"
INSTRUMENT_ID = HRSC
INSTRUMENT_NAME = "HIGH RESOLUTION STEREO CAMERA"
MISSION_NAME = "MARS EXPRESS"
MISSION_PHASE_NAME = ME_Phase_38
PROCESSING_LEVEL_ID = 3
PRODUCT_CREATION_TIME = 2018-09-04T13:05:27.000Z
PRODUCT_ID = "HH737_0000_S23.JP2"
RELEASE_ID = 0140
REVISION_ID = 0000
/* QUALITY DATA ELEMENTS */
DATA_QUALITY_ID = 1
DATA_QUALITY_DESC = "Data calculated based on original SPICE kernels"
/* TIME DATA ELEMENTS */
SPACECRAFT_CLOCK_START_COUNT = "1/0463241984.00111"
SPACECRAFT_CLOCK_STOP_COUNT = "1/0463242217.52539"
START_TIME = 2018-01-05T14:21:05.362Z
STOP_TIME = 2018-01-05T14:23:04.538Z
/* ORBITAL DATA ELEMENTS */
ASCENDING_NODE_LONGITUDE = 241.12
MAXIMUM_RESOLUTION = 30.7
FOOTPRINT_POINT_LATITUDE = (29.0872,29.0869,29.0864,29.0859, 29.0852,29.0845,29.0361,28.8603,28.6885 ,28.5129,28.3366,28.1613,27.9853,27.809 ,27.6323,27.456,27.2791,27.0147,26.8359 ,26.6594,26.4973,26.3496,26.0575, 25.9104,25.763,25.6153,25.4674,25.3204, 25.099,24.9513,24.7305,24.5836,24.3622, 24.2141,24.0673,23.9202,23.7001,23.4803 ,23.2601,23.1131,22.9663,22.819,22.6725 ,22.5253,22.3784,22.231,22.0843,21.9383 ,21.7919,21.6453,21.4985,21.321,21.3193 ,21.3186,21.3193,21.3182,21.3957, 21.6863,21.8325,21.979,22.126,22.347, 22.5673,22.7871,22.934,23.0806,23.2278, 23.3752,23.6676,23.8862,24.1051,24.253, 24.4022,24.5487,24.6978,24.8515,25.0019 ,25.1501,25.372,25.5201,25.667,25.8855, 26.0319,26.3206,26.4689,26.6265,26.803, 26.9741,27.1506,27.3269,27.505,27.6831, 27.8598,28.0377,28.213,28.3886,28.5644, 28.8285,29.0062,29.0872)
FOOTPRINT_POINT_LONGITUDE = (10.5434,10.3529,10.1185,9.94266,9.7085 ,9.47419,9.16341,9.16718,9.16945, 9.17301,9.17672,9.18,9.18348,9.18696, 9.19054,9.19391,9.19739,9.20218,9.20616 ,9.20928,9.21258,9.21502,9.21868, 9.22083,9.22299,9.22525,9.22752,9.22943 ,9.23255,9.23461,9.23738,9.23908, 9.24191,9.24392,9.24544,9.24702,9.24917 ,9.25116,9.25319,9.25457,9.25585, 9.25724,9.25838,9.25969,9.26087,9.26218 ,9.26322,9.26404,9.26494,9.26587, 9.26685,9.41263,9.66311,9.87352,10.1896 ,10.4002,10.6309,10.6325,10.6336, 10.6348,10.6362,10.6383,10.6403,10.642, 10.6433,10.6445,10.6459,10.6474,10.6494 ,10.6508,10.6522,10.6538,10.6558, 10.6569,10.6589,10.6624,10.6648,10.6665 ,10.6689,10.6705,10.6718,10.673,10.6741 ,10.6748,10.6765,10.6791,10.681,10.681, 10.6829,10.6847,10.6871,10.6895,10.6915 ,10.6938,10.6953,10.6969,10.6985, 10.7011,10.7034,10.5434)
ORBIT_NUMBER = 17737
ORBITAL_ECCENTRICITY = 0.576
ORBITAL_INCLINATION = 86.95
ORBITAL_SEMIMAJOR_AXIS = 8851.83
PERIAPSIS_ALTITUDE = 355.05
PERIAPSIS_ARGUMENT_ANGLE = 163.39
PERIAPSIS_TIME = 2018-01-05T14:23:45.000Z
SPACECRAFT_ORIENTATION = (0.0,-1.0,0.0)
^MEX_ORIENTATION_DESC = "MEX_ORIENTATION_DESC.TXT"
SPACECRAFT_POINTING_MODE = ACROSSTRACK
^MEX_POINTING_DESC = "MEX_POINTING_DESC.TXT"
RIGHT_ASCENSION = -1e+32
DECLINATION = -1e+32
OFFSET_ANGLE = -0.458
SPACECRAFT_SOLAR_DISTANCE = 2.43438e+08
TARGET_NAME = MARS
/* CAMERA DATA ELEMENTS */
DETECTOR_TEMPERATURE = 0.0
FOCAL_PLANE_TEMPERATURE = 0.0
INST_CMPRS_NAME = "DISCRETE COSINE TRANSFORMATION (DCT)"
INST_CMPRS_RATIO = 8.6517
INST_CMPRS_QUALITY = 0
INST_CMPRS_QUANTZ_TBL_ID = 0
INSTRUMENT_TEMPERATURE = 0.0
LENS_TEMPERATURE = 0.0
MACROPIXEL_SIZE = 2
MISSING_FRAMES = 0
PIXEL_SUBSAMPLING_FLAG = N
SIGNAL_CHAIN_ID = 1
/* RADIOMETRIC DATA ELEMENTS */
BANDWIDTH = 178.0
CENTER_FILTER_WAVELENGTH = 679.0
RADIANCE_OFFSET = 1.68874
RADIANCE_SCALING_FACTOR = 0.0138062
REFLECTANCE_SCALING_FACTOR = 0.000433294
MEX:REFLECTANCE_OFFSET = 0.0529993
/* IMAGE OBJECT DEFINITIONS */
OBJECT = IMAGE
  INTERCHANGE_FORMAT = BINARY
  LINES = 23587
  LINE_SAMPLES = 3384
  SAMPLE_TYPE = UNSIGNED_INTEGER
  SAMPLE_BITS = 8
  BANDS = 1
  BAND_STORAGE_TYPE = BAND_SEQUENTIAL
  MAXIMUM = 255
  MEAN = 104.227
  MINIMUM = 1
  STANDARD_DEVIATION = 24.3589
END_OBJECT = IMAGE
/* MAP OBJECT DEFINITIONS */
OBJECT = IMAGE_MAP_PROJECTION
  ^DATA_SET_MAP_PROJECTION_CATALOG= "DSMAP.CAT"
  A_AXIS_RADIUS = 3396.0
  B_AXIS_RADIUS = 3396.0
  C_AXIS_RADIUS = 3396.0
  CENTER_LATITUDE = 0.0
  CENTER_LONGITUDE = 10.0
  COORDINATE_SYSTEM_NAME = PLANETOGRAPHIC
  COORDINATE_SYSTEM_TYPE = "BODY-FIXED ROTATING"
  EASTERNMOST_LONGITUDE = 10.7034
  FIRST_STANDARD_PARALLEL = "N/A"
  LINE_FIRST_PIXEL = 1
  LINE_LAST_PIXEL = 23587
  LINE_PROJECTION_OFFSET = 69039.25
  MAP_PROJECTION_ROTATION = 0.0
  MAP_PROJECTION_TYPE = SINUSOIDAL
  MAP_RESOLUTION = 2370.85521546667
  MAP_SCALE = 0.025
  MAXIMUM_LATITUDE = 29.0872
  MINIMUM_LATITUDE = 21.3182
  POSITIVE_LONGITUDE_DIRECTION = EAST
  REFERENCE_LATITUDE = "N/A"
  REFERENCE_LONGITUDE = "N/A"
  SAMPLE_FIRST_PIXEL = 1
  SAMPLE_LAST_PIXEL = 3384
  SAMPLE_PROJECTION_OFFSET = 1831.75
  SECOND_STANDARD_PARALLEL = "N/A"
  WESTERNMOST_LONGITUDE = 9.163410000000001
END_OBJECT = IMAGE_MAP_PROJECTION
/* The JPEG2000 image data file associated with this label. */
OBJECT = COMPRESSED_FILE
  FILE_NAME = "HH737_0000_S23.JP2"
  RECORD_TYPE = UNDEFINED
  FILE_RECORDS = UNK
  ENCODING_TYPE = "JP2"
  INTERCHANGE_FORMAT = BINARY
  UNCOMPRESSED_FILE_NAME = "HH737_0000_S23.IMG"
  REQUIRED_STORAGE_BYTES = "79842096"
  ^DESCRIPTION = "JP2INFO.TXT"
END_OBJECT = COMPRESSED_FILE
END
