PDS_VERSION_ID = PDS3
/* FILE DATA ELEMENTS */
RECORD_TYPE = STREAM
/* POINTERS TO DATA OBJECTS */
^COMPRESSED_FILE = "HH756_0000_ND3.JP2"
/* IDENTIFICATION DATA ELEMENTS */
DATA_SET_ID = "MEX-M-HRSC-5-REFDR-MAPPROJECTED-V3.0"
DATA_SET_NAME = "MARS EXPRESS HRSC MAP PROJECTED REFDR V3.0"
DETECTOR_ID = MEX_HRSC_NADIR
EVENT_TYPE = "MARS-LOCAL-STEREO-Vo-Te-Mw"
INSTRUMENT_HOST_ID = MEX
INSTRUMENT_HOST_NAME = "MARS EXPRESS"
INSTRUMENT_ID = HRSC
INSTRUMENT_NAME = "HIGH RESOLUTION STEREO CAMERA"
MISSION_NAME = "MARS EXPRESS"
MISSION_PHASE_NAME = ME_Phase_38
PROCESSING_LEVEL_ID = 3
PRODUCT_CREATION_TIME = 2018-09-04T13:05:27.000Z
PRODUCT_ID = "HH756_0000_ND3.JP2"
RELEASE_ID = 0140
REVISION_ID = 0000
/* QUALITY DATA ELEMENTS */
DATA_QUALITY_ID = 1
DATA_QUALITY_DESC = "Data calculated based on original SPICE kernels"
/* TIME DATA ELEMENTS */
SPACECRAFT_CLOCK_START_COUNT = "1/0463720389.07340"
SPACECRAFT_CLOCK_STOP_COUNT = "1/0463720554.16848"
START_TIME = 2018-01-11T03:13:58.424Z
STOP_TIME = 2018-01-11T03:15:27.405Z
/* ORBITAL DATA ELEMENTS */
ASCENDING_NODE_LONGITUDE = 240.77
MAXIMUM_RESOLUTION = 15.2
FOOTPRINT_POINT_LATITUDE = (35.516,35.5135,35.5111,35.5074,35.5048 ,35.5023,35.4997,35.3263,35.1027, 34.8789,34.655,34.4309,34.2066,33.9821, 33.7574,33.5326,33.4202,33.3077,33.1951 ,33.0826,32.9699,32.8573,32.7446, 32.6319,32.5191,32.4063,32.2934,32.1806 ,32.0676,31.9547,31.8417,31.7287, 31.6156,31.5025,31.3894,31.2762,31.163, 31.0498,30.9365,30.8232,30.7099,30.5965 ,30.4831,30.3697,30.2562,30.1427, 30.0292,29.8589,29.8542,29.8555,29.857, 29.8589,29.8595,29.8603,29.8606,29.861, 29.9748,30.0885,30.2022,30.3158,30.4294 ,30.5998,30.7133,30.8268,30.9403, 31.1105,31.2239,31.3373,31.4506,31.6206 ,31.7338,31.847,31.9602,32.0734,32.1865 ,32.2996,32.4126,32.5256,32.6386, 32.7515,32.8644,32.9773,33.0901,33.2029 ,33.3157,33.4284,33.541,33.6537,33.7663 ,33.8788,33.9913,34.1038,34.2162,34.441 ,34.6655,34.89,35.1142,35.3383,35.5105, 35.516)
FOOTPRINT_POINT_LONGITUDE = (226.873,226.479,226.222,225.896, 225.708,225.536,225.382,225.294,225.303 ,225.312,225.32,225.329,225.337,225.345 ,225.353,225.361,225.365,225.369, 225.373,225.377,225.38,225.384,225.388, 225.392,225.395,225.399,225.402,225.406 ,225.409,225.413,225.416,225.42,225.423 ,225.426,225.429,225.432,225.436, 225.441,225.443,225.446,225.45,225.452, 225.455,225.458,225.461,225.464,225.467 ,225.471,225.653,225.789,225.97,226.257 ,226.393,226.62,226.771,227.006,227.007 ,227.008,227.009,227.01,227.011,227.013 ,227.014,227.015,227.016,227.018,227.02 ,227.02,227.022,227.024,227.025,227.027 ,227.028,227.029,227.03,227.031,227.032 ,227.033,227.035,227.036,227.037, 227.038,227.039,227.04,227.041,227.042, 227.043,227.044,227.045,227.046,227.047 ,227.048,227.049,227.051,227.053, 227.055,227.057,227.059,227.061, 226.873)
ORBIT_NUMBER = 17756
ORBITAL_ECCENTRICITY = 0.577
ORBITAL_INCLINATION = 86.96
ORBITAL_SEMIMAJOR_AXIS = 8857.76
PERIAPSIS_ALTITUDE = 356.12
PERIAPSIS_ARGUMENT_ANGLE = 160.08
PERIAPSIS_TIME = 2018-01-11T03:18:02.000Z
SPACECRAFT_ORIENTATION = (0.0,-1.0,0.0)
^MEX_ORIENTATION_DESC = "MEX_ORIENTATION_DESC.TXT"
SPACECRAFT_POINTING_MODE = NADIR
^MEX_POINTING_DESC = "MEX_POINTING_DESC.TXT"
RIGHT_ASCENSION = -1e+32
DECLINATION = -1e+32
OFFSET_ANGLE = -1e+32
SPACECRAFT_SOLAR_DISTANCE = 2.42727e+08
TARGET_NAME = MARS
/* CAMERA DATA ELEMENTS */
DETECTOR_TEMPERATURE = 18.5744
FOCAL_PLANE_TEMPERATURE = 8.7872
INST_CMPRS_NAME = "DISCRETE COSINE TRANSFORMATION (DCT)"
INST_CMPRS_RATIO = 4.73701
INST_CMPRS_QUALITY = 0
INST_CMPRS_QUANTZ_TBL_ID = 0
INSTRUMENT_TEMPERATURE = 11.6418
LENS_TEMPERATURE = 9.195
MACROPIXEL_SIZE = 1
MISSING_FRAMES = 0
PIXEL_SUBSAMPLING_FLAG = N
SIGNAL_CHAIN_ID = 0
/* RADIOMETRIC DATA ELEMENTS */
BANDWIDTH = 177.0
CENTER_FILTER_WAVELENGTH = 677.5
RADIANCE_OFFSET = 1.65671
RADIANCE_SCALING_FACTOR = 0.0185625
REFLECTANCE_SCALING_FACTOR = 0.000580974
MEX:REFLECTANCE_OFFSET = 0.0518519
/* IMAGE OBJECT DEFINITIONS */
OBJECT = IMAGE
  INTERCHANGE_FORMAT = BINARY
  LINES = 26865
  LINE_SAMPLES = 7163
  SAMPLE_TYPE = UNSIGNED_INTEGER
  SAMPLE_BITS = 8
  BANDS = 1
  BAND_STORAGE_TYPE = BAND_SEQUENTIAL
  MAXIMUM = 255
  MEAN = 107.749
  MINIMUM = 1
  STANDARD_DEVIATION = 28.2972
END_OBJECT = IMAGE
/* MAP OBJECT DEFINITIONS */
OBJECT = IMAGE_MAP_PROJECTION
  ^DATA_SET_MAP_PROJECTION_CATALOG= "DSMAP.CAT"
  A_AXIS_RADIUS = 3396.0
  B_AXIS_RADIUS = 3396.0
  C_AXIS_RADIUS = 3396.0
  CENTER_LATITUDE = 0.0
  CENTER_LONGITUDE = 226.0
  COORDINATE_SYSTEM_NAME = PLANETOGRAPHIC
  COORDINATE_SYSTEM_TYPE = "BODY-FIXED ROTATING"
  EASTERNMOST_LONGITUDE = 227.061
  FIRST_STANDARD_PARALLEL = "N/A"
  LINE_FIRST_PIXEL = 1
  LINE_LAST_PIXEL = 26865
  LINE_PROJECTION_OFFSET = 168415.0
  MAP_PROJECTION_ROTATION = 0.0
  MAP_PROJECTION_TYPE = SINUSOIDAL
  MAP_RESOLUTION = 4741.71043093333
  MAP_SCALE = 0.0125
  MAXIMUM_LATITUDE = 35.516
  MINIMUM_LATITUDE = 29.8542
  POSITIVE_LONGITUDE_DIRECTION = EAST
  REFERENCE_LATITUDE = "N/A"
  REFERENCE_LONGITUDE = "N/A"
  SAMPLE_FIRST_PIXEL = 1
  SAMPLE_LAST_PIXEL = 7163
  SAMPLE_PROJECTION_OFFSET = 2878.0
  SECOND_STANDARD_PARALLEL = "N/A"
  WESTERNMOST_LONGITUDE = 225.294
END_OBJECT = IMAGE_MAP_PROJECTION
/* The JPEG2000 image data file associated with this label. */
OBJECT = COMPRESSED_FILE
  FILE_NAME = "HH756_0000_ND3.JP2"
  RECORD_TYPE = UNDEFINED
  FILE_RECORDS = UNK
  ENCODING_TYPE = "JP2"
  INTERCHANGE_FORMAT = BINARY
  UNCOMPRESSED_FILE_NAME = "HH756_0000_ND3.IMG"
  REQUIRED_STORAGE_BYTES = "192462647"
  ^DESCRIPTION = "JP2INFO.TXT"
END_OBJECT = COMPRESSED_FILE
END
