PDS_VERSION_ID = PDS3
/* FILE DATA ELEMENTS */
RECORD_TYPE = STREAM
/* POINTERS TO DATA OBJECTS */
^COMPRESSED_FILE = "HH756_0000_P13.JP2"
/* IDENTIFICATION DATA ELEMENTS */
DATA_SET_ID = "MEX-M-HRSC-5-REFDR-MAPPROJECTED-V3.0"
DATA_SET_NAME = "MARS EXPRESS HRSC MAP PROJECTED REFDR V3.0"
DETECTOR_ID = MEX_HRSC_P1
EVENT_TYPE = "MARS-LOCAL-STEREO-Vo-Te-Mw"
INSTRUMENT_HOST_ID = MEX
INSTRUMENT_HOST_NAME = "MARS EXPRESS"
INSTRUMENT_ID = HRSC
INSTRUMENT_NAME = "HIGH RESOLUTION STEREO CAMERA"
MISSION_NAME = "MARS EXPRESS"
MISSION_PHASE_NAME = ME_Phase_38
PROCESSING_LEVEL_ID = 3
PRODUCT_CREATION_TIME = 2018-09-04T13:05:27.000Z
PRODUCT_ID = "HH756_0000_P13.JP2"
RELEASE_ID = 0140
REVISION_ID = 0000
/* QUALITY DATA ELEMENTS */
DATA_QUALITY_ID = 1
DATA_QUALITY_DESC = "Data calculated based on original SPICE kernels"
/* TIME DATA ELEMENTS */
SPACECRAFT_CLOCK_START_COUNT = "1/0463720389.07340"
SPACECRAFT_CLOCK_STOP_COUNT = "1/0463720554.16848"
START_TIME = 2018-01-11T03:13:32.540Z
STOP_TIME = 2018-01-11T03:15:04.318Z
/* ORBITAL DATA ELEMENTS */
ASCENDING_NODE_LONGITUDE = 240.77
MAXIMUM_RESOLUTION = 31.8
FOOTPRINT_POINT_LATITUDE = (35.5465,35.5454,35.5444,35.543,35.54, 35.5382,35.5361,35.5338,35.5292,35.4935 ,35.3774,35.203,35.0869,34.9733,34.8024 ,34.6885,34.5743,34.4033,34.2891, 34.1179,33.947,33.8332,33.6642,33.4416, 33.3303,33.2185,33.1066,32.995,32.8278, 32.6601,32.4923,32.3243,32.1562,32.0438 ,31.9317,31.8201,31.7077,31.5391, 31.3698,31.1464,30.978,30.8646,30.7527, 30.5832,30.4695,30.3566,30.243,30.0737, 29.9605,29.8474,29.8438,29.849,29.85, 29.8505,29.8519,29.8538,29.8518,29.9665 ,30.0794,30.1928,30.3063,30.4198, 30.5895,30.7032,30.8731,31.0417,31.1542 ,31.2673,31.3803,31.4915,31.6603,31.773 ,31.8856,32.0541,32.1665,32.335,32.5033 ,32.6715,32.8395,33.0074,33.1752, 33.3427,33.4548,33.6227,33.7345,33.8483 ,33.9633,34.1356,34.2503,34.3647, 34.4789,34.5931,34.7072,34.8212,34.9924 ,35.1064,35.2227,35.3393,35.5142, 35.5465)
FOOTPRINT_POINT_LONGITUDE = (226.831,226.64,226.501,226.345,226.085 ,225.946,225.808,225.669,225.426, 225.264,225.27,225.277,225.282,225.287, 225.293,225.298,225.302,225.309,225.313 ,225.32,225.327,225.331,225.338,225.346 ,225.35,225.354,225.358,225.362,225.368 ,225.374,225.379,225.385,225.39,225.394 ,225.398,225.402,225.405,225.41,225.415 ,225.423,225.428,225.431,225.435, 225.439,225.442,225.445,225.448,225.453 ,225.456,225.459,225.64,225.838,226.064 ,226.231,226.488,226.684,226.897, 227.025,227.026,227.027,227.029,227.03, 227.032,227.033,227.035,227.037,227.039 ,227.04,227.041,227.044,227.046,227.047 ,227.048,227.05,227.052,227.054,227.056 ,227.058,227.06,227.062,227.064,227.066 ,227.067,227.069,227.07,227.072,227.073 ,227.074,227.076,227.077,227.078, 227.079,227.081,227.082,227.084,227.085 ,227.087,227.088,227.09,226.831)
ORBIT_NUMBER = 17756
ORBITAL_ECCENTRICITY = 0.577
ORBITAL_INCLINATION = 86.96
ORBITAL_SEMIMAJOR_AXIS = 8857.76
PERIAPSIS_ALTITUDE = 356.12
PERIAPSIS_ARGUMENT_ANGLE = 160.08
PERIAPSIS_TIME = 2018-01-11T03:18:02.000Z
SPACECRAFT_ORIENTATION = (0.0,-1.0,0.0)
^MEX_ORIENTATION_DESC = "MEX_ORIENTATION_DESC.TXT"
SPACECRAFT_POINTING_MODE = NADIR
^MEX_POINTING_DESC = "MEX_POINTING_DESC.TXT"
RIGHT_ASCENSION = -1e+32
DECLINATION = -1e+32
OFFSET_ANGLE = -1e+32
SPACECRAFT_SOLAR_DISTANCE = 2.42727e+08
TARGET_NAME = MARS
/* CAMERA DATA ELEMENTS */
DETECTOR_TEMPERATURE = 17.7588
FOCAL_PLANE_TEMPERATURE = 8.7872
INST_CMPRS_NAME = "DISCRETE COSINE TRANSFORMATION (DCT)"
INST_CMPRS_RATIO = 5.00093
INST_CMPRS_QUALITY = 0
INST_CMPRS_QUANTZ_TBL_ID = 0
INSTRUMENT_TEMPERATURE = 11.6418
LENS_TEMPERATURE = 9.195
MACROPIXEL_SIZE = 2
MISSING_FRAMES = 0
PIXEL_SUBSAMPLING_FLAG = N
SIGNAL_CHAIN_ID = 3
/* RADIOMETRIC DATA ELEMENTS */
BANDWIDTH = 174.0
CENTER_FILTER_WAVELENGTH = 675.0
RADIANCE_OFFSET = 1.97877
RADIANCE_SCALING_FACTOR = 0.0184456
REFLECTANCE_SCALING_FACTOR = 0.000584538
MEX:REFLECTANCE_OFFSET = 0.0627068
/* IMAGE OBJECT DEFINITIONS */
OBJECT = IMAGE
  INTERCHANGE_FORMAT = BINARY
  LINES = 13433
  LINE_SAMPLES = 3582
  SAMPLE_TYPE = UNSIGNED_INTEGER
  SAMPLE_BITS = 8
  BANDS = 1
  BAND_STORAGE_TYPE = BAND_SEQUENTIAL
  MAXIMUM = 255
  MEAN = 109.586
  MINIMUM = 1
  STANDARD_DEVIATION = 28.682
END_OBJECT = IMAGE
/* MAP OBJECT DEFINITIONS */
OBJECT = IMAGE_MAP_PROJECTION
  ^DATA_SET_MAP_PROJECTION_CATALOG= "DSMAP.CAT"
  A_AXIS_RADIUS = 3396.0
  B_AXIS_RADIUS = 3396.0
  C_AXIS_RADIUS = 3396.0
  CENTER_LATITUDE = 0.0
  CENTER_LONGITUDE = 226.0
  COORDINATE_SYSTEM_NAME = PLANETOGRAPHIC
  COORDINATE_SYSTEM_TYPE = "BODY-FIXED ROTATING"
  EASTERNMOST_LONGITUDE = 227.09
  FIRST_STANDARD_PARALLEL = "N/A"
  LINE_FIRST_PIXEL = 1
  LINE_LAST_PIXEL = 13433
  LINE_PROJECTION_OFFSET = 84207.25
  MAP_PROJECTION_ROTATION = 0.0
  MAP_PROJECTION_TYPE = SINUSOIDAL
  MAP_RESOLUTION = 2370.85521546667
  MAP_SCALE = 0.025
  MAXIMUM_LATITUDE = 35.5465
  MINIMUM_LATITUDE = 29.8438
  POSITIVE_LONGITUDE_DIRECTION = EAST
  REFERENCE_LATITUDE = "N/A"
  REFERENCE_LONGITUDE = "N/A"
  SAMPLE_FIRST_PIXEL = 1
  SAMPLE_LAST_PIXEL = 3582
  SAMPLE_PROJECTION_OFFSET = 1438.75
  SECOND_STANDARD_PARALLEL = "N/A"
  WESTERNMOST_LONGITUDE = 225.264
END_OBJECT = IMAGE_MAP_PROJECTION
/* The JPEG2000 image data file associated with this label. */
OBJECT = COMPRESSED_FILE
  FILE_NAME = "HH756_0000_P13.JP2"
  RECORD_TYPE = UNDEFINED
  FILE_RECORDS = UNK
  ENCODING_TYPE = "JP2"
  INTERCHANGE_FORMAT = BINARY
  UNCOMPRESSED_FILE_NAME = "HH756_0000_P13.IMG"
  REQUIRED_STORAGE_BYTES = "48138498"
  ^DESCRIPTION = "JP2INFO.TXT"
END_OBJECT = COMPRESSED_FILE
END
