PDS_VERSION_ID = PDS3
/* FILE DATA ELEMENTS */
RECORD_TYPE = STREAM
/* POINTERS TO DATA OBJECTS */
^COMPRESSED_FILE = "HH763_0009_ND3.JP2"
/* IDENTIFICATION DATA ELEMENTS */
DATA_SET_ID = "MEX-M-HRSC-5-REFDR-MAPPROJECTED-V3.0"
DATA_SET_NAME = "MARS EXPRESS HRSC MAP PROJECTED REFDR V3.0"
DETECTOR_ID = MEX_HRSC_NADIR
EVENT_TYPE = "MARS-REGIONAL-STEREO-Vo-Gl-Mw"
INSTRUMENT_HOST_ID = MEX
INSTRUMENT_HOST_NAME = "MARS EXPRESS"
INSTRUMENT_ID = HRSC
INSTRUMENT_NAME = "HIGH RESOLUTION STEREO CAMERA"
MISSION_NAME = "MARS EXPRESS"
MISSION_PHASE_NAME = ME_Phase_38
PROCESSING_LEVEL_ID = 3
PRODUCT_CREATION_TIME = 2018-09-04T13:05:27.000Z
PRODUCT_ID = "HH763_0009_ND3.JP2"
RELEASE_ID = 0140
REVISION_ID = 0000
/* QUALITY DATA ELEMENTS */
DATA_QUALITY_ID = 1
DATA_QUALITY_DESC = "Data calculated based on original SPICE kernels"
/* TIME DATA ELEMENTS */
SPACECRAFT_CLOCK_START_COUNT = "1/0463896894.09033"
SPACECRAFT_CLOCK_STOP_COUNT = "1/0463897094.55981"
START_TIME = 2018-01-13T04:15:35.956Z
STOP_TIME = 2018-01-13T04:17:47.962Z
/* ORBITAL DATA ELEMENTS */
ASCENDING_NODE_LONGITUDE = 240.64
MAXIMUM_RESOLUTION = 14
FOOTPRINT_POINT_LATITUDE = (22.8693,22.8707,22.8718,22.8726, 22.8731,22.8734,22.7026,22.5318,22.361, 22.1902,22.0194,21.7631,21.5923,21.4215 ,21.2506,21.0796,20.9088,20.6526, 20.4817,20.3109,20.1401,19.9692,19.713, 19.5422,19.286,19.1153,18.9445,18.7738, 18.6031,18.4324,18.2617,18.091,17.835, 17.6644,17.4938,17.3233,17.1528,16.9824 ,16.8119,16.6415,16.4711,16.3008, 16.1304,15.7899,15.4496,15.0245,14.6844 ,14.3445,14.3395,14.3375,14.3343, 14.3316,14.3293,14.6695,15.0097,15.3502 ,15.5205,15.6908,15.8612,16.0315,16.202 ,16.3724,16.5429,16.7134,16.884,17.0546 ,17.2252,17.3958,17.5664,17.7371, 17.9078,18.0785,18.2493,18.42,18.5908, 18.7616,18.9324,19.1032,19.2741,19.4449 ,19.6158,19.7867,19.9576,20.1285, 20.3848,20.5558,20.7267,20.9831,21.154, 21.3249,21.4959,21.6668,21.8377,22.0086 ,22.1795,22.3504,22.5213,22.6922, 22.8631,22.8693)
FOOTPRINT_POINT_LONGITUDE = (231.396,231.177,230.96,230.745,230.532 ,230.329,230.329,230.329,230.328, 230.328,230.328,230.327,230.326,230.326 ,230.325,230.324,230.323,230.322, 230.321,230.32,230.319,230.318,230.317, 230.316,230.314,230.313,230.312,230.311 ,230.309,230.308,230.307,230.305, 230.303,230.302,230.3,230.299,230.298, 230.297,230.295,230.294,230.292,230.291 ,230.289,230.286,230.284,230.281, 230.277,230.273,230.465,230.737,231.106 ,231.386,231.609,231.612,231.615, 231.618,231.619,231.621,231.622,231.624 ,231.626,231.627,231.629,231.631, 231.633,231.635,231.637,231.638,231.64, 231.642,231.644,231.646,231.647,231.648 ,231.649,231.65,231.652,231.654,231.656 ,231.659,231.661,231.664,231.666, 231.669,231.673,231.676,231.679,231.683 ,231.687,231.689,231.692,231.695, 231.698,231.701,231.704,231.707,231.709 ,231.712,231.715,231.396)
ORBIT_NUMBER = 17763
ORBITAL_ECCENTRICITY = 0.577
ORBITAL_INCLINATION = 86.96
ORBITAL_SEMIMAJOR_AXIS = 8856.88
PERIAPSIS_ALTITUDE = 356.71
PERIAPSIS_ARGUMENT_ANGLE = 158.87
PERIAPSIS_TIME = 2018-01-13T04:16:03.000Z
SPACECRAFT_ORIENTATION = (0.0,-1.0,0.0)
^MEX_ORIENTATION_DESC = "MEX_ORIENTATION_DESC.TXT"
SPACECRAFT_POINTING_MODE = ACROSSTRACK
^MEX_POINTING_DESC = "MEX_POINTING_DESC.TXT"
RIGHT_ASCENSION = -1e+32
DECLINATION = -1e+32
OFFSET_ANGLE = 0.8
SPACECRAFT_SOLAR_DISTANCE = 2.42456e+08
TARGET_NAME = MARS
/* CAMERA DATA ELEMENTS */
DETECTOR_TEMPERATURE = 18.5744
FOCAL_PLANE_TEMPERATURE = 8.5833
INST_CMPRS_NAME = "DISCRETE COSINE TRANSFORMATION (DCT)"
INST_CMPRS_RATIO = 5.93485
INST_CMPRS_QUALITY = 0
INST_CMPRS_QUANTZ_TBL_ID = 0
INSTRUMENT_TEMPERATURE = 11.8457
LENS_TEMPERATURE = 9.3989
MACROPIXEL_SIZE = 1
MISSING_FRAMES = 0
PIXEL_SUBSAMPLING_FLAG = N
SIGNAL_CHAIN_ID = 0
/* RADIOMETRIC DATA ELEMENTS */
BANDWIDTH = 177.0
CENTER_FILTER_WAVELENGTH = 677.5
RADIANCE_OFFSET = 1.42742
RADIANCE_SCALING_FACTOR = 0.0106748
REFLECTANCE_SCALING_FACTOR = 0.000333354
MEX:REFLECTANCE_OFFSET = 0.044576
/* IMAGE OBJECT DEFINITIONS */
OBJECT = IMAGE
  INTERCHANGE_FORMAT = BINARY
  LINES = 40514
  LINE_SAMPLES = 6854
  SAMPLE_TYPE = UNSIGNED_INTEGER
  SAMPLE_BITS = 8
  BANDS = 1
  BAND_STORAGE_TYPE = BAND_SEQUENTIAL
  MAXIMUM = 255
  MEAN = 103.112
  MINIMUM = 1
  STANDARD_DEVIATION = 23.5544
END_OBJECT = IMAGE
/* MAP OBJECT DEFINITIONS */
OBJECT = IMAGE_MAP_PROJECTION
  ^DATA_SET_MAP_PROJECTION_CATALOG= "DSMAP.CAT"
  A_AXIS_RADIUS = 3396.0
  B_AXIS_RADIUS = 3396.0
  C_AXIS_RADIUS = 3396.0
  CENTER_LATITUDE = 0.0
  CENTER_LONGITUDE = 231.0
  COORDINATE_SYSTEM_NAME = PLANETOGRAPHIC
  COORDINATE_SYSTEM_TYPE = "BODY-FIXED ROTATING"
  EASTERNMOST_LONGITUDE = 231.715
  FIRST_STANDARD_PARALLEL = "N/A"
  LINE_FIRST_PIXEL = 1
  LINE_LAST_PIXEL = 40514
  LINE_PROJECTION_OFFSET = 108458.0
  MAP_PROJECTION_ROTATION = 0.0
  MAP_PROJECTION_TYPE = SINUSOIDAL
  MAP_RESOLUTION = 4741.71043093333
  MAP_SCALE = 0.0125
  MAXIMUM_LATITUDE = 22.8734
  MINIMUM_LATITUDE = 14.3293
  POSITIVE_LONGITUDE_DIRECTION = EAST
  REFERENCE_LATITUDE = "N/A"
  REFERENCE_LONGITUDE = "N/A"
  SAMPLE_FIRST_PIXEL = 1
  SAMPLE_LAST_PIXEL = 6854
  SAMPLE_PROJECTION_OFFSET = 3340.0
  SECOND_STANDARD_PARALLEL = "N/A"
  WESTERNMOST_LONGITUDE = 230.273
END_OBJECT = IMAGE_MAP_PROJECTION
/* The JPEG2000 image data file associated with this label. */
OBJECT = COMPRESSED_FILE
  FILE_NAME = "HH763_0009_ND3.JP2"
  RECORD_TYPE = UNDEFINED
  FILE_RECORDS = UNK
  ENCODING_TYPE = "JP2"
  INTERCHANGE_FORMAT = BINARY
  UNCOMPRESSED_FILE_NAME = "HH763_0009_ND3.IMG"
  REQUIRED_STORAGE_BYTES = "277717226"
  ^DESCRIPTION = "JP2INFO.TXT"
END_OBJECT = COMPRESSED_FILE
END
